Workbook

Sheet Antriebsgeräusch
C11: vorgegeben
C12: eingebbar | S12: Hess | T12: Hess | Y12: Tram | Z12: Tram | AA12: Tram
C13: berechnet ungeprüft | M13: Man A40 | N13: Neoplan | O13: Merce- | P13: MAN | Q13: Volvo | R13: Swiss | S13: ligh Tram | T13: ligh Tram | U13: Batterie- | V13: Batterie- | W13: Tram | X13: Bus
C14: Berechnung mit Rechenbeispielen geprüft | L14: Citaro | M14: Lions | N14: Centro- | O14: des | P14: A 35 | Q14: 7900H | R14: Trolley | S14: 3 Longo | T14: 3 Longo 2 | U14: bus | V14: bus | W14: Zürich | X14: Caetano
C15: fixiert, aber eigentlich ursprüngilch eingebar | L15: O 350 | M15: City | N15: liner | O15: O 530 | P15: Midibus | R15: 3 | S15: Doppel- | T15: Doppel- | U15: SOR EBN 8 | V15: Volvo | W15: Cobra
A16: vref | B16: 70 | C16: km/h | L16: Gelenk- | M16: Gelenk- | N16: Gelenk- | O16: Stand- | P16: Stand- | R16: Gelenk- | S16: Gelenk- | T16: Gelenk- | V16: 7900 EH
L17: bus | M17: bus | N17: bus | O17: ardbus | P17: ardbus | Q17: Hybrid | R17: trolley | S17: trolley | T17: trolley
A18: v(c) | B18: cat 1 | C18: cat 2 | D18: cat 3 | E18: cat 4 | F18: cat 5 | G18: cat 6 | H18: cat 7 | I18: cat 8 | J18: cat 9 | K18: cat 10 | L18: Diesel | M18: Diesel | N18: Diesel | O18: Diesel | P18: Diesel | R18: Elektro | S18: Elektro | T18: Elektro | U18: Elektro | V18: Elektro | W18: Tram
A19: aufwärts [km/h] | B19: =Leq!C26 -> 50 | C19: =Leq!D26 -> 30 | D19: =Leq!E26 -> 39 | E19: =Leq!F26 -> 50 | F19: =Leq!G26 -> 50 | G19: =Leq!H26 -> 50 | H19: =Leq!I26 -> 50 | I19: =Leq!J26 -> 39 | ... AA19: =Leq!AB26 -> 50
A20: abwärts [km/h] | B20: =Leq!C26 -> 50 | C20: =Leq!D26 -> 30 | D20: =Leq!E26 -> 39 | E20: =Leq!F26 -> 50 | F20: =Leq!G26 -> 50 | G20: =Leq!H26 -> 50 | H20: =Leq!I26 -> 50 | I20: =Leq!J26 -> 39 | ... AA20: =Leq!AB26 -> 50
A23: Beschleunigungszuschlag
A24: ∆Lw,P,acc ( c) | B24: cat 1 | C24: cat 2 | D24: cat 3 | E24: cat 4 | F24: cat 5 | G24: cat 6 | H24: cat 7 | I24: cat 8 | J24: cat 9 | K24: cat 10
A25: aufwärts [dB] | B25: 0 | C25: 0 | D25: 0 | E25: 0 | F25: 0 | G25: 0 | H25: 0 | I25: 0 | J25: 0 | K25: 0 | L25: 0 | M25: 0 | N25: 0 | O25: 0 | P25: 0 | Q25: 0 | R25: 0 | S25: 0 | T25: 0 | U25: 0 | V25: 0 | W25: 0 | X25: 0 | Y25: 0 | Z25: 0 | AA25: 0
A26: abwärts [dB] | B26: 0 | C26: 0 | D26: 0 | E26: 0 | F26: 0 | G26: 0 | H26: 0 | I26: 0 | J26: 0 | K26: 0 | L26: 0 | M26: 0 | N26: 0 | O26: 0 | P26: 0 | Q26: 0 | R26: 0 | S26: 0 | T26: 0 | U26: 0 | V26: 0 | W26: 0 | X26: 0 | Y26: 0 | Z26: 0 | AA26: 0
A29: Steigungszuschlag
A30: ∆Lw,P,grad ( c) | B30: cat 1 | C30: cat 2 | D30: cat 3 | E30: cat 4 | F30: cat 5 | G30: cat 6 | H30: cat 7 | I30: cat 8 | J30: cat 9 | K30: cat 10
A31: aufwärts [dB] | B31: =IF(B34>0,(MIN(12,B34)/0.8)*(B19/100),IF(B34<-4,(((MIN(12,-B34)-4)/0.5)*((B19-10)/100)),0)) -> 0 | C31: 0 | D31: =IF(D34>2,(((MIN(12,D34)-2)/1.5)*(D19/100)),IF(D34<-6,((MIN(12,-D34)-6)/1),0)) -> 0 | E31: =IF(E34>2,(((MIN(12,E34)-2)/1.5)*(E19/100)),IF(E34<-6,((MIN(12,-E34)-6)/1),0)) -> 0 | F31: =IF(F34>2,(((MIN(12,F34)-2)/1.5)*(F19/100)),IF(F34<-6,((MIN(12,-F34)-6)/1),0)) -> 0 | G31: =IF(G34>2,(((MIN(12,G34)-2)/1.5)*(G19/100)),IF(G34<-6,((MIN(12,-G34)-6)/1),0)) -> 0 | H31: =IF(H34>2,(((MIN(12,H34)-2)/1.5)*(H19/100)),IF(H34<-6,((MIN(12,-H34)-6)/1),0)) -> 0 | I31: =IF(I34>0,(MIN(12,I34)/0.8)*(I19/100),IF(I34<-4,(((MIN(12,-I34)-4)/0.5)*((I19-10)/100)),0)) -> 0 | J31: =IF(J34>0,(MIN(12,J34)/0.8)*(J19/100),IF(J34<-4,(((MIN(12,-J34)-4)/0.5)*((J19-10)/100)),0)) -> 0 | K31: =IF(K34>0,(MIN(12,K34)/0.8)*(K19/100),IF(K34<-4,(((MIN(12,-K34)-4)/0.5)*((K19-10)/100)),0)) -> 0 | L31: =IF(L34>0,(MIN(12,L34)/0.8)*(L19/100),IF(L34<-4,(((MIN(12,-L34)-4)/0.5)*((L19-10)/100)),0)) -> 0 | M31: =IF(M34>0,(MIN(12,M34)/0.8)*(M19/100),IF(M34<-4,(((MIN(12,-M34)-4)/0.5)*((M19-10)/100)),0)) -> 0 | N31: =IF(N34>0,(MIN(12,N34)/0.8)*(N19/100),IF(N34<-4,(((MIN(12,-N34)-4)/0.5)*((N19-10)/100)),0)) -> 0 | O31: =IF(O34>0,(MIN(12,O34)/0.8)*(O19/100),IF(O34<-4,(((MIN(12,-O34)-4)/0.5)*((O19-10)/100)),0)) -> 0 | P31: =IF(P34>0,(MIN(12,P34)/0.8)*(P19/100),IF(P34<-4,(((MIN(12,-P34)-4)/0.5)*((P19-10)/100)),0)) -> 0 | ... AA31: =IF(AA34>0,(MIN(12,AA34)/0.8)*(AA19/100),IF(AA34<-4,(((MIN(12,-AA34)-4)/0.5)*((AA19-10)/100)),0)) -> 0
A32: abwärts [dB] | B32: =IF(B35>0,(MIN(12,B35)/0.8)*(B20/100),IF(B35<-4,(((MIN(12,-B35)-4)/0.5)*((B20-10)/100)),0)) -> 0.29535937 | C32: 0 | D32: =IF(D35>2,(((MIN(12,D35)-2)/1.5)*(D20/100)),IF(D35<-6,((MIN(12,-D35)-6)/1),0)) -> 0 | E32: =IF(E35>2,(((MIN(12,E35)-2)/1.5)*(E20/100)),IF(E35<-6,((MIN(12,-E35)-6)/1),0)) -> 0 | F32: =IF(F35>2,(((MIN(12,F35)-2)/1.5)*(F20/100)),IF(F35<-6,((MIN(12,-F35)-6)/1),0)) -> 0 | G32: =IF(G35>2,(((MIN(12,G35)-2)/1.5)*(G20/100)),IF(G35<-6,((MIN(12,-G35)-6)/1),0)) -> 0 | H32: =IF(H35>2,(((MIN(12,H35)-2)/1.5)*(H20/100)),IF(H35<-6,((MIN(12,-H35)-6)/1),0)) -> 0 | I32: =IF(I35>0,(MIN(12,I35)/0.8)*(I20/100),IF(I35<-4,(((MIN(12,-I35)-4)/0.5)*((I20-10)/100)),0)) -> 0.23038031 | J32: =IF(J35>0,(MIN(12,J35)/0.8)*(J20/100),IF(J35<-4,(((MIN(12,-J35)-4)/0.5)*((J20-10)/100)),0)) -> 0.29535937 | K32: =IF(K35>0,(MIN(12,K35)/0.8)*(K20/100),IF(K35<-4,(((MIN(12,-K35)-4)/0.5)*((K20-10)/100)),0)) -> 0.29535937 | L32: =IF(L35>0,(MIN(12,L35)/0.8)*(L20/100),IF(L35<-4,(((MIN(12,-L35)-4)/0.5)*((L20-10)/100)),0)) -> 0.29535937 | M32: =IF(M35>0,(MIN(12,M35)/0.8)*(M20/100),IF(M35<-4,(((MIN(12,-M35)-4)/0.5)*((M20-10)/100)),0)) -> 0.29535937 | N32: =IF(N35>0,(MIN(12,N35)/0.8)*(N20/100),IF(N35<-4,(((MIN(12,-N35)-4)/0.5)*((N20-10)/100)),0)) -> 0.29535937 | O32: =IF(O35>0,(MIN(12,O35)/0.8)*(O20/100),IF(O35<-4,(((MIN(12,-O35)-4)/0.5)*((O20-10)/100)),0)) -> 0.29535937 | P32: =IF(P35>0,(MIN(12,P35)/0.8)*(P20/100),IF(P35<-4,(((MIN(12,-P35)-4)/0.5)*((P20-10)/100)),0)) -> 0.29535937 | ... AA32: =IF(AA35>0,(MIN(12,AA35)/0.8)*(AA20/100),IF(AA35<-4,(((MIN(12,-AA35)-4)/0.5)*((AA20-10)/100)),0)) -> 0.29535937
AU33: Hess | AV33: Hess | BA33: Tram | BB33: Tram | BC33: Tram
A34: Steigung aufwärts (pos. Vorzeichen) | B34: =Emi_T50!I2 -> -0.472575 | C34: % | D34: =$B34 -> -0.472575 | E34: =$B34 -> -0.472575 | F34: =$B34 -> -0.472575 | G34: =$B34 -> -0.472575 | H34: =$B34 -> -0.472575 | I34: =$B34 -> -0.472575 | J34: =$B34 -> -0.472575 | K34: =$B34 -> -0.472575 | ... AA34: =$B34 -> -0.472575 | AO34: Man A40 | AP34: Neoplan | AQ34: Merce- | AR34: MAN | AS34: Volvo | AT34: Swiss | AU34: ligh Tram | AV34: ligh Tram | AW34: Batterie- | AX34: Batterie- | AY34: Tram | AZ34: Bus
A35: Steigung abwärts (neg. Vorzeichen) | B35: =B34*(-1) -> 0.472575 | C35: % | D35: =$B35 -> 0.472575 | E35: =$B35 -> 0.472575 | F35: =$B35 -> 0.472575 | G35: =$B35 -> 0.472575 | H35: =$B35 -> 0.472575 | I35: =$B35 -> 0.472575 | J35: =$B35 -> 0.472575 | K35: =$B35 -> 0.472575 | ... AA35: =$B35 -> 0.472575 | AN35: Citaro | AO35: Lions | AP35: Centro- | AQ35: des | AR35: A 35 | AS35: 7900H | AT35: Trolley | AU35: 3 Longo | AV35: 3 Longo 2 | AW35: bus | AX35: bus | AY35: Zürich | AZ35: Caetano
AN36: O 350 | AO36: City | AP36: liner | AQ36: O 530 | AR36: Midibus | AT36: 3 | AU36: Doppel- | AV36: Doppel- | AW36: SOR EBN 8 | AX36: Volvo | AY36: Cobra
AN37: Gelenk- | AO37: Gelenk- | AP37: Gelenk- | AQ37: Stand- | AR37: Stand- | AT37: Gelenk- | AU37: Gelenk- | AV37: Gelenk- | AX37: 7900 EH
A38: Konstanten | AN38: bus | AO38: bus | AP38: bus | AQ38: ardbus | AR38: ardbus | AS38: Hybrid | AT38: trolley | AU38: trolley | AV38: trolley
A39: AP | B39: cat 1 | C39: cat 2 | D39: cat 3 | E39: cat 4 | F39: cat 5 | G39: cat 6 | H39: cat 7 | I39: cat 8 | J39: cat 9 | K39: cat 10 | AC39: BP | AD39: cat 1 | AE39: cat 2 | AF39: cat 3 | AG39: cat 4 | AH39: cat 5 | AI39: cat 6 | AJ39: cat 7 | AK39: cat 8 | AL39: cat 9 | AM39: cat 10 | AN39: Diesel | AO39: Diesel | AP39: Diesel | AQ39: Diesel | AR39: Diesel | AT39: Elektro | AU39: Elektro | AV39: Elektro | AW39: Elektro | AX39: Elektro | AY39: Tram
A40: 50 | B40: 99.5 | C40: 99.1 | D40: 91 | E40: 91 | F40: 95.5 | G40: 92 | H40: 92 | I40: 100.6 | J40: 101.2 | K40: 99.7 | L40: 94.3 | M40: 99.6 | N40: 102.5 | O40: 94.3 | P40: 98.8 | Q40: 101.3 | R40: 60 | S40: 60 | T40: 60 | U40: 60 | V40: 89.9 | W40: 89.2 | X40: 86.1 | AC40: 50 | AD40: 0 | AE40: =C40/100 -> 0.991 | AF40: 0 | AG40: 0 | AH40: 0 | AI40: 0 | AJ40: 0 | AK40: =I40/100 -> 1.006 | AL40: =J40/100 -> 1.012 | AM40: =K40/100 -> 0.997 | AN40: 1 | AO40: 1 | AP40: 1 | AQ40: 1 | AR40: 8.8 | AS40: 1.8 | AT40: 9.6 | AU40: 9.6 | AV40: 9.6 | AW40: 9.9 | AX40: 10 | AY40: 1 | AZ40: 1
A41: 63 | B41: 98 | C41: 100.6 | D41: 87.5 | E41: 87.5 | F41: 96.5 | G41: 92 | H41: 92 | I41: 102.2 | J41: 106.6 | K41: 106.2 | L41: 83.9 | M41: 103.3 | N41: 97.3 | O41: 83.9 | P41: 93.6 | Q41: 81.7 | R41: 60 | S41: 60 | T41: 86.1 | U41: 80.1 | V41: 90.6 | W41: 95.6 | X41: 60 | AC41: 63 | AD41: 0 | AE41: 1.6 | AF41: 0 | AG41: 0 | AH41: 0 | AI41: 0 | AJ41: 0 | AK41: =I41/100 -> 1.022 | AL41: 1 | AM41: 1 | AN41: 9.3 | AO41: 9.9 | AP41: 9.9 | AQ41: 9.9 | AR41: 9.9 | AS41: 7.3 | AT41: 1 | AU41: 9.6 | AV41: 1 | AW41: 1 | AX41: 10 | AY41: 13.6 | AZ41: 9.9
A42: 80 | B42: 96 | C42: 102.2 | D42: 86.5 | E42: 86.5 | F42: 89.5 | G42: 92 | H42: 92 | I42: 99.7 | J42: 102.7 | K42: 101.2 | L42: 89.1 | M42: 89.1 | N42: 79.4 | O42: 88.4 | P42: 98.1 | Q42: 90.4 | R42: 79.6 | S42: 79.6 | T42: 92.6 | U42: 77.9 | V42: 86.9 | W42: 100.3 | X42: 60 | AC42: 80 | AD42: 0 | AE42: 3.5 | AF42: 0 | AG42: 0 | AH42: 0 | AI42: 0 | AJ42: 0 | AK42: =I42/100 -> 0.997 | AL42: =J42/100 -> 1.027 | AM42: =K42/100 -> 1.012 | AN42: 3 | AO42: 1 | AP42: 1 | AQ42: 1 | AR42: 1 | AS42: 1.8 | AT42: 9.6 | AU42: 2.2 | AV42: 1.8 | AW42: 9.9 | AX42: 1 | AY42: 19.9 | AZ42: 9.9
A43: 100 | B43: 94.5 | C43: 102.2 | D43: 84.5 | E43: 84.5 | F43: 86 | G43: 91.7 | H43: 91.7 | I43: 97.6 | J43: 97.5 | K43: 96.2 | L43: 91.3 | M43: 90.6 | N43: 98.1 | O43: 90.6 | P43: 84.6 | Q43: 88.3 | R43: 60 | S43: 60 | T43: 60 | U43: 60 | V43: 83.9 | W43: 97.7 | X43: 77.2 | AC43: 100 | AD43: 3 | AE43: 3.5 | AF43: 7.2 | AG43: 7.2 | AH43: 4.7 | AI43: 4.7 | AJ43: 4.7 | AK43: 3 | AL43: 3 | AM43: 3 | AN43: 1 | AO43: 1 | AP43: 1 | AQ43: 1.3 | AR43: 1.9 | AS43: 2.2 | AT43: 9.6 | AU43: 9.6 | AV43: 2.2 | AW43: 8.4 | AX43: 2 | AY43: 10.6 | AZ43: 1
A44: 125 | B44: 99 | C44: 103.8 | D44: 83 | E44: 83 | F44: 85 | G44: 91.7 | H44: 91.7 | I44: 97 | J44: 99.2 | K44: 98 | L44: 94.3 | M44: 88.4 | N44: 93.6 | O44: 92.8 | P44: 98.8 | Q44: 90.4 | R44: 83.9 | S44: 86.1 | T44: 60 | U44: 60 | V44: 87.6 | W44: 102.3 | X44: 67.5 | AC44: 125 | AD44: 3 | AE44: 3.5 | AF44: 7.2 | AG44: 7.2 | AH44: 4.7 | AI44: 4.7 | AJ44: 4.7 | AK44: 3 | AL44: 3 | AM44: 3 | AN44: 9.9 | AO44: 1 | AP44: 9.9 | AQ44: 1.7 | AR44: 1 | AS44: 6.9 | AT44: 9.6 | AU44: 1 | AV44: 9.6 | AW44: 8.4 | AX44: 1.5 | AY44: 17.4 | AZ44: 1
A45: 160 | B45: 90 | C45: 100.6 | D45: 83.5 | E45: 83.5 | F45: 86 | G45: 91.7 | H45: 91.7 | I45: 95.9 | J45: 95.7 | K45: 95.7 | L45: 94.3 | M45: 86.9 | N45: 86.1 | O45: 89.9 | P45: 95.8 | Q45: 83.9 | R45: 88.3 | S45: 88.3 | T45: 88.3 | U45: 80.1 | V45: 84.6 | W45: 102.1 | X45: 71.2 | AC45: 160 | AD45: 3 | AE45: 7.8 | AF45: 7.2 | AG45: 7.2 | AH45: 4.7 | AI45: 4.7 | AJ45: 4.7 | AK45: 3 | AL45: 3 | AM45: 3 | AN45: 7.9 | AO45: 1 | AP45: 1 | AQ45: 1 | AR45: 1.3 | AS45: 3 | AT45: 1.8 | AU45: 1.8 | AV45: 1.8 | AW45: 5.3 | AX45: 1 | AY45: 19.7 | AZ45: 1
A46: 200 | B46: 86.5 | C46: 95.9 | D46: 82.5 | E46: 82.5 | F46: 85 | G46: 91 | H46: 91 | I46: 93.9 | J46: 93.7 | K46: 91.4 | L46: 89.9 | M46: 91.3 | N46: 91.3 | O46: 92.8 | P46: 83.9 | Q46: 83.9 | R46: 90.4 | S46: 92.6 | T46: 92.6 | U46: 79.4 | V46: 85.4 | W46: 97.8 | X46: 81.6 | AC46: 200 | AD46: 4.6 | AE46: 9.7 | AF46: 7.7 | AG46: 7.7 | AH46: 6.4 | AI46: 6.4 | AJ46: 6.4 | AK46: 4.6 | AL46: 4.6 | AM46: 4.6 | AN46: 1 | AO46: 1 | AP46: 9.9 | AQ46: 1 | AR46: 1.9 | AS46: 1.4 | AT46: 1 | AU46: 1 | AV46: 1 | AW46: 9.9 | AX46: 1 | AY46: 16.2 | AZ46: 1
A47: 250 | B47: 95.5 | C47: 89.7 | D47: 83 | E47: 83 | F47: 85 | G47: 91 | H47: 91 | I47: 96 | J47: 96 | K47: 93.8 | L47: 89.9 | M47: 88.4 | N47: 89.9 | O47: 92.8 | P47: 95.1 | Q47: 83.9 | R47: 92.6 | S47: 92.6 | T47: 90.4 | U47: 82.4 | V47: 81.6 | W47: 95.2 | X47: 75.7 | AC47: 250 | AD47: 4.6 | AE47: 9 | AF47: 7.7 | AG47: 7.7 | AH47: 6.4 | AI47: 6.4 | AJ47: 6.4 | AK47: 4.6 | AL47: 4.6 | AM47: 4.6 | AN47: 9.5 | AO47: 1 | AP47: 9.9 | AQ47: 1 | AR47: 2.3 | AS47: 6.1 | AT47: 1.4 | AU47: 1 | AV47: 8 | AW47: 1.3 | AX47: 1.3 | AY47: 15.9 | AZ47: 4.1
A48: 315 | B48: 95 | C48: 85 | D48: 82.5 | E48: 82.5 | F48: 85 | G48: 91 | H48: 91 | I48: 97.6 | J48: 97.6 | K48: 96.5 | L48: 94.3 | M48: 92.1 | N48: 85.4 | O48: 89.1 | P48: 92.8 | Q48: 86.1 | R48: 97 | S48: 60 | T48: 60 | U48: 81.6 | V48: 83.1 | W48: 96.5 | X48: 60 | AC48: 315 | AD48: 4.6 | AE48: 9 | AF48: 7.7 | AG48: 7.7 | AH48: 6.4 | AI48: 6.4 | AJ48: 6.4 | AK48: 4.6 | AL48: 4.6 | AM48: 4.6 | AN48: 9.9 | AO48: 9.9 | AP48: 9.9 | AQ48: 9.9 | AR48: 9.9 | AS48: 1 | AT48: 8.8 | AU48: 9.6 | AV48: 9.6 | AW48: 1.3 | AX48: 1 | AY48: 20.8 | AZ48: 9.9
A49: 400 | B49: 96.5 | C49: 86.6 | D49: 81 | E49: 81 | F49: 85 | G49: 91 | H49: 91 | I49: 96 | J49: 96 | K49: 97.4 | L49: 95.1 | M49: 96.6 | N49: 88.4 | O49: 90.6 | P49: 88.4 | Q49: 88.3 | R49: 64.3 | S49: 60 | T49: 88.3 | U49: 60 | V49: 82.4 | W49: 100.9 | X49: 80.1 | AC49: 400 | AD49: 5 | AE49: 9 | AF49: 8 | AG49: 8 | AH49: 6.5 | AI49: 6.5 | AJ49: 6.5 | AK49: 5 | AL49: 5 | AM49: 5 | AN49: 1.3 | AO49: 9.9 | AP49: 1.4 | AQ49: 9.9 | AR49: 9.9 | AS49: 1 | AT49: 2.6 | AU49: 9.6 | AV49: 9.6 | AW49: 9.9 | AX49: 1 | AY49: 21.4 | AZ49: 1.4
A50: 500 | B50: 92 | C50: 86.6 | D50: 81 | E50: 81 | F50: 83.5 | G50: 91 | H50: 91 | I50: 98 | J50: 98 | K50: 99.1 | L50: 80.9 | M50: 91.3 | N50: 88.4 | O50: 92.8 | P50: 88.4 | Q50: 60 | R50: 60 | S50: 60 | T50: 90.4 | U50: 60 | V50: 81.6 | W50: 102.6 | X50: 60 | AC50: 500 | AD50: 5 | AE50: 7.8 | AF50: 8 | AG50: 8 | AH50: 6.5 | AI50: 6.5 | AJ50: 6.5 | AK50: 5 | AL50: 5 | AM50: 5 | AN50: 2.9 | AO50: 9.9 | AP50: 9.9 | AQ50: 9.9 | AR50: 9.9 | AS50: 9.6 | AT50: 9.6 | AU50: 9.6 | AV50: 9.6 | AW50: 8.4 | AX50: 5.9 | AY50: 22.5 | AZ50: 9.9
A51: 630 | B51: 91 | C51: 88.1 | D51: 83.5 | E51: 83.5 | F51: 82.5 | G51: 91 | H51: 91 | I51: 97.4 | J51: 97.4 | K51: 96.2 | L51: 90.6 | M51: 90.6 | N51: 91.3 | O51: 86.9 | P51: 89.1 | Q51: 60 | R51: 60 | S51: 77.4 | T51: 75.2 | U51: 78.7 | V51: 77 | W51: 104.6 | X51: 60 | AC51: 630 | AD51: 5 | AE51: 8.3 | AF51: 8 | AG51: 8 | AH51: 6.5 | AI51: 6.5 | AJ51: 6.5 | AK51: 5 | AL51: 5 | AM51: 5 | AN51: 9.9 | AO51: 9.9 | AP51: 9.9 | AQ51: 9.9 | AR51: 9.9 | AS51: 9.6 | AT51: 9.6 | AU51: 1 | AV51: 9.6 | AW51: 1 | AX51: 10 | AY51: 26.7 | AZ51: 9.9
A52: 800 | B52: 92 | C52: 88.1 | D52: 82.5 | E52: 82.5 | F52: 89 | G52: 93.8 | H52: 93.8 | I52: 95.6 | J52: 95.6 | K52: 95.9 | L52: 82.4 | M52: 82.4 | N52: 87.6 | O52: 86.1 | P52: 84.6 | Q52: 79.6 | R52: 60 | S52: 83.9 | T52: 90.4 | U52: 60 | V52: 74.9 | W52: 106.7 | X52: 60 | AC52: 800 | AD52: 5 | AE52: 9.7 | AF52: 8 | AG52: 8 | AH52: 6.5 | AI52: 6.5 | AJ52: 6.5 | AK52: 5 | AL52: 5 | AM52: 5 | AN52: 1 | AO52: 1 | AP52: 2.5 | AQ52: 1 | AR52: 1 | AS52: 1 | AT52: 9.6 | AU52: 3.3 | AV52: 9.6 | AW52: 9.9 | AX52: 1 | AY52: 29.6 | AZ52: 9.9
A53: 1000 | B53: 93.5 | C53: 85 | D53: 79 | E53: 79 | F53: 85 | G53: 93.8 | H53: 93.8 | I53: 89.1 | J53: 89.1 | K53: 92 | L53: 87.6 | M53: 89.9 | N53: 90.6 | O53: 91.3 | P53: 87.6 | Q53: 83.9 | R53: 60 | S53: 79.6 | T53: 90.4 | U53: 60 | V53: 75.7 | W53: 104.9 | X53: 78.7 | AC53: 1000 | AD53: 5 | AE53: 9.7 | AF53: 8 | AG53: 8 | AH53: 6.5 | AI53: 6.5 | AJ53: 6.5 | AK53: 5 | AL53: 5 | AM53: 5 | AN53: 1 | AO53: 9.9 | AP53: 9.9 | AQ53: 1 | AR53: 9.9 | AS53: 1 | AT53: 9.6 | AU53: 1 | AV53: 9.6 | AW53: 9.9 | AX53: 1 | AY53: 30.5 | AZ53: 1.1
A54: 1250 | B54: 87.5 | C54: 85 | D54: 74 | E54: 74 | F54: 80.5 | G54: 93.8 | H54: 93.8 | I54: 86 | J54: 86 | K54: 90 | L54: 95.8 | M54: 86.9 | N54: 88.4 | O54: 93.6 | P54: 89.9 | Q54: 79.6 | R54: 92.6 | S54: 73 | T54: 92.6 | U54: 60 | V54: 80.1 | W54: 107.2 | X54: 73.4 | AC54: 1250 | AD54: 5 | AE54: 9.4 | AF54: 8 | AG54: 8 | AH54: 6.5 | AI54: 6.5 | AJ54: 6.5 | AK54: 5 | AL54: 5 | AM54: 5 | AN54: 9.9 | AO54: 9.9 | AP54: 6.9 | AQ54: 9.9 | AR54: 9.9 | AS54: 2.2 | AT54: 8.8 | AU54: 9.6 | AV54: 7.7 | AW54: 8.4 | AX54: 6.1 | AY54: 29 | AZ54: 9.9
... A60: 5000 | B60: 79.5 | C60: 83.4 | D60: 66.5 | E60: 66.5 | F60: 77 | G60: 84 | H60: 84 | I60: 83.4 | J60: 83.4 | K60: 77.9 | L60: 79.4 | M60: 77.9 | N60: 82.4 | O60: 82.4 | P60: 81.6 | Q60: 77.4 | R60: 73 | S60: 77.4 | T60: 81.7 | U60: 60 | V60: 72.7 | W60: 96.1 | X60: 66.7 | AC60: 5000 | AD60: 5 | AE60: 8.3 | AF60: 8 | AG60: 8 | AH60: 6.5 | AI60: 6.5 | AJ60: 6.5 | AK60: 5 | AL60: 5 | AM60: 5 | AN60: 4.4 | AO60: 9.9 | AP60: 7.9 | AQ60: 6.2 | AR60: 9.1 | AS60: 3.7 | AT60: 2.6 | AU60: 3.3 | AV60: 9.6 | AW60: 9.9 | AX60: 1.4 | AY60: 22.4 | AZ60: 9.5
A61: 6300 | B61: 77 | C61: 81.9 | D61: 64.5 | E61: 64.5 | F61: 73.5 | G61: 77.9 | H61: 77.9 | I61: 81.5 | J61: 81.5 | K61: 67.1 | L61: 81.6 | M61: 78.7 | N61: 83.9 | O61: 77.9 | P61: 78.7 | Q61: 73 | R61: 70.9 | S61: 79.6 | T61: 73 | U61: 60 | V61: 69 | W61: 98.2 | X61: 61.5 | AC61: 6300 | AD61: 5 | AE61: 9.7 | AF61: 8 | AG61: 8 | AH61: 6.5 | AI61: 6.5 | AJ61: 6.5 | AK61: 5 | AL61: 5 | AM61: 5 | AN61: 6.5 | AO61: 9.7 | AP61: 9.6 | AQ61: 2.9 | AR61: 9.2 | AS61: 3 | AT61: 3.3 | AU61: 8.8 | AV61: 1 | AW61: 9.9 | AX61: 1 | AY61: 36.6 | AZ61: 1.4 | BQ61: Hess | BR61: Hess | BW61: Tram | BX61: Tram | BY61: Tram
A62: 8000 | B62: 76.5 | C62: 80.3 | D62: 60.5 | E62: 60.5 | F62: 70 | G62: 77.9 | H62: 77.9 | I62: 79.4 | J62: 79.4 | K62: 60 | L62: 81.6 | M62: 71.2 | N62: 77.9 | O62: 74.2 | P62: 74.2 | Q62: 70.9 | R62: 60 | S62: 73 | T62: 75.2 | U62: 60 | V62: 68.2 | W62: 95.2 | X62: 60 | AC62: 8000 | AD62: 5 | AE62: 9.7 | AF62: 8 | AG62: 8 | AH62: 6.5 | AI62: 6.5 | AJ62: 6.5 | AK62: 5 | AL62: 5 | AM62: 5 | AN62: 8.3 | AO62: 9.9 | AP62: 1.7 | AQ62: 1 | AR62: 3.7 | AS62: 1 | AT62: 1 | AU62: 9.6 | AV62: 9.6 | AW62: 9.9 | AX62: 1.1 | AY62: 34.9 | AZ62: 1.7 | BK62: Man A40 | BL62: Neoplan | BM62: Merce- | BN62: MAN | BO62: Volvo | BP62: Swiss | BQ62: ligh Tram | BR62: ligh Tram | BS62: Batterie- | BT62: Batterie- | BU62: Tram | BV62: Bus
A63: 10000 | B63: 60 | C63: 80.3 | D63: 60 | E63: 60 | F63: 68 | G63: 77.9 | H63: 77.9 | I63: 77.8 | J63: 77.8 | K63: 60 | L63: 79.4 | M63: 60 | N63: 77.2 | O63: 74.9 | P63: 72.7 | Q63: 73 | R63: 66.5 | S63: 70.9 | T63: 68.7 | U63: 62.2 | V63: 66.7 | W63: 92.1 | X63: 62.2 | AC63: 10000 | AD63: 5 | AE63: 9.7 | AF63: 8 | AG63: 8 | AH63: 6.5 | AI63: 6.5 | AJ63: 6.5 | AK63: 5 | AL63: 5 | AM63: 5 | AN63: 9.3 | AO63: 7.6 | AP63: 1 | AQ63: 1.1 | AR63: 6.1 | AS63: 3.3 | AT63: 9.6 | AU63: 9.6 | AV63: 3.7 | AW63: 6.2 | AX63: 1 | AY63: 30.8 | AZ63: 1 | BJ63: Citaro | BK63: Lions | BL63: Centro- | BM63: des | BN63: A 35 | BO63: 7900H | BP63: Trolley | BQ63: 3 Longo | BR63: 3 Longo 2 | BS63: bus | BT63: bus | BU63: Zürich | BV63: Caetano
BJ64: O 350 | BK64: City | BL64: liner | BM64: O 530 | BN64: Midibus | BP64: 3 | BQ64: Doppel- | BR64: Doppel- | BS64: SOR EBN 8 | BT64: Volvo | BU64: Cobra
BJ65: Gelenk- | BK65: Gelenk- | BL65: Gelenk- | BM65: Stand- | BN65: Stand- | BP65: Gelenk- | BQ65: Gelenk- | BR65: Gelenk- | BT65: 7900 EH
A66: Antiebsgeräusch pro Fahrtrichtung | BE66: Kontrolle | BO66: bus | BP66: bus | BQ66: bus | BR66: ardbus | BS66: ardbus | BT66: Hybrid | BU66: trolley | BV66: trolley | BW66: trolley
A67: Lw,P(c,i) aufwärts | B67: cat 1 | C67: cat 2 | D67: cat 3 | E67: cat 4 | F67: cat 5 | G67: cat 6 | H67: cat 7 | I67: cat 8 | J67: cat 9 | K67: cat 10 | AC67: Lw,P(c,i) abwärts | AD67: cat 1 | AE67: cat 2 | AF67: cat 3 | AG67: cat 4 | AH67: cat 5 | AI67: cat 6 | AJ67: cat 7 | AK67: cat 8 | AL67: cat 9 | AM67: cat 10 | BE67: cat 1 | BF67: cat 2 | BG67: cat 3 | BH67: cat 4 | BI67: cat 5 | BJ67: cat 6 | BK67: cat 7 | BL67: cat 8 | BM67: cat 9 | BN67: cat 10 | BO67: Diesel | BP67: Diesel | BQ67: Diesel | BR67: Diesel | BS67: Diesel | BU67: Elektro | BV67: Elektro | BW67: Elektro | BX67: Elektro | BY67: Elektro | BZ67: Tram
A68: 50 | B68: =B40+AD40*((B$19-$B$16)/$B$16)+B$31+B$25 -> 99.5 | C68: =C40+AE40*((C$19-$B$16)/$B$16)+C$31+C$25 -> 98.533714 | D68: =D40+AF40*((D$19-$B$16)/$B$16)+D$31+D$25 -> 91 | E68: =E40+AG40*((E$19-$B$16)/$B$16)+E$31+E$25 -> 91 | F68: =F40+AH40*((F$19-$B$16)/$B$16)+F$31+F$25 -> 95.5 | G68: =G40+AI40*((G$19-$B$16)/$B$16)+G$31+G$25 -> 92 | H68: =H40+AJ40*((H$19-$B$16)/$B$16)+H$31+H$25 -> 92 | I68: =I40+AK40*((I$19-$B$16)/$B$16)+I$31+I$25 -> 100.15449 | ... AA68: =AA40+BC40*((AA$19-$B$16)/$B$16)+AA$31+AA$25 -> 0 | AC68: 50 | AD68: =B40+AD40*((B$20-$B$16)/$B$16)+B$26+B$32 -> 99.795359 | AE68: =C40+AE40*((C$20-$B$16)/$B$16)+C$26+C$32 -> 98.533714 | AF68: =D40+AF40*((D$20-$B$16)/$B$16)+D$26+D$32 -> 91 | AG68: =E40+AG40*((E$20-$B$16)/$B$16)+E$26+E$32 -> 91 | AH68: =F40+AH40*((F$20-$B$16)/$B$16)+F$26+F$32 -> 95.5 | AI68: =G40+AI40*((G$20-$B$16)/$B$16)+G$26+G$32 -> 92 | AJ68: =H40+AJ40*((H$20-$B$16)/$B$16)+H$26+H$32 -> 92 | AK68: =I40+AK40*((I$20-$B$16)/$B$16)+I$26+I$32 -> 100.38487 | ... AZ68: =X40+AZ40*((X$20-$B$16)/$B$16)+X$26+X$32 -> 86.109645 | BE68: =B68-AD68 -> -0.29535938 | BF68: =C68-AE68 -> 0 | BG68: =D68-AF68 -> 0 | BH68: =E68-AG68 -> 0 | BI68: =F68-AH68 -> 0 | BJ68: =G68-AI68 -> 0 | BK68: =H68-AJ68 -> 0 | BL68: =I68-AK68 -> -0.23038031 | ... BZ68: =W68-AY68 -> -0.29535938 | CA68: =X68-BE68 -> 86.109645 | CB68: =Y68-BF68 -> 0 | CC68: =Z68-BG68 -> 0 | CD68: =AA68-BH68 -> 0
A69: 63 | B69: =B41+AD41*((B$19-$B$16)/$B$16)+B$31+B$25 -> 98 | C69: =C41+AE41*((C$19-$B$16)/$B$16)+C$31+C$25 -> 99.685714 | D69: =D41+AF41*((D$19-$B$16)/$B$16)+D$31+D$25 -> 87.5 | E69: =E41+AG41*((E$19-$B$16)/$B$16)+E$31+E$25 -> 87.5 | F69: =F41+AH41*((F$19-$B$16)/$B$16)+F$31+F$25 -> 96.5 | G69: =G41+AI41*((G$19-$B$16)/$B$16)+G$31+G$25 -> 92 | H69: =H41+AJ41*((H$19-$B$16)/$B$16)+H$31+H$25 -> 92 | I69: =I41+AK41*((I$19-$B$16)/$B$16)+I$31+I$25 -> 101.7474 | ... AA69: =AA41+BC41*((AA$19-$B$16)/$B$16)+AA$31+AA$25 -> 0 | AC69: 63 | AD69: =B41+AD41*((B$20-$B$16)/$B$16)+B$26+B$32 -> 98.295359 | AE69: =C41+AE41*((C$20-$B$16)/$B$16)+C$26+C$32 -> 99.685714 | AF69: =D41+AF41*((D$20-$B$16)/$B$16)+D$26+D$32 -> 87.5 | AG69: =E41+AG41*((E$20-$B$16)/$B$16)+E$26+E$32 -> 87.5 | AH69: =F41+AH41*((F$20-$B$16)/$B$16)+F$26+F$32 -> 96.5 | AI69: =G41+AI41*((G$20-$B$16)/$B$16)+G$26+G$32 -> 92 | AJ69: =H41+AJ41*((H$20-$B$16)/$B$16)+H$26+H$32 -> 92 | AK69: =I41+AK41*((I$20-$B$16)/$B$16)+I$26+I$32 -> 101.97778 | ... AZ69: =X41+AZ41*((X$20-$B$16)/$B$16)+X$26+X$32 -> 57.466788 | BE69: =B69-AD69 -> -0.29535938 | BF69: =C69-AE69 -> 0 | BG69: =D69-AF69 -> 0 | BH69: =E69-AG69 -> 0 | BI69: =F69-AH69 -> 0 | BJ69: =G69-AI69 -> 0 | BK69: =H69-AJ69 -> 0 | BL69: =I69-AK69 -> -0.23038031 | ... BZ69: =W69-AY69 -> -0.29535938 | CA69: =X69-BE69 -> 57.466788 | CB69: =Y69-BF69 -> 0 | CC69: =Z69-BG69 -> 0 | CD69: =AA69-BH69 -> 0
A70: 80 | B70: =B42+AD42*((B$19-$B$16)/$B$16)+B$31+B$25 -> 96 | C70: =C42+AE42*((C$19-$B$16)/$B$16)+C$31+C$25 -> 100.2 | D70: =D42+AF42*((D$19-$B$16)/$B$16)+D$31+D$25 -> 86.5 | E70: =E42+AG42*((E$19-$B$16)/$B$16)+E$31+E$25 -> 86.5 | F70: =F42+AH42*((F$19-$B$16)/$B$16)+F$31+F$25 -> 89.5 | G70: =G42+AI42*((G$19-$B$16)/$B$16)+G$31+G$25 -> 92 | H70: =H42+AJ42*((H$19-$B$16)/$B$16)+H$31+H$25 -> 92 | I70: =I42+AK42*((I$19-$B$16)/$B$16)+I$31+I$25 -> 99.258471 | ... AA70: =AA42+BC42*((AA$19-$B$16)/$B$16)+AA$31+AA$25 -> 0 | AC70: 80 | AD70: =B42+AD42*((B$20-$B$16)/$B$16)+B$26+B$32 -> 96.295359 | AE70: =C42+AE42*((C$20-$B$16)/$B$16)+C$26+C$32 -> 100.2 | AF70: =D42+AF42*((D$20-$B$16)/$B$16)+D$26+D$32 -> 86.5 | AG70: =E42+AG42*((E$20-$B$16)/$B$16)+E$26+E$32 -> 86.5 | AH70: =F42+AH42*((F$20-$B$16)/$B$16)+F$26+F$32 -> 89.5 | AI70: =G42+AI42*((G$20-$B$16)/$B$16)+G$26+G$32 -> 92 | AJ70: =H42+AJ42*((H$20-$B$16)/$B$16)+H$26+H$32 -> 92 | AK70: =I42+AK42*((I$20-$B$16)/$B$16)+I$26+I$32 -> 99.488852 | ... AZ70: =X42+AZ42*((X$20-$B$16)/$B$16)+X$26+X$32 -> 57.466788 | BE70: =B70-AD70 -> -0.29535938 | BF70: =C70-AE70 -> 0 | BG70: =D70-AF70 -> 0 | BH70: =E70-AG70 -> 0 | BI70: =F70-AH70 -> 0 | BJ70: =G70-AI70 -> 0 | BK70: =H70-AJ70 -> 0 | BL70: =I70-AK70 -> -0.23038031 | ... BZ70: =W70-AY70 -> -0.29535938 | CA70: =X70-BE70 -> 57.466788 | CB70: =Y70-BF70 -> 0 | CC70: =Z70-BG70 -> 0 | CD70: =AA70-BH70 -> 0
A71: 100 | B71: =B43+AD43*((B$19-$B$16)/$B$16)+B$31+B$25 -> 93.642857 | C71: =C43+AE43*((C$19-$B$16)/$B$16)+C$31+C$25 -> 100.2 | D71: =D43+AF43*((D$19-$B$16)/$B$16)+D$31+D$25 -> 81.311429 | E71: =E43+AG43*((E$19-$B$16)/$B$16)+E$31+E$25 -> 82.442857 | F71: =F43+AH43*((F$19-$B$16)/$B$16)+F$31+F$25 -> 84.657143 | G71: =G43+AI43*((G$19-$B$16)/$B$16)+G$31+G$25 -> 90.357143 | H71: =H43+AJ43*((H$19-$B$16)/$B$16)+H$31+H$25 -> 90.357143 | I71: =I43+AK43*((I$19-$B$16)/$B$16)+I$31+I$25 -> 96.271429 | ... AA71: =AA43+BC43*((AA$19-$B$16)/$B$16)+AA$31+AA$25 -> 0 | AC71: 100 | AD71: =B43+AD43*((B$20-$B$16)/$B$16)+B$26+B$32 -> 93.938217 | AE71: =C43+AE43*((C$20-$B$16)/$B$16)+C$26+C$32 -> 100.2 | AF71: =D43+AF43*((D$20-$B$16)/$B$16)+D$26+D$32 -> 81.311429 | AG71: =E43+AG43*((E$20-$B$16)/$B$16)+E$26+E$32 -> 82.442857 | AH71: =F43+AH43*((F$20-$B$16)/$B$16)+F$26+F$32 -> 84.657143 | AI71: =G43+AI43*((G$20-$B$16)/$B$16)+G$26+G$32 -> 90.357143 | AJ71: =H43+AJ43*((H$20-$B$16)/$B$16)+H$26+H$32 -> 90.357143 | AK71: =I43+AK43*((I$20-$B$16)/$B$16)+I$26+I$32 -> 96.501809 | ... AZ71: =X43+AZ43*((X$20-$B$16)/$B$16)+X$26+X$32 -> 77.209645 | BE71: =B71-AD71 -> -0.29535938 | BF71: =C71-AE71 -> 0 | BG71: =D71-AF71 -> 0 | BH71: =E71-AG71 -> 0 | BI71: =F71-AH71 -> 0 | BJ71: =G71-AI71 -> 0 | BK71: =H71-AJ71 -> 0 | BL71: =I71-AK71 -> -0.23038031 | ... BZ71: =W71-AY71 -> -0.29535938 | CA71: =X71-BE71 -> 77.209645 | CB71: =Y71-BF71 -> 0 | CC71: =Z71-BG71 -> 0 | CD71: =AA71-BH71 -> 0
A72: 125 | B72: =B44+AD44*((B$19-$B$16)/$B$16)+B$31+B$25 -> 98.142857 | C72: =C44+AE44*((C$19-$B$16)/$B$16)+C$31+C$25 -> 101.8 | D72: =D44+AF44*((D$19-$B$16)/$B$16)+D$31+D$25 -> 79.811429 | E72: =E44+AG44*((E$19-$B$16)/$B$16)+E$31+E$25 -> 80.942857 | F72: =F44+AH44*((F$19-$B$16)/$B$16)+F$31+F$25 -> 83.657143 | G72: =G44+AI44*((G$19-$B$16)/$B$16)+G$31+G$25 -> 90.357143 | H72: =H44+AJ44*((H$19-$B$16)/$B$16)+H$31+H$25 -> 90.357143 | I72: =I44+AK44*((I$19-$B$16)/$B$16)+I$31+I$25 -> 95.671429 | ... AA72: =AA44+BC44*((AA$19-$B$16)/$B$16)+AA$31+AA$25 -> 0 | AC72: 125 | AD72: =B44+AD44*((B$20-$B$16)/$B$16)+B$26+B$32 -> 98.438217 | AE72: =C44+AE44*((C$20-$B$16)/$B$16)+C$26+C$32 -> 101.8 | AF72: =D44+AF44*((D$20-$B$16)/$B$16)+D$26+D$32 -> 79.811429 | AG72: =E44+AG44*((E$20-$B$16)/$B$16)+E$26+E$32 -> 80.942857 | AH72: =F44+AH44*((F$20-$B$16)/$B$16)+F$26+F$32 -> 83.657143 | AI72: =G44+AI44*((G$20-$B$16)/$B$16)+G$26+G$32 -> 90.357143 | AJ72: =H44+AJ44*((H$20-$B$16)/$B$16)+H$26+H$32 -> 90.357143 | AK72: =I44+AK44*((I$20-$B$16)/$B$16)+I$26+I$32 -> 95.901809 | ... AZ72: =X44+AZ44*((X$20-$B$16)/$B$16)+X$26+X$32 -> 67.509645 | BE72: =B72-AD72 -> -0.29535938 | BF72: =C72-AE72 -> 0 | BG72: =D72-AF72 -> 0 | BH72: =E72-AG72 -> 0 | BI72: =F72-AH72 -> 0 | BJ72: =G72-AI72 -> 0 | BK72: =H72-AJ72 -> 0 | BL72: =I72-AK72 -> -0.23038031 | ... BZ72: =W72-AY72 -> -0.29535938 | CA72: =X72-BE72 -> 67.509645 | CB72: =Y72-BF72 -> 0 | CC72: =Z72-BG72 -> 0 | CD72: =AA72-BH72 -> 0
A73: 160 | B73: =B45+AD45*((B$19-$B$16)/$B$16)+B$31+B$25 -> 89.142857 | C73: =C45+AE45*((C$19-$B$16)/$B$16)+C$31+C$25 -> 96.142857 | D73: =D45+AF45*((D$19-$B$16)/$B$16)+D$31+D$25 -> 80.311429 | E73: =E45+AG45*((E$19-$B$16)/$B$16)+E$31+E$25 -> 81.442857 | F73: =F45+AH45*((F$19-$B$16)/$B$16)+F$31+F$25 -> 84.657143 | G73: =G45+AI45*((G$19-$B$16)/$B$16)+G$31+G$25 -> 90.357143 | H73: =H45+AJ45*((H$19-$B$16)/$B$16)+H$31+H$25 -> 90.357143 | I73: =I45+AK45*((I$19-$B$16)/$B$16)+I$31+I$25 -> 94.571429 | ... AA73: =AA45+BC45*((AA$19-$B$16)/$B$16)+AA$31+AA$25 -> 0 | AC73: 160 | AD73: =B45+AD45*((B$20-$B$16)/$B$16)+B$26+B$32 -> 89.438217 | AE73: =C45+AE45*((C$20-$B$16)/$B$16)+C$26+C$32 -> 96.142857 | AF73: =D45+AF45*((D$20-$B$16)/$B$16)+D$26+D$32 -> 80.311429 | AG73: =E45+AG45*((E$20-$B$16)/$B$16)+E$26+E$32 -> 81.442857 | AH73: =F45+AH45*((F$20-$B$16)/$B$16)+F$26+F$32 -> 84.657143 | AI73: =G45+AI45*((G$20-$B$16)/$B$16)+G$26+G$32 -> 90.357143 | AJ73: =H45+AJ45*((H$20-$B$16)/$B$16)+H$26+H$32 -> 90.357143 | AK73: =I45+AK45*((I$20-$B$16)/$B$16)+I$26+I$32 -> 94.801809 | ... AZ73: =X45+AZ45*((X$20-$B$16)/$B$16)+X$26+X$32 -> 71.209645 | BE73: =B73-AD73 -> -0.29535938 | BF73: =C73-AE73 -> 0 | BG73: =D73-AF73 -> 0 | BH73: =E73-AG73 -> 0 | BI73: =F73-AH73 -> 0 | BJ73: =G73-AI73 -> 0 | BK73: =H73-AJ73 -> 0 | BL73: =I73-AK73 -> -0.23038031 | ... BZ73: =W73-AY73 -> -0.29535938 | CA73: =X73-BE73 -> 71.209645 | CB73: =Y73-BF73 -> 0 | CC73: =Z73-BG73 -> 0 | CD73: =AA73-BH73 -> 0
A74: 200 | B74: =B46+AD46*((B$19-$B$16)/$B$16)+B$31+B$25 -> 85.185714 | C74: =C46+AE46*((C$19-$B$16)/$B$16)+C$31+C$25 -> 90.357143 | D74: =D46+AF46*((D$19-$B$16)/$B$16)+D$31+D$25 -> 79.09 | E74: =E46+AG46*((E$19-$B$16)/$B$16)+E$31+E$25 -> 80.3 | F74: =F46+AH46*((F$19-$B$16)/$B$16)+F$31+F$25 -> 83.171429 | G74: =G46+AI46*((G$19-$B$16)/$B$16)+G$31+G$25 -> 89.171429 | H74: =H46+AJ46*((H$19-$B$16)/$B$16)+H$31+H$25 -> 89.171429 | I74: =I46+AK46*((I$19-$B$16)/$B$16)+I$31+I$25 -> 91.862857 | ... AA74: =AA46+BC46*((AA$19-$B$16)/$B$16)+AA$31+AA$25 -> 0 | AC74: 200 | AD74: =B46+AD46*((B$20-$B$16)/$B$16)+B$26+B$32 -> 85.481074 | AE74: =C46+AE46*((C$20-$B$16)/$B$16)+C$26+C$32 -> 90.357143 | AF74: =D46+AF46*((D$20-$B$16)/$B$16)+D$26+D$32 -> 79.09 | AG74: =E46+AG46*((E$20-$B$16)/$B$16)+E$26+E$32 -> 80.3 | AH74: =F46+AH46*((F$20-$B$16)/$B$16)+F$26+F$32 -> 83.171429 | AI74: =G46+AI46*((G$20-$B$16)/$B$16)+G$26+G$32 -> 89.171429 | AJ74: =H46+AJ46*((H$20-$B$16)/$B$16)+H$26+H$32 -> 89.171429 | AK74: =I46+AK46*((I$20-$B$16)/$B$16)+I$26+I$32 -> 92.093237 | ... AZ74: =X46+AZ46*((X$20-$B$16)/$B$16)+X$26+X$32 -> 81.609645 | BE74: =B74-AD74 -> -0.29535938 | BF74: =C74-AE74 -> 0 | BG74: =D74-AF74 -> 0 | BH74: =E74-AG74 -> 0 | BI74: =F74-AH74 -> 0 | BJ74: =G74-AI74 -> 0 | BK74: =H74-AJ74 -> 0 | BL74: =I74-AK74 -> -0.23038031 | ... BZ74: =W74-AY74 -> -0.29535938 | CA74: =X74-BE74 -> 81.609645 | CB74: =Y74-BF74 -> 0 | CC74: =Z74-BG74 -> 0 | CD74: =AA74-BH74 -> 0
A75: 250 | B75: =B47+AD47*((B$19-$B$16)/$B$16)+B$31+B$25 -> 94.185714 | C75: =C47+AE47*((C$19-$B$16)/$B$16)+C$31+C$25 -> 84.557143 | D75: =D47+AF47*((D$19-$B$16)/$B$16)+D$31+D$25 -> 79.59 | E75: =E47+AG47*((E$19-$B$16)/$B$16)+E$31+E$25 -> 80.8 | F75: =F47+AH47*((F$19-$B$16)/$B$16)+F$31+F$25 -> 83.171429 | G75: =G47+AI47*((G$19-$B$16)/$B$16)+G$31+G$25 -> 89.171429 | H75: =H47+AJ47*((H$19-$B$16)/$B$16)+H$31+H$25 -> 89.171429 | I75: =I47+AK47*((I$19-$B$16)/$B$16)+I$31+I$25 -> 93.962857 | ... AA75: =AA47+BC47*((AA$19-$B$16)/$B$16)+AA$31+AA$25 -> 0 | AC75: 250 | AD75: =B47+AD47*((B$20-$B$16)/$B$16)+B$26+B$32 -> 94.481074 | AE75: =C47+AE47*((C$20-$B$16)/$B$16)+C$26+C$32 -> 84.557143 | AF75: =D47+AF47*((D$20-$B$16)/$B$16)+D$26+D$32 -> 79.59 | AG75: =E47+AG47*((E$20-$B$16)/$B$16)+E$26+E$32 -> 80.8 | AH75: =F47+AH47*((F$20-$B$16)/$B$16)+F$26+F$32 -> 83.171429 | AI75: =G47+AI47*((G$20-$B$16)/$B$16)+G$26+G$32 -> 89.171429 | AJ75: =H47+AJ47*((H$20-$B$16)/$B$16)+H$26+H$32 -> 89.171429 | AK75: =I47+AK47*((I$20-$B$16)/$B$16)+I$26+I$32 -> 94.193237 | ... AZ75: =X47+AZ47*((X$20-$B$16)/$B$16)+X$26+X$32 -> 74.823931 | BE75: =B75-AD75 -> -0.29535938 | BF75: =C75-AE75 -> 0 | BG75: =D75-AF75 -> 0 | BH75: =E75-AG75 -> 0 | BI75: =F75-AH75 -> 0 | BJ75: =G75-AI75 -> 0 | BK75: =H75-AJ75 -> 0 | BL75: =I75-AK75 -> -0.23038031 | ... BZ75: =W75-AY75 -> -0.29535938 | CA75: =X75-BE75 -> 74.823931 | CB75: =Y75-BF75 -> 0 | CC75: =Z75-BG75 -> 0 | CD75: =AA75-BH75 -> 0
A76: 315 | B76: =B48+AD48*((B$19-$B$16)/$B$16)+B$31+B$25 -> 93.685714 | C76: =C48+AE48*((C$19-$B$16)/$B$16)+C$31+C$25 -> 79.857143 | D76: =D48+AF48*((D$19-$B$16)/$B$16)+D$31+D$25 -> 79.09 | E76: =E48+AG48*((E$19-$B$16)/$B$16)+E$31+E$25 -> 80.3 | F76: =F48+AH48*((F$19-$B$16)/$B$16)+F$31+F$25 -> 83.171429 | G76: =G48+AI48*((G$19-$B$16)/$B$16)+G$31+G$25 -> 89.171429 | H76: =H48+AJ48*((H$19-$B$16)/$B$16)+H$31+H$25 -> 89.171429 | I76: =I48+AK48*((I$19-$B$16)/$B$16)+I$31+I$25 -> 95.562857 | ... AA76: =AA48+BC48*((AA$19-$B$16)/$B$16)+AA$31+AA$25 -> 0 | AC76: 315 | AD76: =B48+AD48*((B$20-$B$16)/$B$16)+B$26+B$32 -> 93.981074 | AE76: =C48+AE48*((C$20-$B$16)/$B$16)+C$26+C$32 -> 79.857143 | AF76: =D48+AF48*((D$20-$B$16)/$B$16)+D$26+D$32 -> 79.09 | AG76: =E48+AG48*((E$20-$B$16)/$B$16)+E$26+E$32 -> 80.3 | AH76: =F48+AH48*((F$20-$B$16)/$B$16)+F$26+F$32 -> 83.171429 | AI76: =G48+AI48*((G$20-$B$16)/$B$16)+G$26+G$32 -> 89.171429 | AJ76: =H48+AJ48*((H$20-$B$16)/$B$16)+H$26+H$32 -> 89.171429 | AK76: =I48+AK48*((I$20-$B$16)/$B$16)+I$26+I$32 -> 95.793237 | ... AZ76: =X48+AZ48*((X$20-$B$16)/$B$16)+X$26+X$32 -> 57.466788 | BE76: =B76-AD76 -> -0.29535938 | BF76: =C76-AE76 -> 0 | BG76: =D76-AF76 -> 0 | BH76: =E76-AG76 -> 0 | BI76: =F76-AH76 -> 0 | BJ76: =G76-AI76 -> 0 | BK76: =H76-AJ76 -> 0 | BL76: =I76-AK76 -> -0.23038031 | ... BZ76: =W76-AY76 -> -0.29535938 | CA76: =X76-BE76 -> 57.466788 | CB76: =Y76-BF76 -> 0 | CC76: =Z76-BG76 -> 0 | CD76: =AA76-BH76 -> 0
A77: 400 | B77: =B49+AD49*((B$19-$B$16)/$B$16)+B$31+B$25 -> 95.071429 | C77: =C49+AE49*((C$19-$B$16)/$B$16)+C$31+C$25 -> 81.457143 | D77: =D49+AF49*((D$19-$B$16)/$B$16)+D$31+D$25 -> 77.457143 | E77: =E49+AG49*((E$19-$B$16)/$B$16)+E$31+E$25 -> 78.714286 | F77: =F49+AH49*((F$19-$B$16)/$B$16)+F$31+F$25 -> 83.142857 | G77: =G49+AI49*((G$19-$B$16)/$B$16)+G$31+G$25 -> 89.142857 | H77: =H49+AJ49*((H$19-$B$16)/$B$16)+H$31+H$25 -> 89.142857 | I77: =I49+AK49*((I$19-$B$16)/$B$16)+I$31+I$25 -> 93.785714 | ... AA77: =AA49+BC49*((AA$19-$B$16)/$B$16)+AA$31+AA$25 -> 0 | AC77: 400 | AD77: =B49+AD49*((B$20-$B$16)/$B$16)+B$26+B$32 -> 95.366788 | AE77: =C49+AE49*((C$20-$B$16)/$B$16)+C$26+C$32 -> 81.457143 | AF77: =D49+AF49*((D$20-$B$16)/$B$16)+D$26+D$32 -> 77.457143 | AG77: =E49+AG49*((E$20-$B$16)/$B$16)+E$26+E$32 -> 78.714286 | AH77: =F49+AH49*((F$20-$B$16)/$B$16)+F$26+F$32 -> 83.142857 | AI77: =G49+AI49*((G$20-$B$16)/$B$16)+G$26+G$32 -> 89.142857 | AJ77: =H49+AJ49*((H$20-$B$16)/$B$16)+H$26+H$32 -> 89.142857 | AK77: =I49+AK49*((I$20-$B$16)/$B$16)+I$26+I$32 -> 94.016095 | ... AZ77: =X49+AZ49*((X$20-$B$16)/$B$16)+X$26+X$32 -> 79.995359 | BE77: =B77-AD77 -> -0.29535938 | BF77: =C77-AE77 -> 0 | BG77: =D77-AF77 -> 0 | BH77: =E77-AG77 -> 0 | BI77: =F77-AH77 -> 0 | BJ77: =G77-AI77 -> 0 | BK77: =H77-AJ77 -> 0 | BL77: =I77-AK77 -> -0.23038031 | ... BZ77: =W77-AY77 -> -0.29535938 | CA77: =X77-BE77 -> 79.995359 | CB77: =Y77-BF77 -> 0 | CC77: =Z77-BG77 -> 0 | CD77: =AA77-BH77 -> 0
A78: 500 | B78: =B50+AD50*((B$19-$B$16)/$B$16)+B$31+B$25 -> 90.571429 | C78: =C50+AE50*((C$19-$B$16)/$B$16)+C$31+C$25 -> 82.142857 | D78: =D50+AF50*((D$19-$B$16)/$B$16)+D$31+D$25 -> 77.457143 | E78: =E50+AG50*((E$19-$B$16)/$B$16)+E$31+E$25 -> 78.714286 | F78: =F50+AH50*((F$19-$B$16)/$B$16)+F$31+F$25 -> 81.642857 | G78: =G50+AI50*((G$19-$B$16)/$B$16)+G$31+G$25 -> 89.142857 | H78: =H50+AJ50*((H$19-$B$16)/$B$16)+H$31+H$25 -> 89.142857 | I78: =I50+AK50*((I$19-$B$16)/$B$16)+I$31+I$25 -> 95.785714 | ... AA78: =AA50+BC50*((AA$19-$B$16)/$B$16)+AA$31+AA$25 -> 0 | AC78: 500 | AD78: =B50+AD50*((B$20-$B$16)/$B$16)+B$26+B$32 -> 90.866788 | AE78: =C50+AE50*((C$20-$B$16)/$B$16)+C$26+C$32 -> 82.142857 | AF78: =D50+AF50*((D$20-$B$16)/$B$16)+D$26+D$32 -> 77.457143 | AG78: =E50+AG50*((E$20-$B$16)/$B$16)+E$26+E$32 -> 78.714286 | AH78: =F50+AH50*((F$20-$B$16)/$B$16)+F$26+F$32 -> 81.642857 | AI78: =G50+AI50*((G$20-$B$16)/$B$16)+G$26+G$32 -> 89.142857 | AJ78: =H50+AJ50*((H$20-$B$16)/$B$16)+H$26+H$32 -> 89.142857 | AK78: =I50+AK50*((I$20-$B$16)/$B$16)+I$26+I$32 -> 96.016095 | ... AZ78: =X50+AZ50*((X$20-$B$16)/$B$16)+X$26+X$32 -> 57.466788 | BE78: =B78-AD78 -> -0.29535938 | BF78: =C78-AE78 -> 0 | BG78: =D78-AF78 -> 0 | BH78: =E78-AG78 -> 0 | BI78: =F78-AH78 -> 0 | BJ78: =G78-AI78 -> 0 | BK78: =H78-AJ78 -> 0 | BL78: =I78-AK78 -> -0.23038031 | ... BZ78: =W78-AY78 -> -0.29535938 | CA78: =X78-BE78 -> 57.466788 | CB78: =Y78-BF78 -> 0 | CC78: =Z78-BG78 -> 0 | CD78: =AA78-BH78 -> 0
A79: 630 | B79: =B51+AD51*((B$19-$B$16)/$B$16)+B$31+B$25 -> 89.571429 | C79: =C51+AE51*((C$19-$B$16)/$B$16)+C$31+C$25 -> 83.357143 | D79: =D51+AF51*((D$19-$B$16)/$B$16)+D$31+D$25 -> 79.957143 | E79: =E51+AG51*((E$19-$B$16)/$B$16)+E$31+E$25 -> 81.214286 | F79: =F51+AH51*((F$19-$B$16)/$B$16)+F$31+F$25 -> 80.642857 | G79: =G51+AI51*((G$19-$B$16)/$B$16)+G$31+G$25 -> 89.142857 | H79: =H51+AJ51*((H$19-$B$16)/$B$16)+H$31+H$25 -> 89.142857 | I79: =I51+AK51*((I$19-$B$16)/$B$16)+I$31+I$25 -> 95.185714 | ... AA79: =AA51+BC51*((AA$19-$B$16)/$B$16)+AA$31+AA$25 -> 0 | AC79: 630 | AD79: =B51+AD51*((B$20-$B$16)/$B$16)+B$26+B$32 -> 89.866788 | AE79: =C51+AE51*((C$20-$B$16)/$B$16)+C$26+C$32 -> 83.357143 | AF79: =D51+AF51*((D$20-$B$16)/$B$16)+D$26+D$32 -> 79.957143 | AG79: =E51+AG51*((E$20-$B$16)/$B$16)+E$26+E$32 -> 81.214286 | AH79: =F51+AH51*((F$20-$B$16)/$B$16)+F$26+F$32 -> 80.642857 | AI79: =G51+AI51*((G$20-$B$16)/$B$16)+G$26+G$32 -> 89.142857 | AJ79: =H51+AJ51*((H$20-$B$16)/$B$16)+H$26+H$32 -> 89.142857 | AK79: =I51+AK51*((I$20-$B$16)/$B$16)+I$26+I$32 -> 95.416095 | ... AZ79: =X51+AZ51*((X$20-$B$16)/$B$16)+X$26+X$32 -> 57.466788 | BE79: =B79-AD79 -> -0.29535938 | BF79: =C79-AE79 -> 0 | BG79: =D79-AF79 -> 0 | BH79: =E79-AG79 -> 0 | BI79: =F79-AH79 -> 0 | BJ79: =G79-AI79 -> 0 | BK79: =H79-AJ79 -> 0 | BL79: =I79-AK79 -> -0.23038031 | ... BZ79: =W79-AY79 -> -0.29535938 | CA79: =X79-BE79 -> 57.466788 | CB79: =Y79-BF79 -> 0 | CC79: =Z79-BG79 -> 0 | CD79: =AA79-BH79 -> 0
... A91: 10000 | B91: =B63+AD63*((B$19-$B$16)/$B$16)+B$31+B$25 -> 58.571429 | C91: =C63+AE63*((C$19-$B$16)/$B$16)+C$31+C$25 -> 74.757143 | D91: =D63+AF63*((D$19-$B$16)/$B$16)+D$31+D$25 -> 56.457143 | E91: =E63+AG63*((E$19-$B$16)/$B$16)+E$31+E$25 -> 57.714286 | F91: =F63+AH63*((F$19-$B$16)/$B$16)+F$31+F$25 -> 66.142857 | G91: =G63+AI63*((G$19-$B$16)/$B$16)+G$31+G$25 -> 76.042857 | H91: =H63+AJ63*((H$19-$B$16)/$B$16)+H$31+H$25 -> 76.042857 | I91: =I63+AK63*((I$19-$B$16)/$B$16)+I$31+I$25 -> 75.585714 | ... AA91: =AA63+BC63*((AA$19-$B$16)/$B$16)+AA$31+AA$25 -> 0 | AC91: 10000 | AD91: =B63+AD63*((B$20-$B$16)/$B$16)+B$26+B$32 -> 58.866788 | AE91: =C63+AE63*((C$20-$B$16)/$B$16)+C$26+C$32 -> 74.757143 | AF91: =D63+AF63*((D$20-$B$16)/$B$16)+D$26+D$32 -> 56.457143 | AG91: =E63+AG63*((E$20-$B$16)/$B$16)+E$26+E$32 -> 57.714286 | AH91: =F63+AH63*((F$20-$B$16)/$B$16)+F$26+F$32 -> 66.142857 | AI91: =G63+AI63*((G$20-$B$16)/$B$16)+G$26+G$32 -> 76.042857 | AJ91: =H63+AJ63*((H$20-$B$16)/$B$16)+H$26+H$32 -> 76.042857 | AK91: =I63+AK63*((I$20-$B$16)/$B$16)+I$26+I$32 -> 75.816095 | ... AZ91: =X63+AZ63*((X$20-$B$16)/$B$16)+X$26+X$32 -> 62.209645 | BE91: =B91-AD91 -> -0.29535937 | BF91: =C91-AE91 -> 0 | BG91: =D91-AF91 -> 0 | BH91: =E91-AG91 -> 0 | BI91: =F91-AH91 -> 0 | BJ91: =G91-AI91 -> 0 | BK91: =H91-AJ91 -> 0 | BL91: =I91-AK91 -> -0.23038031 | ... BZ91: =W91-AY91 -> -0.29535938 | CA91: =X91-BE91 -> 62.209645 | CB91: =Y91-BF91 -> 0 | CC91: =Z91-BG91 -> 0 | CD91: =AA91-BH91 -> 0
A94: Antiebsgeräusch pro Strassenabschnitt (energetischer Mittelwert aufwärts und abwärts)
A95: Annahme: Gleichviel Verkehr aufwärts wie abwärts und gleiche Verkehrszusammensetzung Swiss10
A96: Lw,P(c,i) | B96: cat 1 | C96: cat 2 | D96: cat 3 | E96: cat 4 | F96: cat 5 | G96: cat 6 | H96: cat 7 | I96: cat 8 | J96: cat 9 | K96: cat 10
A97: 50 | B97: =IF(Leq!$E$21=0,0,10*LOG(0.5*10^(B68/10)+0.5*10^(AD68/10))) -> 99.65019 | C97: =IF(Leq!$E$21=0,0,10*LOG(0.5*10^(C68/10)+0.5*10^(AE68/10))) -> 98.533714 | D97: =IF(Leq!$E$21=0,0,10*LOG(0.5*10^(D68/10)+0.5*10^(AF68/10))) -> 91 | E97: =IF(Leq!$E$21=0,0,10*LOG(0.5*10^(E68/10)+0.5*10^(AG68/10))) -> 91 | F97: =IF(Leq!$E$21=0,0,10*LOG(0.5*10^(F68/10)+0.5*10^(AH68/10))) -> 95.5 | G97: =IF(Leq!$E$21=0,0,10*LOG(0.5*10^(G68/10)+0.5*10^(AI68/10))) -> 92 | H97: =IF(Leq!$E$21=0,0,10*LOG(0.5*10^(H68/10)+0.5*10^(AJ68/10))) -> 92 | I97: =IF(Leq!$E$21=0,0,10*LOG(0.5*10^(I68/10)+0.5*10^(AK68/10))) -> 100.2712 | ... V97: =IF(Leq!$E$21=0,0,10*LOG(0.5*10^(V68/10)+0.5*10^(AX68/10))) -> 87.193047 | W97: =10*LOG(0.5*10^(W68/10)+0.5*10^(AY68/10)) -> 89.064476 | X97: =IF(Leq!$E$21=0,0,10*LOG(0.5*10^(X68/10)+0.5*10^(AZ68/10))) -> 85.964476 | Y97: =10*LOG(0.5*10^(Y68/10)+0.5*10^(BA68/10)) -> 0 | Z97: =10*LOG(0.5*10^(Z68/10)+0.5*10^(BB68/10)) -> 0 | AA97: =10*LOG(0.5*10^(AA68/10)+0.5*10^(BC68/10)) -> 0
A98: 63 | B98: =IF(Leq!$E$21=0,0,10*LOG(0.5*10^(B69/10)+0.5*10^(AD69/10))) -> 98.15019 | C98: =IF(Leq!$E$21=0,0,10*LOG(0.5*10^(C69/10)+0.5*10^(AE69/10))) -> 99.685714 | D98: =IF(Leq!$E$21=0,0,10*LOG(0.5*10^(D69/10)+0.5*10^(AF69/10))) -> 87.5 | E98: =IF(Leq!$E$21=0,0,10*LOG(0.5*10^(E69/10)+0.5*10^(AG69/10))) -> 87.5 | F98: =IF(Leq!$E$21=0,0,10*LOG(0.5*10^(F69/10)+0.5*10^(AH69/10))) -> 96.5 | G98: =IF(Leq!$E$21=0,0,10*LOG(0.5*10^(G69/10)+0.5*10^(AI69/10))) -> 92 | H98: =IF(Leq!$E$21=0,0,10*LOG(0.5*10^(H69/10)+0.5*10^(AJ69/10))) -> 92 | I98: =IF(Leq!$E$21=0,0,10*LOG(0.5*10^(I69/10)+0.5*10^(AK69/10))) -> 101.86412 | ... V98: =IF(Leq!$E$21=0,0,10*LOG(0.5*10^(V69/10)+0.5*10^(AX69/10))) -> 87.893047 | W98: =10*LOG(0.5*10^(W69/10)+0.5*10^(AY69/10)) -> 91.864476 | X98: =IF(Leq!$E$21=0,0,10*LOG(0.5*10^(X69/10)+0.5*10^(AZ69/10))) -> 57.321619 | Y98: =10*LOG(0.5*10^(Y69/10)+0.5*10^(BA69/10)) -> 0 | Z98: =10*LOG(0.5*10^(Z69/10)+0.5*10^(BB69/10)) -> 0 | AA98: =10*LOG(0.5*10^(AA69/10)+0.5*10^(BC69/10)) -> 0
A99: 80 | B99: =IF(Leq!$E$21=0,0,10*LOG(0.5*10^(B70/10)+0.5*10^(AD70/10))) -> 96.15019 | C99: =IF(Leq!$E$21=0,0,10*LOG(0.5*10^(C70/10)+0.5*10^(AE70/10))) -> 100.2 | D99: =IF(Leq!$E$21=0,0,10*LOG(0.5*10^(D70/10)+0.5*10^(AF70/10))) -> 86.5 | E99: =IF(Leq!$E$21=0,0,10*LOG(0.5*10^(E70/10)+0.5*10^(AG70/10))) -> 86.5 | F99: =IF(Leq!$E$21=0,0,10*LOG(0.5*10^(F70/10)+0.5*10^(AH70/10))) -> 89.5 | G99: =IF(Leq!$E$21=0,0,10*LOG(0.5*10^(G70/10)+0.5*10^(AI70/10))) -> 92 | H99: =IF(Leq!$E$21=0,0,10*LOG(0.5*10^(H70/10)+0.5*10^(AJ70/10))) -> 92 | I99: =IF(Leq!$E$21=0,0,10*LOG(0.5*10^(I70/10)+0.5*10^(AK70/10))) -> 99.375189 | ... V99: =IF(Leq!$E$21=0,0,10*LOG(0.5*10^(V70/10)+0.5*10^(AX70/10))) -> 86.764476 | W99: =10*LOG(0.5*10^(W70/10)+0.5*10^(AY70/10)) -> 94.764476 | X99: =IF(Leq!$E$21=0,0,10*LOG(0.5*10^(X70/10)+0.5*10^(AZ70/10))) -> 57.321619 | Y99: =10*LOG(0.5*10^(Y70/10)+0.5*10^(BA70/10)) -> 0 | Z99: =10*LOG(0.5*10^(Z70/10)+0.5*10^(BB70/10)) -> 0 | AA99: =10*LOG(0.5*10^(AA70/10)+0.5*10^(BC70/10)) -> 0
A100: 100 | B100: =IF(Leq!$E$21=0,0,10*LOG(0.5*10^(B71/10)+0.5*10^(AD71/10))) -> 93.793047 | C100: =IF(Leq!$E$21=0,0,10*LOG(0.5*10^(C71/10)+0.5*10^(AE71/10))) -> 100.2 | D100: =IF(Leq!$E$21=0,0,10*LOG(0.5*10^(D71/10)+0.5*10^(AF71/10))) -> 81.311429 | E100: =IF(Leq!$E$21=0,0,10*LOG(0.5*10^(E71/10)+0.5*10^(AG71/10))) -> 82.442857 | F100: =IF(Leq!$E$21=0,0,10*LOG(0.5*10^(F71/10)+0.5*10^(AH71/10))) -> 84.657143 | G100: =IF(Leq!$E$21=0,0,10*LOG(0.5*10^(G71/10)+0.5*10^(AI71/10))) -> 90.357143 | H100: =IF(Leq!$E$21=0,0,10*LOG(0.5*10^(H71/10)+0.5*10^(AJ71/10))) -> 90.357143 | I100: =IF(Leq!$E$21=0,0,10*LOG(0.5*10^(I71/10)+0.5*10^(AK71/10))) -> 96.388146 | ... V100: =IF(Leq!$E$21=0,0,10*LOG(0.5*10^(V71/10)+0.5*10^(AX71/10))) -> 83.478762 | W100: =10*LOG(0.5*10^(W71/10)+0.5*10^(AY71/10)) -> 94.821619 | X100: =IF(Leq!$E$21=0,0,10*LOG(0.5*10^(X71/10)+0.5*10^(AZ71/10))) -> 77.064476 | Y100: =10*LOG(0.5*10^(Y71/10)+0.5*10^(BA71/10)) -> 0 | Z100: =10*LOG(0.5*10^(Z71/10)+0.5*10^(BB71/10)) -> 0 | AA100: =10*LOG(0.5*10^(AA71/10)+0.5*10^(BC71/10)) -> 0
A101: 125 | B101: =IF(Leq!$E$21=0,0,10*LOG(0.5*10^(B72/10)+0.5*10^(AD72/10))) -> 98.293047 | C101: =IF(Leq!$E$21=0,0,10*LOG(0.5*10^(C72/10)+0.5*10^(AE72/10))) -> 101.8 | D101: =IF(Leq!$E$21=0,0,10*LOG(0.5*10^(D72/10)+0.5*10^(AF72/10))) -> 79.811429 | E101: =IF(Leq!$E$21=0,0,10*LOG(0.5*10^(E72/10)+0.5*10^(AG72/10))) -> 80.942857 | F101: =IF(Leq!$E$21=0,0,10*LOG(0.5*10^(F72/10)+0.5*10^(AH72/10))) -> 83.657143 | G101: =IF(Leq!$E$21=0,0,10*LOG(0.5*10^(G72/10)+0.5*10^(AI72/10))) -> 90.357143 | H101: =IF(Leq!$E$21=0,0,10*LOG(0.5*10^(H72/10)+0.5*10^(AJ72/10))) -> 90.357143 | I101: =IF(Leq!$E$21=0,0,10*LOG(0.5*10^(I72/10)+0.5*10^(AK72/10))) -> 95.788146 | ... V101: =IF(Leq!$E$21=0,0,10*LOG(0.5*10^(V72/10)+0.5*10^(AX72/10))) -> 87.321619 | W101: =10*LOG(0.5*10^(W72/10)+0.5*10^(AY72/10)) -> 97.478762 | X101: =IF(Leq!$E$21=0,0,10*LOG(0.5*10^(X72/10)+0.5*10^(AZ72/10))) -> 67.364476 | Y101: =10*LOG(0.5*10^(Y72/10)+0.5*10^(BA72/10)) -> 0 | Z101: =10*LOG(0.5*10^(Z72/10)+0.5*10^(BB72/10)) -> 0 | AA101: =10*LOG(0.5*10^(AA72/10)+0.5*10^(BC72/10)) -> 0
A102: 160 | B102: =IF(Leq!$E$21=0,0,10*LOG(0.5*10^(B73/10)+0.5*10^(AD73/10))) -> 89.293047 | C102: =IF(Leq!$E$21=0,0,10*LOG(0.5*10^(C73/10)+0.5*10^(AE73/10))) -> 96.142857 | D102: =IF(Leq!$E$21=0,0,10*LOG(0.5*10^(D73/10)+0.5*10^(AF73/10))) -> 80.311429 | E102: =IF(Leq!$E$21=0,0,10*LOG(0.5*10^(E73/10)+0.5*10^(AG73/10))) -> 81.442857 | F102: =IF(Leq!$E$21=0,0,10*LOG(0.5*10^(F73/10)+0.5*10^(AH73/10))) -> 84.657143 | G102: =IF(Leq!$E$21=0,0,10*LOG(0.5*10^(G73/10)+0.5*10^(AI73/10))) -> 90.357143 | H102: =IF(Leq!$E$21=0,0,10*LOG(0.5*10^(H73/10)+0.5*10^(AJ73/10))) -> 90.357143 | I102: =IF(Leq!$E$21=0,0,10*LOG(0.5*10^(I73/10)+0.5*10^(AK73/10))) -> 94.688146 | ... V102: =IF(Leq!$E$21=0,0,10*LOG(0.5*10^(V73/10)+0.5*10^(AX73/10))) -> 84.464476 | W102: =10*LOG(0.5*10^(W73/10)+0.5*10^(AY73/10)) -> 96.621619 | X102: =IF(Leq!$E$21=0,0,10*LOG(0.5*10^(X73/10)+0.5*10^(AZ73/10))) -> 71.064476 | Y102: =10*LOG(0.5*10^(Y73/10)+0.5*10^(BA73/10)) -> 0 | Z102: =10*LOG(0.5*10^(Z73/10)+0.5*10^(BB73/10)) -> 0 | AA102: =10*LOG(0.5*10^(AA73/10)+0.5*10^(BC73/10)) -> 0
A103: 200 | B103: =IF(Leq!$E$21=0,0,10*LOG(0.5*10^(B74/10)+0.5*10^(AD74/10))) -> 85.335904 | C103: =IF(Leq!$E$21=0,0,10*LOG(0.5*10^(C74/10)+0.5*10^(AE74/10))) -> 90.357143 | D103: =IF(Leq!$E$21=0,0,10*LOG(0.5*10^(D74/10)+0.5*10^(AF74/10))) -> 79.09 | E103: =IF(Leq!$E$21=0,0,10*LOG(0.5*10^(E74/10)+0.5*10^(AG74/10))) -> 80.3 | F103: =IF(Leq!$E$21=0,0,10*LOG(0.5*10^(F74/10)+0.5*10^(AH74/10))) -> 83.171429 | G103: =IF(Leq!$E$21=0,0,10*LOG(0.5*10^(G74/10)+0.5*10^(AI74/10))) -> 89.171429 | H103: =IF(Leq!$E$21=0,0,10*LOG(0.5*10^(H74/10)+0.5*10^(AJ74/10))) -> 89.171429 | I103: =IF(Leq!$E$21=0,0,10*LOG(0.5*10^(I74/10)+0.5*10^(AK74/10))) -> 91.979575 | ... V103: =IF(Leq!$E$21=0,0,10*LOG(0.5*10^(V74/10)+0.5*10^(AX74/10))) -> 85.264476 | W103: =10*LOG(0.5*10^(W74/10)+0.5*10^(AY74/10)) -> 93.321619 | X103: =IF(Leq!$E$21=0,0,10*LOG(0.5*10^(X74/10)+0.5*10^(AZ74/10))) -> 81.464476 | Y103: =10*LOG(0.5*10^(Y74/10)+0.5*10^(BA74/10)) -> 0 | Z103: =10*LOG(0.5*10^(Z74/10)+0.5*10^(BB74/10)) -> 0 | AA103: =10*LOG(0.5*10^(AA74/10)+0.5*10^(BC74/10)) -> 0
A104: 250 | B104: =IF(Leq!$E$21=0,0,10*LOG(0.5*10^(B75/10)+0.5*10^(AD75/10))) -> 94.335904 | C104: =IF(Leq!$E$21=0,0,10*LOG(0.5*10^(C75/10)+0.5*10^(AE75/10))) -> 84.557143 | D104: =IF(Leq!$E$21=0,0,10*LOG(0.5*10^(D75/10)+0.5*10^(AF75/10))) -> 79.59 | E104: =IF(Leq!$E$21=0,0,10*LOG(0.5*10^(E75/10)+0.5*10^(AG75/10))) -> 80.8 | F104: =IF(Leq!$E$21=0,0,10*LOG(0.5*10^(F75/10)+0.5*10^(AH75/10))) -> 83.171429 | G104: =IF(Leq!$E$21=0,0,10*LOG(0.5*10^(G75/10)+0.5*10^(AI75/10))) -> 89.171429 | H104: =IF(Leq!$E$21=0,0,10*LOG(0.5*10^(H75/10)+0.5*10^(AJ75/10))) -> 89.171429 | I104: =IF(Leq!$E$21=0,0,10*LOG(0.5*10^(I75/10)+0.5*10^(AK75/10))) -> 94.079575 | ... V104: =IF(Leq!$E$21=0,0,10*LOG(0.5*10^(V75/10)+0.5*10^(AX75/10))) -> 81.378762 | W104: =10*LOG(0.5*10^(W75/10)+0.5*10^(AY75/10)) -> 90.807333 | X104: =IF(Leq!$E$21=0,0,10*LOG(0.5*10^(X75/10)+0.5*10^(AZ75/10))) -> 74.678762 | Y104: =10*LOG(0.5*10^(Y75/10)+0.5*10^(BA75/10)) -> 0 | Z104: =10*LOG(0.5*10^(Z75/10)+0.5*10^(BB75/10)) -> 0 | AA104: =10*LOG(0.5*10^(AA75/10)+0.5*10^(BC75/10)) -> 0
A105: 315 | B105: =IF(Leq!$E$21=0,0,10*LOG(0.5*10^(B76/10)+0.5*10^(AD76/10))) -> 93.835904 | C105: =IF(Leq!$E$21=0,0,10*LOG(0.5*10^(C76/10)+0.5*10^(AE76/10))) -> 79.857143 | D105: =IF(Leq!$E$21=0,0,10*LOG(0.5*10^(D76/10)+0.5*10^(AF76/10))) -> 79.09 | E105: =IF(Leq!$E$21=0,0,10*LOG(0.5*10^(E76/10)+0.5*10^(AG76/10))) -> 80.3 | F105: =IF(Leq!$E$21=0,0,10*LOG(0.5*10^(F76/10)+0.5*10^(AH76/10))) -> 83.171429 | G105: =IF(Leq!$E$21=0,0,10*LOG(0.5*10^(G76/10)+0.5*10^(AI76/10))) -> 89.171429 | H105: =IF(Leq!$E$21=0,0,10*LOG(0.5*10^(H76/10)+0.5*10^(AJ76/10))) -> 89.171429 | I105: =IF(Leq!$E$21=0,0,10*LOG(0.5*10^(I76/10)+0.5*10^(AK76/10))) -> 95.679575 | ... V105: =IF(Leq!$E$21=0,0,10*LOG(0.5*10^(V76/10)+0.5*10^(AX76/10))) -> 82.964476 | W105: =10*LOG(0.5*10^(W76/10)+0.5*10^(AY76/10)) -> 90.707333 | X105: =IF(Leq!$E$21=0,0,10*LOG(0.5*10^(X76/10)+0.5*10^(AZ76/10))) -> 57.321619 | Y105: =10*LOG(0.5*10^(Y76/10)+0.5*10^(BA76/10)) -> 0 | Z105: =10*LOG(0.5*10^(Z76/10)+0.5*10^(BB76/10)) -> 0 | AA105: =10*LOG(0.5*10^(AA76/10)+0.5*10^(BC76/10)) -> 0
A106: 400 | B106: =IF(Leq!$E$21=0,0,10*LOG(0.5*10^(B77/10)+0.5*10^(AD77/10))) -> 95.221619 | C106: =IF(Leq!$E$21=0,0,10*LOG(0.5*10^(C77/10)+0.5*10^(AE77/10))) -> 81.457143 | D106: =IF(Leq!$E$21=0,0,10*LOG(0.5*10^(D77/10)+0.5*10^(AF77/10))) -> 77.457143 | E106: =IF(Leq!$E$21=0,0,10*LOG(0.5*10^(E77/10)+0.5*10^(AG77/10))) -> 78.714286 | F106: =IF(Leq!$E$21=0,0,10*LOG(0.5*10^(F77/10)+0.5*10^(AH77/10))) -> 83.142857 | G106: =IF(Leq!$E$21=0,0,10*LOG(0.5*10^(G77/10)+0.5*10^(AI77/10))) -> 89.142857 | H106: =IF(Leq!$E$21=0,0,10*LOG(0.5*10^(H77/10)+0.5*10^(AJ77/10))) -> 89.142857 | I106: =IF(Leq!$E$21=0,0,10*LOG(0.5*10^(I77/10)+0.5*10^(AK77/10))) -> 93.902432 | ... V106: =IF(Leq!$E$21=0,0,10*LOG(0.5*10^(V77/10)+0.5*10^(AX77/10))) -> 82.264476 | W106: =10*LOG(0.5*10^(W77/10)+0.5*10^(AY77/10)) -> 94.935904 | X106: =IF(Leq!$E$21=0,0,10*LOG(0.5*10^(X77/10)+0.5*10^(AZ77/10))) -> 79.85019 | Y106: =10*LOG(0.5*10^(Y77/10)+0.5*10^(BA77/10)) -> 0 | Z106: =10*LOG(0.5*10^(Z77/10)+0.5*10^(BB77/10)) -> 0 | AA106: =10*LOG(0.5*10^(AA77/10)+0.5*10^(BC77/10)) -> 0
A107: 500 | B107: =IF(Leq!$E$21=0,0,10*LOG(0.5*10^(B78/10)+0.5*10^(AD78/10))) -> 90.721619 | C107: =IF(Leq!$E$21=0,0,10*LOG(0.5*10^(C78/10)+0.5*10^(AE78/10))) -> 82.142857 | D107: =IF(Leq!$E$21=0,0,10*LOG(0.5*10^(D78/10)+0.5*10^(AF78/10))) -> 77.457143 | E107: =IF(Leq!$E$21=0,0,10*LOG(0.5*10^(E78/10)+0.5*10^(AG78/10))) -> 78.714286 | F107: =IF(Leq!$E$21=0,0,10*LOG(0.5*10^(F78/10)+0.5*10^(AH78/10))) -> 81.642857 | G107: =IF(Leq!$E$21=0,0,10*LOG(0.5*10^(G78/10)+0.5*10^(AI78/10))) -> 89.142857 | H107: =IF(Leq!$E$21=0,0,10*LOG(0.5*10^(H78/10)+0.5*10^(AJ78/10))) -> 89.142857 | I107: =IF(Leq!$E$21=0,0,10*LOG(0.5*10^(I78/10)+0.5*10^(AK78/10))) -> 95.902432 | ... V107: =IF(Leq!$E$21=0,0,10*LOG(0.5*10^(V78/10)+0.5*10^(AX78/10))) -> 80.064476 | W107: =10*LOG(0.5*10^(W78/10)+0.5*10^(AY78/10)) -> 96.321619 | X107: =IF(Leq!$E$21=0,0,10*LOG(0.5*10^(X78/10)+0.5*10^(AZ78/10))) -> 57.321619 | Y107: =10*LOG(0.5*10^(Y78/10)+0.5*10^(BA78/10)) -> 0 | Z107: =10*LOG(0.5*10^(Z78/10)+0.5*10^(BB78/10)) -> 0 | AA107: =10*LOG(0.5*10^(AA78/10)+0.5*10^(BC78/10)) -> 0
A108: 630 | B108: =IF(Leq!$E$21=0,0,10*LOG(0.5*10^(B79/10)+0.5*10^(AD79/10))) -> 89.721619 | C108: =IF(Leq!$E$21=0,0,10*LOG(0.5*10^(C79/10)+0.5*10^(AE79/10))) -> 83.357143 | D108: =IF(Leq!$E$21=0,0,10*LOG(0.5*10^(D79/10)+0.5*10^(AF79/10))) -> 79.957143 | E108: =IF(Leq!$E$21=0,0,10*LOG(0.5*10^(E79/10)+0.5*10^(AG79/10))) -> 81.214286 | F108: =IF(Leq!$E$21=0,0,10*LOG(0.5*10^(F79/10)+0.5*10^(AH79/10))) -> 80.642857 | G108: =IF(Leq!$E$21=0,0,10*LOG(0.5*10^(G79/10)+0.5*10^(AI79/10))) -> 89.142857 | H108: =IF(Leq!$E$21=0,0,10*LOG(0.5*10^(H79/10)+0.5*10^(AJ79/10))) -> 89.142857 | I108: =IF(Leq!$E$21=0,0,10*LOG(0.5*10^(I79/10)+0.5*10^(AK79/10))) -> 95.302432 | ... V108: =IF(Leq!$E$21=0,0,10*LOG(0.5*10^(V79/10)+0.5*10^(AX79/10))) -> 74.293047 | W108: =10*LOG(0.5*10^(W79/10)+0.5*10^(AY79/10)) -> 97.121619 | X108: =IF(Leq!$E$21=0,0,10*LOG(0.5*10^(X79/10)+0.5*10^(AZ79/10))) -> 57.321619 | Y108: =10*LOG(0.5*10^(Y79/10)+0.5*10^(BA79/10)) -> 0 | Z108: =10*LOG(0.5*10^(Z79/10)+0.5*10^(BB79/10)) -> 0 | AA108: =10*LOG(0.5*10^(AA79/10)+0.5*10^(BC79/10)) -> 0
... A120: 10000 | B120: =IF(Leq!$E$21=0,0,10*LOG(0.5*10^(B91/10)+0.5*10^(AD91/10))) -> 58.721619 | C120: =IF(Leq!$E$21=0,0,10*LOG(0.5*10^(C91/10)+0.5*10^(AE91/10))) -> 74.757143 | D120: =IF(Leq!$E$21=0,0,10*LOG(0.5*10^(D91/10)+0.5*10^(AF91/10))) -> 56.457143 | E120: =IF(Leq!$E$21=0,0,10*LOG(0.5*10^(E91/10)+0.5*10^(AG91/10))) -> 57.714286 | F120: =IF(Leq!$E$21=0,0,10*LOG(0.5*10^(F91/10)+0.5*10^(AH91/10))) -> 66.142857 | G120: =IF(Leq!$E$21=0,0,10*LOG(0.5*10^(G91/10)+0.5*10^(AI91/10))) -> 76.042857 | H120: =IF(Leq!$E$21=0,0,10*LOG(0.5*10^(H91/10)+0.5*10^(AJ91/10))) -> 76.042857 | I120: =IF(Leq!$E$21=0,0,10*LOG(0.5*10^(I91/10)+0.5*10^(AK91/10))) -> 75.702432 | ... V120: =IF(Leq!$E$21=0,0,10*LOG(0.5*10^(V91/10)+0.5*10^(AX91/10))) -> 66.564476 | W120: =10*LOG(0.5*10^(W91/10)+0.5*10^(AY91/10)) -> 83.45019 | X120: =IF(Leq!$E$21=0,0,10*LOG(0.5*10^(X91/10)+0.5*10^(AZ91/10))) -> 62.064476 | Y120: =10*LOG(0.5*10^(Y91/10)+0.5*10^(BA91/10)) -> 0 | Z120: =10*LOG(0.5*10^(Z91/10)+0.5*10^(BB91/10)) -> 0 | AA120: =10*LOG(0.5*10^(AA91/10)+0.5*10^(BC91/10)) -> 0

Sheet Rollgeräusch
C11: vorgegeben
C12: eingebbar | S12: Hess | T12: Hess | Y12: Tram | Z12: Tram | AA12: Tram
C13: berechnet | M13: Man A40 | N13: Neoplan | O13: Merce- | P13: MAN | Q13: Volvo | R13: Swiss | S13: ligh Tram | T13: ligh Tram | U13: Batterie- | V13: Batterie- | W13: Tram | X13: Bus
C14: Berechnung mit Rechenbeispielen geprüft | L14: Citaro | M14: Lions | N14: Centro- | O14: des | P14: A 35 | Q14: 7900H | R14: Trolley | S14: 3 Longo | T14: 3 Longo 2 | U14: bus | V14: bus | W14: Zürich | X14: Caetano
L15: O 350 | M15: City | N15: liner | O15: O 530 | P15: Midibus | R15: 3 | S15: Doppel- | T15: Doppel- | U15: SOR EBN 8 | V15: Volvo | W15: Cobra
A16: vref | B16: 70 | C16: km/h | L16: Gelenk- | M16: Gelenk- | N16: Gelenk- | O16: Stand- | P16: Stand- | R16: Gelenk- | S16: Gelenk- | T16: Gelenk- | V16: 7900 EH
L17: bus | M17: bus | N17: bus | O17: ardbus | P17: ardbus | Q17: Hybrid | R17: trolley | S17: trolley | T17: trolley
A18: v(c) | B18: cat 1 | C18: cat 2 | D18: cat 3 | E18: cat 4 | F18: cat 5 | G18: cat 6 | H18: cat 7 | I18: cat 8 | J18: cat 9 | K18: cat 10 | L18: Diesel | M18: Diesel | N18: Diesel | O18: Diesel | P18: Diesel | R18: Elektro | S18: Elektro | T18: Elektro | U18: Elektro | V18: Elektro | W18: Tram
A19: aufwärts [km/h] | B19: =Antriebsgeräusch!B19 -> 50 | C19: =Antriebsgeräusch!C19 -> 30 | D19: =Antriebsgeräusch!D19 -> 39 | E19: =Antriebsgeräusch!E19 -> 50 | F19: =Antriebsgeräusch!F19 -> 50 | G19: =Antriebsgeräusch!G19 -> 50 | H19: =Antriebsgeräusch!H19 -> 50 | I19: =Antriebsgeräusch!I19 -> 39 | ... V19: =Antriebsgeräusch!V19 -> 50 | W19: 50 | X19: =Antriebsgeräusch!X19 -> 50 | Y19: =Antriebsgeräusch!Y19 -> 50 | Z19: =Antriebsgeräusch!Z19 -> 50 | AA19: =Antriebsgeräusch!AA19 -> 50
A20: abwärts [km/h] | B20: =Antriebsgeräusch!B20 -> 50 | C20: =Antriebsgeräusch!C20 -> 30 | D20: =Antriebsgeräusch!D20 -> 39 | E20: =Antriebsgeräusch!E20 -> 50 | F20: =Antriebsgeräusch!F20 -> 50 | G20: =Antriebsgeräusch!G20 -> 50 | H20: =Antriebsgeräusch!H20 -> 50 | I20: =Antriebsgeräusch!I20 -> 39 | ... V20: =Antriebsgeräusch!V20 -> 50 | W20: 50 | X20: =Antriebsgeräusch!X20 -> 50 | Y20: =Antriebsgeräusch!Y20 -> 50 | Z20: =Antriebsgeräusch!Z20 -> 50 | AA20: =Antriebsgeräusch!AA20 -> 50
A23: Belagszuschlag
AH24: selbst
A25: Belagstyp | B25: Test | AC25: Konstanten | AH25: wählbar
A26: ∆Lw,R,road ( i) | C26: cat 2 | D26: cat 3 | E26: cat 4 | F26: cat 5 | G26: cat 6 | H26: cat 7 | I26: cat 8 | J26: cat 9 | K26: cat 10 | AC26: ACMR8 | AD26: SDA4 | AE26: AB11 | AF26: PMA | AG26: Beton | AH26: Test | AI26: Kb50 0 | AJ26: Kb50+1 | AK26: Kb50-3 | AL26: Kb50-5 | AN26: Kb50+2
A27: 50 | B27: =IF($B$25="ACMR8",$AC27,IF($B$25="SDA4",$AD27,IF($B$25="AB11",$AE27,IF($B$25="PMA",$AF27,IF($B$25="Beton",$AG27,IF($B$25="Test",$AH27,999)))))) -> 1.8 | C27: =$B27 -> 1.8 | D27: =$B27 -> 1.8 | E27: =$B27 -> 1.8 | F27: =$B27 -> 1.8 | G27: =$B27 -> 1.8 | H27: =$B27 -> 1.8 | I27: =$B27 -> 1.8 | J27: =$B27 -> 1.8 | ... AA27: =$B27 -> 1.8 | AC27: 0 | AD27: -3 | AE27: 1 | AF27: 1 | AG27: 9 | AH27: 1.8 | AI27: 1 | AJ27: 1.8 | AK27: -1.5 | AL27: -3.1 | AN27: 3.3
A28: 63 | B28: =IF($B$25="ACMR8",$AC28,IF($B$25="SDA4",$AD28,IF($B$25="AB11",$AE28,IF($B$25="PMA",$AF28,IF($B$25="Beton",$AG28,IF($B$25="Test",$AH28,999)))))) -> 1.8 | C28: =$B28 -> 1.8 | D28: =$B28 -> 1.8 | E28: =$B28 -> 1.8 | F28: =$B28 -> 1.8 | G28: =$B28 -> 1.8 | H28: =$B28 -> 1.8 | I28: =$B28 -> 1.8 | J28: =$B28 -> 1.8 | ... AA28: =$B28 -> 1.8 | AC28: 0 | AD28: -3 | AE28: =$B$24 -> 0 | AF28: =$B$24 -> 0 | AG28: 9 | AH28: 1.8 | AI28: 1 | AJ28: 1.8 | AK28: -1.5 | AL28: -3.1 | AN28: 3.3
A29: 80 | B29: =IF($B$25="ACMR8",$AC29,IF($B$25="SDA4",$AD29,IF($B$25="AB11",$AE29,IF($B$25="PMA",$AF29,IF($B$25="Beton",$AG29,IF($B$25="Test",$AH29,999)))))) -> 1.8 | C29: =$B29 -> 1.8 | D29: =$B29 -> 1.8 | E29: =$B29 -> 1.8 | F29: =$B29 -> 1.8 | G29: =$B29 -> 1.8 | H29: =$B29 -> 1.8 | I29: =$B29 -> 1.8 | J29: =$B29 -> 1.8 | ... AA29: =$B29 -> 1.8 | AC29: 0 | AD29: -3 | AE29: =$B$24 -> 0 | AF29: =$B$24 -> 0 | AG29: 9 | AH29: 1.8 | AI29: 1 | AJ29: 1.8 | AK29: -1.5 | AL29: -3.1 | AN29: 3.3
A30: 100 | B30: =IF($B$25="ACMR8",$AC30,IF($B$25="SDA4",$AD30,IF($B$25="AB11",$AE30,IF($B$25="PMA",$AF30,IF($B$25="Beton",$AG30,IF($B$25="Test",$AH30,999)))))) -> 1.8 | C30: =$B30 -> 1.8 | D30: =$B30 -> 1.8 | E30: =$B30 -> 1.8 | F30: =$B30 -> 1.8 | G30: =$B30 -> 1.8 | H30: =$B30 -> 1.8 | I30: =$B30 -> 1.8 | J30: =$B30 -> 1.8 | ... AA30: =$B30 -> 1.8 | AC30: 0 | AD30: -2.9 | AE30: 1.1 | AF30: 1.1 | AG30: 9.1 | AH30: 1.8 | AI30: 1 | AJ30: 1.8 | AK30: -1.5 | AL30: -3.1 | AN30: 3.3
A31: 125 | B31: =IF($B$25="ACMR8",$AC31,IF($B$25="SDA4",$AD31,IF($B$25="AB11",$AE31,IF($B$25="PMA",$AF31,IF($B$25="Beton",$AG31,IF($B$25="Test",$AH31,999)))))) -> 1.8 | C31: =$B31 -> 1.8 | D31: =$B31 -> 1.8 | E31: =$B31 -> 1.8 | F31: =$B31 -> 1.8 | G31: =$B31 -> 1.8 | H31: =$B31 -> 1.8 | I31: =$B31 -> 1.8 | J31: =$B31 -> 1.8 | ... AA31: =$B31 -> 1.8 | AC31: 0 | AD31: -3.6 | AE31: =$B$24 -> 0 | AF31: 0.6 | AG31: 8.7 | AH31: 1.8 | AI31: 1 | AJ31: 1.8 | AK31: -1.5 | AL31: -3.1 | AN31: 3.3
A32: 160 | B32: =IF($B$25="ACMR8",$AC32,IF($B$25="SDA4",$AD32,IF($B$25="AB11",$AE32,IF($B$25="PMA",$AF32,IF($B$25="Beton",$AG32,IF($B$25="Test",$AH32,999)))))) -> 1.8 | C32: =$B32 -> 1.8 | D32: =$B32 -> 1.8 | E32: =$B32 -> 1.8 | F32: =$B32 -> 1.8 | G32: =$B32 -> 1.8 | H32: =$B32 -> 1.8 | I32: =$B32 -> 1.8 | J32: =$B32 -> 1.8 | ... AA32: =$B32 -> 1.8 | AC32: 0 | AD32: -4.3 | AE32: 1.1 | AF32: 0 | AG32: 8.9 | AH32: 1.8 | AI32: 1 | AJ32: 1.8 | AK32: -1.5 | AL32: -3.1 | AN32: 3.3
A33: 200 | B33: =IF($B$25="ACMR8",$AC33,IF($B$25="SDA4",$AD33,IF($B$25="AB11",$AE33,IF($B$25="PMA",$AF33,IF($B$25="Beton",$AG33,IF($B$25="Test",$AH33,999)))))) -> 1.8 | C33: =$B33 -> 1.8 | D33: =$B33 -> 1.8 | E33: =$B33 -> 1.8 | F33: =$B33 -> 1.8 | G33: =$B33 -> 1.8 | H33: =$B33 -> 1.8 | I33: =$B33 -> 1.8 | J33: =$B33 -> 1.8 | ... AA33: =$B33 -> 1.8 | AC33: 0 | AD33: -4.3 | AE33: 1.2 | AF33: 0.3 | AG33: 8.9 | AH33: 1.8 | AI33: 1 | AJ33: 1.8 | AK33: -1.5 | AL33: -3.1 | AN33: 3.3
A34: 250 | B34: =IF($B$25="ACMR8",$AC34,IF($B$25="SDA4",$AD34,IF($B$25="AB11",$AE34,IF($B$25="PMA",$AF34,IF($B$25="Beton",$AG34,IF($B$25="Test",$AH34,999)))))) -> 1.8 | C34: =$B34 -> 1.8 | D34: =$B34 -> 1.8 | E34: =$B34 -> 1.8 | F34: =$B34 -> 1.8 | G34: =$B34 -> 1.8 | H34: =$B34 -> 1.8 | I34: =$B34 -> 1.8 | J34: =$B34 -> 1.8 | ... AA34: =$B34 -> 1.8 | AC34: 0 | AD34: -5.1 | AE34: 1.2 | AF34: -1.1 | AG34: 8.5 | AH34: 1.8 | AI34: 1 | AJ34: 1.8 | AK34: -1.5 | AL34: -3.1 | AN34: 3.3
A35: 315 | B35: =IF($B$25="ACMR8",$AC35,IF($B$25="SDA4",$AD35,IF($B$25="AB11",$AE35,IF($B$25="PMA",$AF35,IF($B$25="Beton",$AG35,IF($B$25="Test",$AH35,999)))))) -> 1.8 | C35: =$B35 -> 1.8 | D35: =$B35 -> 1.8 | E35: =$B35 -> 1.8 | F35: =$B35 -> 1.8 | G35: =$B35 -> 1.8 | H35: =$B35 -> 1.8 | I35: =$B35 -> 1.8 | J35: =$B35 -> 1.8 | ... AA35: =$B35 -> 1.8 | AC35: 0 | AD35: -5.8 | AE35: 1.4 | AF35: -1.5 | AG35: 8.1 | AH35: 1.8 | AI35: 1 | AJ35: 1.8 | AK35: -1.5 | AL35: -3.1 | AN35: 3.3
A36: 400 | B36: =IF($B$25="ACMR8",$AC36,IF($B$25="SDA4",$AD36,IF($B$25="AB11",$AE36,IF($B$25="PMA",$AF36,IF($B$25="Beton",$AG36,IF($B$25="Test",$AH36,999)))))) -> 1.2 | C36: =$B36 -> 1.2 | D36: =$B36 -> 1.2 | E36: =$B36 -> 1.2 | F36: =$B36 -> 1.2 | G36: =$B36 -> 1.2 | H36: =$B36 -> 1.2 | I36: =$B36 -> 1.2 | J36: =$B36 -> 1.2 | ... AA36: =$B36 -> 1.2 | AC36: 0 | AD36: -6.1 | AE36: 1.3 | AF36: -1.4 | AG36: 7.4 | AH36: 1.2 | AI36: 0.5 | AJ36: 1.2 | AK36: -0.1 | AL36: -0.2 | AN36: 2.3
A37: 500 | B37: =IF($B$25="ACMR8",$AC37,IF($B$25="SDA4",$AD37,IF($B$25="AB11",$AE37,IF($B$25="PMA",$AF37,IF($B$25="Beton",$AG37,IF($B$25="Test",$AH37,999)))))) -> 0 | C37: =$B37 -> 0 | D37: =$B37 -> 0 | E37: =$B37 -> 0 | F37: =$B37 -> 0 | G37: =$B37 -> 0 | H37: =$B37 -> 0 | I37: =$B37 -> 0 | J37: =$B37 -> 0 | ... AA37: =$B37 -> 0 | AC37: 0 | AD37: -7.8 | AE37: 1.2 | AF37: -1.7 | AG37: 6.5 | AH37: 0 | AI37: 0 | AJ37: 0 | AK37: 0 | AL37: 0 | AN37: 1.2
A38: 630 | B38: =IF($B$25="ACMR8",$AC38,IF($B$25="SDA4",$AD38,IF($B$25="AB11",$AE38,IF($B$25="PMA",$AF38,IF($B$25="Beton",$AG38,IF($B$25="Test",$AH38,999)))))) -> 3 | C38: =$B38 -> 3 | D38: =$B38 -> 3 | E38: =$B38 -> 3 | F38: =$B38 -> 3 | G38: =$B38 -> 3 | H38: =$B38 -> 3 | I38: =$B38 -> 3 | J38: =$B38 -> 3 | ... AA38: =$B38 -> 3 | AC38: 0 | AD38: -8.7 | AE38: 1.2 | AF38: -1.3 | AG38: 5.8 | AH38: 3 | AI38: 1.9 | AJ38: 3 | AK38: -0.6 | AL38: -1 | AN38: 4.3
A39: 800 | B39: =IF($B$25="ACMR8",$AC39,IF($B$25="SDA4",$AD39,IF($B$25="AB11",$AE39,IF($B$25="PMA",$AF39,IF($B$25="Beton",$AG39,IF($B$25="Test",$AH39,999)))))) -> 1.9 | C39: =$B39 -> 1.9 | D39: =$B39 -> 1.9 | E39: =$B39 -> 1.9 | F39: =$B39 -> 1.9 | G39: =$B39 -> 1.9 | H39: =$B39 -> 1.9 | I39: =$B39 -> 1.9 | J39: =$B39 -> 1.9 | ... AA39: =$B39 -> 1.9 | AC39: 0 | AD39: -10.7 | AE39: 0.8 | AF39: -1.3 | AG39: 5 | AH39: 1.9 | AI39: 1.1 | AJ39: 1.9 | AK39: -1.5 | AL39: -4 | AN39: 3
A40: 1000 | B40: =IF($B$25="ACMR8",$AC40,IF($B$25="SDA4",$AD40,IF($B$25="AB11",$AE40,IF($B$25="PMA",$AF40,IF($B$25="Beton",$AG40,IF($B$25="Test",$AH40,999)))))) -> 3.3 | C40: =$B40 -> 3.3 | D40: =$B40 -> 3.3 | E40: =$B40 -> 3.3 | F40: =$B40 -> 3.3 | G40: =$B40 -> 3.3 | H40: =$B40 -> 3.3 | I40: =$B40 -> 3.3 | J40: =$B40 -> 3.3 | ... AA40: =$B40 -> 3.3 | AC40: 0 | AD40: -11.8 | AE40: 0.7 | AF40: -1.1 | AG40: 4.6 | AH40: 3.3 | AI40: 2.4 | AJ40: 3.3 | AK40: -0.7 | AL40: -4.7 | AN40: 4
A41: 1250 | B41: =IF($B$25="ACMR8",$AC41,IF($B$25="SDA4",$AD41,IF($B$25="AB11",$AE41,IF($B$25="PMA",$AF41,IF($B$25="Beton",$AG41,IF($B$25="Test",$AH41,999)))))) -> 3.6 | C41: =$B41 -> 3.6 | D41: =$B41 -> 3.6 | E41: =$B41 -> 3.6 | F41: =$B41 -> 3.6 | G41: =$B41 -> 3.6 | H41: =$B41 -> 3.6 | I41: =$B41 -> 3.6 | J41: =$B41 -> 3.6 | ... AA41: =$B41 -> 3.6 | AC41: 0 | AD41: -12.5 | AE41: 0.5 | AF41: 0.1 | AG41: 4.1 | AH41: 3.6 | AI41: 2.7 | AJ41: 3.6 | AK41: -0.7 | AL41: -4.3 | AN41: 4.4
A42: 1600 | B42: =IF($B$25="ACMR8",$AC42,IF($B$25="SDA4",$AD42,IF($B$25="AB11",$AE42,IF($B$25="PMA",$AF42,IF($B$25="Beton",$AG42,IF($B$25="Test",$AH42,999)))))) -> 2.1 | C42: =$B42 -> 2.1 | D42: =$B42 -> 2.1 | E42: =$B42 -> 2.1 | F42: =$B42 -> 2.1 | G42: =$B42 -> 2.1 | H42: =$B42 -> 2.1 | I42: =$B42 -> 2.1 | J42: =$B42 -> 2.1 | ... AA42: =$B42 -> 2.1 | AC42: 0 | AD42: -12.7 | AE42: 0.6 | AF42: 1 | AG42: 4 | AH42: 2.1 | AI42: 1.5 | AJ42: 2.1 | AK42: -0.1 | AL42: -4.3 | AN42: 2.4
A43: 2000 | B43: =IF($B$25="ACMR8",$AC43,IF($B$25="SDA4",$AD43,IF($B$25="AB11",$AE43,IF($B$25="PMA",$AF43,IF($B$25="Beton",$AG43,IF($B$25="Test",$AH43,999)))))) -> 1.4 | C43: =$B43 -> 1.4 | D43: =$B43 -> 1.4 | E43: =$B43 -> 1.4 | F43: =$B43 -> 1.4 | G43: =$B43 -> 1.4 | H43: =$B43 -> 1.4 | I43: =$B43 -> 1.4 | J43: =$B43 -> 1.4 | ... AA43: =$B43 -> 1.4 | AC43: 0 | AD43: -12.6 | AE43: 0.9 | AF43: 1.4 | AG43: 4.2 | AH43: 1.4 | AI43: 1.1 | AJ43: 1.4 | AK43: 0.1 | AL43: -4.6 | AN43: 1.6
... A50: 10000 | B50: =IF($B$25="ACMR8",$AC50,IF($B$25="SDA4",$AD50,IF($B$25="AB11",$AE50,IF($B$25="PMA",$AF50,IF($B$25="Beton",$AG50,IF($B$25="Test",$AH50,999)))))) -> 1.6 | C50: =$B50 -> 1.6 | D50: =$B50 -> 1.6 | E50: =$B50 -> 1.6 | F50: =$B50 -> 1.6 | G50: =$B50 -> 1.6 | H50: =$B50 -> 1.6 | I50: =$B50 -> 1.6 | J50: =$B50 -> 1.6 | ... AA50: =$B50 -> 1.6 | AC50: 0 | AD50: -5.7 | AE50: 5.1 | AF50: 3.5 | AG50: 7.1 | AH50: 1.6 | AI50: 0.9 | AJ50: 1.6 | AK50: -0.9 | AL50: -3.8 | AN50: 2
A53: Beschleunigungszuschlag
A54: ∆Lw,R,acc ( c) | B54: cat 1 | C54: cat 2 | D54: cat 3 | E54: cat 4 | F54: cat 5 | G54: cat 6 | H54: cat 7 | I54: cat 8 | J54: cat 9 | K54: cat 10
A55: aufwärts [dB] | B55: 0 | C55: 0 | D55: 0 | E55: 0 | F55: 0 | G55: 0 | H55: 0 | I55: 0 | J55: 0 | K55: 0 | L55: 0 | M55: 0 | N55: 0 | O55: 0 | P55: 0 | Q55: 0 | R55: 0 | S55: 0 | T55: 0 | U55: 0 | V55: 0 | W55: 0 | X55: 0 | Y55: 0 | Z55: 0 | AA55: 0
A56: abwärts [dB] | B56: 0 | C56: 0 | D56: 0 | E56: 0 | F56: 0 | G56: 0 | H56: 0 | I56: 0 | J56: 0 | K56: 0 | L56: 0 | M56: 0 | N56: 0 | O56: 0 | P56: 0 | Q56: 0 | R56: 0 | S56: 0 | T56: 0 | U56: 0 | V56: 0 | W56: 0 | X56: 0 | Y56: 0 | Z56: 0 | AA56: 0
A60: Temperaturkorrektur
B61: cat 1 | C61: cat 2 | D61: cat 3 | E61: cat 4 | F61: cat 5 | G61: cat 6 | H61: cat 7 | I61: cat 8 | J61: cat 9 | K61: cat 10
A62: Lufttemperatur T | B62: 10 | C62: =$B$62 -> 10 | D62: =$B$62 -> 10 | E62: =$B$62 -> 10 | F62: =$B$62 -> 10 | G62: =$B$62 -> 10 | H62: =$B$62 -> 10 | I62: =$B$62 -> 10 | J62: =$B$62 -> 10 | ... AA62: =$B$62 -> 10
A63: K( c) | B63: 0.04 | C63: 0 | D63: 0.08 | E63: 0.08 | F63: 0.08 | G63: 0.08 | H63: 0.08 | I63: 0.04 | J63: 0.04 | K63: 0.04 | L63: =$B$63 -> 0.04 | M63: =$B$63 -> 0.04 | N63: =$B$63 -> 0.04 | O63: =$B$63 -> 0.04 | P63: =$B$63 -> 0.04 | Q63: =$B$63 -> 0.04 | R63: =$B$63 -> 0.04 | S63: =$B$63 -> 0.04 | ... AA63: =$B$63 -> 0.04
A64: ∆Lw,R,temp ( c) [dB] | B64: =B63*(10-B62) -> 0 | C64: =C63*(10-C62) -> 0 | D64: =D63*(10-D62) -> 0 | E64: =E63*(10-E62) -> 0 | F64: =F63*(10-F62) -> 0 | G64: =G63*(10-G62) -> 0 | H64: =H63*(10-H62) -> 0 | I64: =I63*(10-I62) -> 0 | ... AA64: =AA63*(10-AA62) -> 0
A67: Reifenkorrektur (ist noch nicht definiert)
A68: ∆Lw,R,tire ( c, Belag) | B68: cat 1 | C68: cat 2 | D68: cat 3 | E68: cat 4 | F68: cat 5 | G68: cat 6 | H68: cat 7 | I68: cat 8 | J68: cat 9 | K68: cat 10 | AU68: Hess | AV68: Hess | BA68: Tram | BB68: Tram | BC68: Tram
A69: aufwärts [dB] | B69: 0 | C69: 0 | D69: 0 | E69: 0 | F69: 0 | G69: 0 | H69: 0 | I69: 0 | J69: 0 | K69: 0 | L69: 0 | M69: 0 | N69: 0 | O69: 0 | P69: 0 | Q69: 0 | R69: 0 | S69: 0 | T69: 0 | U69: 0 | V69: 0 | W69: 0 | X69: 0 | Y69: 0 | Z69: 0 | AA69: 0 | AO69: Man A40 | AP69: Neoplan | AQ69: Merce- | AR69: MAN | AS69: Volvo | AT69: Swiss | AU69: ligh Tram | AV69: ligh Tram | AW69: Batterie- | AX69: Batterie- | AY69: Tram | AZ69: Bus
A70: abwärts [dB] | B70: 0 | C70: 0 | D70: 0 | E70: 0 | F70: 0 | G70: 0 | H70: 0 | I70: 0 | J70: 0 | K70: 0 | L70: 0 | M70: 0 | N70: 0 | O70: 0 | P70: 0 | Q70: 0 | R70: 0 | S70: 0 | T70: 0 | U70: 0 | V70: 0 | W70: 0 | X70: 0 | Y70: 0 | Z70: 0 | AA70: 0 | AN70: Citaro | AO70: Lions | AP70: Centro- | AQ70: des | AR70: A 35 | AS70: 7900H | AT70: Trolley | AU70: 3 Longo | AV70: 3 Longo 2 | AW70: bus | AX70: bus | AY70: Zürich | AZ70: Caetano
AN71: O 350 | AO71: City | AP71: liner | AQ71: O 530 | AR71: Midibus | AT71: 3 | AU71: Doppel- | AV71: Doppel- | AW71: SOR EBN 8 | AX71: Volvo | AY71: Cobra
AN72: Gelenk- | AO72: Gelenk- | AP72: Gelenk- | AQ72: Stand- | AR72: Stand- | AT72: Gelenk- | AU72: Gelenk- | AV72: Gelenk- | AX72: 7900 EH
A73: Konstanten | AN73: bus | AO73: bus | AP73: bus | AQ73: ardbus | AR73: ardbus | AS73: Hybrid | AT73: trolley | AU73: trolley | AV73: trolley
A74: AR | B74: cat 1 | C74: cat 2 | D74: cat 3 | E74: cat 4 | F74: cat 5 | G74: cat 6 | H74: cat 7 | I74: cat 8 | J74: cat 9 | K74: cat 10 | AC74: BR | AD74: cat 1 | AE74: cat 2 | AF74: cat 3 | AG74: cat 4 | AH74: cat 5 | AI74: cat 6 | AJ74: cat 7 | AK74: cat 8 | AL74: cat 9 | AM74: cat 10 | AN74: Diesel | AO74: Diesel | AP74: Diesel | AQ74: Diesel | AR74: Diesel | AT74: Elektro | AU74: Elektro | AV74: Elektro | AW74: Elektro | AX74: Elektro | AY74: Tram
A75: 50 | B75: 83.9 | C75: 84 | D75: 85.5 | E75: 90 | F75: 87 | G75: 92.6 | H75: 93.8 | I75: 87.8 | J75: 92.6 | K75: 92.6 | L75: 60 | M75: 97 | N75: 99 | O75: 60 | P75: 101.3 | Q75: 60 | R75: 105.7 | S75: 107.8 | T75: 105.7 | U75: 92.6 | V75: 95 | W75: -99.9 | X75: 94.8 | AC75: 50 | AD75: 25 | AE75: 25 | AF75: 25 | AG75: 25 | AH75: 25 | AI75: 25 | AJ75: 25 | AK75: 25 | AL75: 25 | AM75: 25 | AN75: 39.3 | AO75: 39.8 | AP75: 39.8 | AQ75: 39.3 | AR75: 25 | AS75: 39.3 | AT75: 39.3 | AU75: 39.3 | AV75: 39.3 | AW75: 28.4 | AX75: 38 | AY75: 0 | AZ75: 25
A76: 63 | B76: 97.2 | C76: 93.4 | D76: 90.5 | E76: 95.8 | F76: 89 | G76: 96.4 | H76: 101.9 | I76: 90 | J76: 91.8 | K76: 91.8 | L76: 99.1 | M76: 97 | N76: 105 | O76: 99.1 | P76: 100 | Q76: 97 | R76: 101.3 | S76: 101.3 | T76: 101.3 | U76: 86.1 | V76: 95 | W76: -99.9 | X76: 94.8 | AC76: 63 | AD76: 38.1 | AE76: 25 | AF76: 25 | AG76: 25 | AH76: 25 | AI76: 25 | AJ76: 25 | AK76: 40 | AL76: 40 | AM76: 40 | AN76: 25 | AO76: 33.1 | AP76: 32.4 | AQ76: 34.6 | AR76: 39.6 | AS76: 39.3 | AT76: 39.3 | AU76: 39.3 | AV76: 39.3 | AW76: 25 | AX76: 30.4 | AY76: 0 | AZ76: 29.5
A77: 80 | B77: 96.9 | C77: 93.4 | D77: 90.5 | E77: 93.5 | F77: 91.5 | G77: 94.9 | H77: 99.6 | I77: 90 | J77: 90.7 | K77: 90.7 | L77: 97 | M77: 97 | N77: 105.7 | O77: 92.6 | P77: 100 | Q77: 90.4 | R77: 90.4 | S77: 92.6 | T77: 83.9 | U77: 88.3 | V77: 95 | W77: -99.9 | X77: 92.6 | AC77: 80 | AD77: 40 | AE77: 25 | AF77: 27.3 | AG77: 27.3 | AH77: 27 | AI77: 27 | AJ77: 27 | AK77: 40 | AL77: 40 | AM77: 40 | AN77: 39.8 | AO77: 39.8 | AP77: 39.8 | AQ77: 39.8 | AR77: 39.8 | AS77: 26.3 | AT77: 26.3 | AU77: 25.7 | AV77: 39.3 | AW77: 25 | AX77: 40 | AY77: 0 | AZ77: 28.6
A78: 100 | B78: 94.3 | C78: 90.2 | D78: 88.4 | E78: 91.1 | F78: 88.4 | G78: 91.3 | H78: 93.8 | I78: 89.9 | J78: 91.8 | K78: 91.8 | L78: 94.8 | M78: 97 | N78: 99.1 | O78: 81.7 | P78: 101.3 | Q78: 92.6 | R78: 97 | S78: 97 | T78: 99.1 | U78: 97 | V78: 92.6 | W78: -99.9 | X78: 92.6 | AC78: 100 | AD78: 40 | AE78: 25 | AF78: 29.5 | AG78: 29.5 | AH78: 25 | AI78: 25 | AJ78: 25 | AK78: 25 | AL78: 25 | AM78: 25 | AN78: 37.1 | AO78: 39.8 | AP78: 39.8 | AQ78: 39.8 | AR78: 25 | AS78: 39.3 | AT78: 39.3 | AU78: 36.1 | AV78: 38 | AW78: 39.8 | AX78: 39.3 | AY78: 0 | AZ78: 25
A79: 125 | B79: 82.3 | C79: 88.7 | D79: 86.5 | E79: 90.4 | F79: 90 | G79: 89.4 | H79: 94.8 | I79: 90.4 | J79: 92.5 | K79: 92.5 | L79: 94.8 | M79: 97 | N79: 99.1 | O79: 92.6 | P79: 99.1 | Q79: 86.1 | R79: 94.8 | S79: 94.8 | T79: 101.3 | U79: 97 | V79: 88.3 | W79: -99.9 | X79: 90.4 | AC79: 125 | AD79: 25 | AE79: 25.5 | AF79: 36.5 | AG79: 36.5 | AH79: 30 | AI79: 30 | AJ79: 30 | AK79: 25 | AL79: 25 | AM79: 25 | AN79: 30.8 | AO79: 39.8 | AP79: 26.3 | AQ79: 39.8 | AR79: 39.8 | AS79: 27 | AT79: 38 | AU79: 39.3 | AV79: 39.3 | AW79: 39.8 | AX79: 25 | AY79: 0 | AZ79: 25
A80: 160 | B80: 93.8 | C80: 85.5 | D80: 84.9 | E80: 88.5 | F80: 89.4 | G80: 85.7 | H80: 93.4 | I80: 91.6 | J80: 92.2 | K80: 92.2 | L80: 94.8 | M80: 97 | N80: 101.3 | O80: 92.6 | P80: 99.1 | Q80: 88.3 | R80: 86.1 | S80: 92.6 | T80: 92.6 | U80: 90.4 | V80: 86 | W80: -99.9 | X80: 88.3 | AC80: 160 | AD80: 32 | AE80: 25 | AF80: 36.4 | AG80: 36.4 | AH80: 28 | AI80: 28 | AJ80: 28 | AK80: 25 | AL80: 25 | AM80: 25 | AN80: 25 | AO80: 39.8 | AP80: 31.3 | AQ80: 39.8 | AR80: 39.8 | AS80: 39.3 | AT80: 39.3 | AU80: 39.3 | AV80: 39.3 | AW80: 39.8 | AX80: 40 | AY80: 0 | AZ80: 25
A81: 200 | B81: 98.8 | C81: 93.2 | D81: 85.3 | E81: 88.6 | F81: 88.8 | G81: 86 | H81: 93.6 | I81: 92.9 | J81: 94.2 | K81: 94.2 | L81: 84.8 | M81: 97 | N81: 97 | O81: 92.6 | P81: 99.1 | Q81: 90.4 | R81: 60 | S81: 60 | T81: 79.6 | U81: 92.6 | V81: 83 | W81: -99.9 | X81: 88 | AC81: 200 | AD81: 25 | AE81: 25 | AF81: 32 | AG81: 32 | AH81: 25 | AI81: 25 | AJ81: 25 | AK81: 25 | AL81: 25 | AM81: 25 | AN81: 25 | AO81: 39.8 | AP81: 26.8 | AQ81: 39.8 | AR81: 39.8 | AS81: 39.3 | AT81: 39.3 | AU81: 25 | AV81: 25 | AW81: 30.8 | AX81: 40 | AY81: 0 | AZ81: 25
A82: 250 | B82: 91.9 | C82: 93.4 | D82: 86 | E82: 89.9 | F82: 89 | G82: 86.1 | H82: 95.1 | I82: 91.8 | J82: 90.9 | K82: 90.9 | L82: 94.8 | M82: 97 | N82: 98 | O82: 92.6 | P82: 90.4 | Q82: 86.1 | R82: 60 | S82: 88.3 | T82: 92.6 | U82: 91 | V82: 81.7 | W82: -99.9 | X82: 88.3 | AC82: 250 | AD82: 25 | AE82: 37.2 | AF82: 25 | AG82: 25 | AH82: 25 | AI82: 25 | AJ82: 25 | AK82: 34 | AL82: 25 | AM82: 25 | AN82: 25 | AO82: 39.8 | AP82: 31 | AQ82: 39.8 | AR82: 25 | AS82: 34.8 | AT82: 39.3 | AU82: 39.3 | AV82: 25 | AW82: 39.8 | AX82: 25 | AY82: 0 | AZ82: 25
A83: 315 | B83: 86.4 | C83: 91.8 | D83: 86 | E83: 89.7 | F83: 88 | G83: 89.5 | H83: 101.5 | I83: 97.6 | J83: 91.3 | K83: 91.3 | L83: 94.8 | M83: 97 | N83: 99 | O83: 99 | P83: 94.8 | Q83: 83.9 | R83: 97 | S83: 99.1 | T83: 101.3 | U83: 90.4 | V83: 84 | W83: -99.9 | X83: 90.4 | AC83: 315 | AD83: 40 | AE83: 37.7 | AF83: 25 | AG83: 25 | AH83: 28.9 | AI83: 28.9 | AJ83: 28.9 | AK83: 40 | AL83: 40 | AM83: 40 | AN83: 30.1 | AO83: 32.6 | AP83: 34.4 | AQ83: 32.2 | AR83: 39.6 | AS83: 25 | AT83: 25 | AU83: 38.7 | AV83: 39.3 | AW83: 39.8 | AX83: 40 | AY83: 0 | AZ83: 25
A84: 400 | B84: 90.2 | C84: 90.4 | D84: 86.6 | E84: 90.2 | F84: 87.6 | G84: 92.2 | H84: 100.8 | I84: 99.1 | J84: 97.2 | K84: 97.2 | L84: 94.8 | M84: 97 | N84: 99.1 | O84: 102 | P84: 92.6 | Q84: 86.1 | R84: 103.5 | S84: 103.5 | T84: 99.1 | U84: 94.8 | V84: 87 | W84: -99.9 | X84: 86.1 | AC84: 400 | AD84: 40 | AE84: 38.1 | AF84: 25.3 | AG84: 25.3 | AH84: 25.1 | AI84: 25.1 | AJ84: 25.1 | AK84: 40 | AL84: 40 | AM84: 40 | AN84: 39.8 | AO84: 34.9 | AP84: 39.8 | AQ84: 33.1 | AR84: 39.6 | AS84: 30.9 | AT84: 35.4 | AU84: 39.3 | AV84: 39.3 | AW84: 32.4 | AX84: 40 | AY84: 0 | AZ84: 25
A85: 500 | B85: 96.1 | C85: 88.9 | D85: 87.2 | E85: 90.9 | F85: 89.7 | G85: 94 | H85: 101.7 | I85: 98.3 | J85: 97.8 | K85: 97.8 | L85: 97 | M85: 99.1 | N85: 97 | O85: 101 | P85: 92.6 | Q85: 99.1 | R85: 105.7 | S85: 103.5 | T85: 97 | U85: 99.1 | V85: 90.4 | W85: -99.9 | X85: 92.6 | AC85: 500 | AD85: 40 | AE85: 35.3 | AF85: 26.6 | AG85: 26.6 | AH85: 25 | AI85: 25 | AJ85: 25 | AK85: 40 | AL85: 40 | AM85: 40 | AN85: 25 | AO85: 33.7 | AP85: 29 | AQ85: 39.6 | AR85: 38 | AS85: 33.5 | AT85: 39.3 | AU85: 39.3 | AV85: 31.5 | AW85: 39.8 | AX85: 25 | AY85: 0 | AZ85: 26.6
A86: 630 | B86: 97.1 | C86: 87.3 | D86: 88.2 | E86: 94.2 | F86: 91.7 | G86: 96.2 | H86: 104 | I86: 101.9 | J86: 101.4 | K86: 101.4 | L86: 100 | M86: 101 | N86: 101.3 | O86: 101.3 | P86: 97 | Q86: 103.5 | R86: 107.8 | S86: 103.5 | T86: 103.5 | U86: 99.1 | V86: 99.1 | W86: -99.9 | X86: 97 | AC86: 630 | AD86: 40 | AE86: 35.3 | AF86: 32 | AG86: 32 | AH86: 25 | AI86: 25 | AJ86: 25 | AK86: 40 | AL86: 40 | AM86: 40 | AN86: 25 | AO86: 30.4 | AP86: 31.5 | AQ86: 29.7 | AR86: 34.6 | AS86: 39.3 | AT86: 39.3 | AU86: 34.8 | AV86: 32.2 | AW86: 39.8 | AX86: 34.1 | AY86: 0 | AZ86: 31.7
... A95: 5000 | B95: 81.5 | C95: 80.9 | D95: 77.5 | E95: 81.1 | F95: 77.5 | G95: 79.7 | H95: 82.3 | I95: 82.7 | J95: 84.9 | K95: 84.9 | L95: 86.1 | M95: 83.9 | N95: 83.9 | O95: 83.9 | P95: 83.9 | Q95: 86.1 | R95: 88.3 | S95: 88.3 | T95: 86.1 | U95: 77.4 | V95: 75.2 | W95: -99.9 | X95: 79.6 | AC95: 5000 | AD95: 39.4 | AE95: 25 | AF95: 36.8 | AG95: 36.8 | AH95: 39.8 | AI95: 39.8 | AJ95: 39.8 | AK95: 40 | AL95: 40 | AM95: 40 | AN95: 25 | AO95: 25.7 | AP95: 39.8 | AQ95: 39.8 | AR95: 39.6 | AS95: 39.3 | AT95: 39.3 | AU95: 39.3 | AV95: 39.3 | AW95: 39.6 | AX95: 40 | AY95: 0 | AZ95: 39.6
A96: 6300 | B96: 80.7 | C96: 79.1 | D96: 74.7 | E96: 79.6 | F96: 76.7 | G96: 80.5 | H96: 82.2 | I96: 80.9 | J96: 83.7 | K96: 83.7 | L96: 81.7 | M96: 81.7 | N96: 70.9 | O96: 83.9 | P96: 81.7 | Q96: 83.9 | R96: 86.1 | S96: 86.1 | T96: 86.1 | U96: 75.2 | V96: 73 | W96: -99.9 | X96: 75.2 | AC96: 6300 | AD96: 40 | AE96: 25.5 | AF96: 39.8 | AG96: 39.8 | AH96: 39.8 | AI96: 39.8 | AJ96: 39.8 | AK96: 40 | AL96: 40 | AM96: 40 | AN96: 27.9 | AO96: 39.3 | AP96: 39.6 | AQ96: 39.8 | AR96: 39.6 | AS96: 39.3 | AT96: 39.3 | AU96: 39.3 | AV96: 39.3 | AW96: 28.8 | AX96: 40 | AY96: 0 | AZ96: 39.8 | BV96: Hess | BW96: Hess | CB96: Tram | CC96: Tram | CD96: Tram
A97: 8000 | B97: 79.7 | C97: 78.8 | D97: 72.4 | E97: 78.6 | F97: 75.4 | G97: 79.2 | H97: 81.1 | I97: 79.1 | J97: 82.5 | K97: 82.5 | L97: 70.9 | M97: 79.6 | N97: 79.6 | O97: 81.7 | P97: 79.6 | Q97: 79.6 | R97: 83.9 | S97: 83.9 | T97: 81.7 | U97: 73 | V97: 60 | W97: -99.9 | X97: 70.9 | AC97: 8000 | AD97: 40 | AE97: 25 | AF97: 39.8 | AG97: 39.8 | AH97: 39.8 | AI97: 39.8 | AJ97: 39.8 | AK97: 40 | AL97: 40 | AM97: 40 | AN97: 25 | AO97: 25.2 | AP97: 39.8 | AQ97: 39.8 | AR97: 39.3 | AS97: 38.7 | AT97: 39.3 | AU97: 36.7 | AV97: 38 | AW97: 39.6 | AX97: 40 | AY97: 0 | AZ97: 28.8 | BP97: Man A40 | BQ97: Neoplan | BR97: Merce- | BS97: MAN | BT97: Volvo | BU97: Swiss | BV97: ligh Tram | BW97: ligh Tram | BX97: Batterie- | BY97: Batterie- | BZ97: Tram | CA97: Bus
A98: 10000 | B98: 78.4 | C98: 75.4 | D98: 69.6 | E98: 76.3 | F98: 73.1 | G98: 76.7 | H98: 79.4 | I98: 77.1 | J98: 80.6 | K98: 80.6 | L98: 75.2 | M98: 77.4 | N98: 75.2 | O98: 79.6 | P98: 75.2 | Q98: 70.9 | R98: 79.6 | S98: 79.6 | T98: 79.6 | U98: 62.2 | V98: 60 | W98: -99.9 | X98: 66.5 | AC98: 10000 | AD98: 40 | AE98: 29.7 | AF98: 39.8 | AG98: 39.8 | AH98: 39.8 | AI98: 39.8 | AJ98: 39.8 | AK98: 40 | AL98: 40 | AM98: 40 | AN98: 25 | AO98: 25 | AP98: 37.3 | AQ98: 38.4 | AR98: 39.1 | AS98: 39.3 | AT98: 38 | AU98: 34.1 | AV98: 39.3 | AW98: 39.8 | AX98: 40 | AY98: 0 | AZ98: 39.8 | BO98: Citaro | BP98: Lions | BQ98: Centro- | BR98: des | BS98: A 35 | BT98: 7900H | BU98: Trolley | BV98: 3 Longo | BW98: 3 Longo 2 | BX98: bus | BY98: bus | BZ98: Zürich | CA98: Caetano
BO99: O 350 | BP99: City | BQ99: liner | BR99: O 530 | BS99: Midibus | BU99: 3 | BV99: Doppel- | BW99: Doppel- | BX99: SOR EBN 8 | BY99: Volvo | BZ99: Cobra
BO100: Gelenk- | BP100: Gelenk- | BQ100: Gelenk- | BR100: Stand- | BS100: Stand- | BU100: Gelenk- | BV100: Gelenk- | BW100: Gelenk- | BY100: 7900 EH
A101: Rollgeräusch pro Fahrtrichtung | BE101: Kontrolle | BO101: bus | BP101: bus | BQ101: bus | BR101: ardbus | BS101: ardbus | BT101: Hybrid | BU101: trolley | BV101: trolley | BW101: trolley
A102: Lw,R(c,i) aufwärts | B102: cat 1 | C102: cat 2 | D102: cat 3 | E102: cat 4 | F102: cat 5 | G102: cat 6 | H102: cat 7 | I102: cat 8 | J102: cat 9 | K102: cat 10 | AC102: Lw,R(c,i) abwärts | AD102: cat 1 | AE102: cat 2 | AF102: cat 3 | AG102: cat 4 | AH102: cat 5 | AI102: cat 6 | AJ102: cat 7 | AK102: cat 8 | AL102: cat 9 | AM102: cat 10 | BE102: cat 1 | BF102: cat 2 | BG102: cat 3 | BH102: cat 4 | BI102: cat 5 | BJ102: cat 6 | BK102: cat 7 | BL102: cat 8 | BM102: cat 9 | BN102: cat 10 | BO102: Diesel | BP102: Diesel | BQ102: Diesel | BR102: Diesel | BS102: Diesel | BU102: Elektro | BV102: Elektro | BW102: Elektro | BX102: Elektro | BY102: Elektro | BZ102: Tram
A103: 50 | B103: =B75+AD75*LOG(B$19/$B$16)+B27+B$55+B$64+B$69 -> 82.046799 | C103: =C75+AE75*LOG(C$19/$B$16)+C27+C$55+C$64+C$69 -> 76.60058 | D103: =D75+AF75*LOG(D$19/$B$16)+D27+D$55+D$64+D$69 -> 80.949164 | E103: =E75+AG75*LOG(E$19/$B$16)+E27+E$55+E$64+E$69 -> 88.146799 | F103: =F75+AH75*LOG(F$19/$B$16)+F27+F$55+F$64+F$69 -> 85.146799 | G103: =G75+AI75*LOG(G$19/$B$16)+G27+G$55+G$64+G$69 -> 90.746799 | H103: =H75+AJ75*LOG(H$19/$B$16)+H27+H$55+H$64+H$69 -> 91.946799 | I103: =I75+AK75*LOG(I$19/$B$16)+I27+I$55+I$64+I$69 -> 83.249164 | ... AA103: =AA75+BC75*LOG(AA$19/$B$16)+AA27+AA$55+AA$64+AA$69 -> 1.8 | AC103: 50 | AD103: =B75+AD75*LOG(B$20/$B$16)+B27+B$56+B$64+B$70 -> 82.046799 | AE103: =C75+AE75*LOG(C$20/$B$16)+C27+C$56+C$64+C$70 -> 76.60058 | AF103: =D75+AF75*LOG(D$20/$B$16)+D27+D$56+D$64+D$70 -> 80.949164 | AG103: =E75+AG75*LOG(E$20/$B$16)+E27+E$56+E$64+E$70 -> 88.146799 | AH103: =F75+AH75*LOG(F$20/$B$16)+F27+F$56+F$64+F$70 -> 85.146799 | AI103: =G75+AI75*LOG(G$20/$B$16)+G27+G$56+G$64+G$70 -> 90.746799 | AJ103: =H75+AJ75*LOG(H$20/$B$16)+H27+H$56+H$64+H$70 -> 91.946799 | AK103: =I75+AK75*LOG(I$20/$B$16)+I27+I$56+I$64+I$70 -> 83.249164 | ... BC103: =AA75+BC75*LOG(AA$20/$B$16)+AA27+AA$56+AA$64+AA$70 -> 1.8 | BE103: =B103-AD103 -> 0 | BF103: =C103-AE103 -> 0 | BG103: =D103-AF103 -> 0 | BH103: =E103-AG103 -> 0 | BI103: =F103-AH103 -> 0 | BJ103: =G103-AI103 -> 0 | BK103: =H103-AJ103 -> 0 | BL103: =I103-AK103 -> 0 | ... CD103: =AA103-BC103 -> 0
A104: 63 | B104: =B76+AD76*LOG(B$19/$B$16)+B28+B$55+B$64+B$69 -> 93.432522 | C104: =C76+AE76*LOG(C$19/$B$16)+C28+C$55+C$64+C$69 -> 86.00058 | D104: =D76+AF76*LOG(D$19/$B$16)+D28+D$55+D$64+D$69 -> 85.949164 | E104: =E76+AG76*LOG(E$19/$B$16)+E28+E$55+E$64+E$69 -> 93.946799 | F104: =F76+AH76*LOG(F$19/$B$16)+F28+F$55+F$64+F$69 -> 87.146799 | G104: =G76+AI76*LOG(G$19/$B$16)+G28+G$55+G$64+G$69 -> 94.546799 | H104: =H76+AJ76*LOG(H$19/$B$16)+H28+H$55+H$64+H$69 -> 100.0468 | I104: =I76+AK76*LOG(I$19/$B$16)+I28+I$55+I$64+I$69 -> 81.638663 | ... AA104: =AA76+BC76*LOG(AA$19/$B$16)+AA28+AA$55+AA$64+AA$69 -> 1.8 | AC104: 63 | AD104: =B76+AD76*LOG(B$20/$B$16)+B28+B$56+B$64+B$70 -> 93.432522 | AE104: =C76+AE76*LOG(C$20/$B$16)+C28+C$56+C$64+C$70 -> 86.00058 | AF104: =D76+AF76*LOG(D$20/$B$16)+D28+D$56+D$64+D$70 -> 85.949164 | AG104: =E76+AG76*LOG(E$20/$B$16)+E28+E$56+E$64+E$70 -> 93.946799 | AH104: =F76+AH76*LOG(F$20/$B$16)+F28+F$56+F$64+F$70 -> 87.146799 | AI104: =G76+AI76*LOG(G$20/$B$16)+G28+G$56+G$64+G$70 -> 94.546799 | AJ104: =H76+AJ76*LOG(H$20/$B$16)+H28+H$56+H$64+H$70 -> 100.0468 | AK104: =I76+AK76*LOG(I$20/$B$16)+I28+I$56+I$64+I$70 -> 81.638663 | ... BC104: =AA76+BC76*LOG(AA$20/$B$16)+AA28+AA$56+AA$64+AA$70 -> 1.8 | BE104: =B104-AD104 -> 0 | BF104: =C104-AE104 -> 0 | BG104: =D104-AF104 -> 0 | BH104: =E104-AG104 -> 0 | BI104: =F104-AH104 -> 0 | BJ104: =G104-AI104 -> 0 | BK104: =H104-AJ104 -> 0 | BL104: =I104-AK104 -> 0 | ... CD104: =AA104-BC104 -> 0
A105: 80 | B105: =B77+AD77*LOG(B$19/$B$16)+B29+B$55+B$64+B$69 -> 92.854879 | C105: =C77+AE77*LOG(C$19/$B$16)+C29+C$55+C$64+C$69 -> 86.00058 | D105: =D77+AF77*LOG(D$19/$B$16)+D29+D$55+D$64+D$69 -> 85.364887 | E105: =E77+AG77*LOG(E$19/$B$16)+E29+E$55+E$64+E$69 -> 91.310705 | F105: =F77+AH77*LOG(F$19/$B$16)+F29+F$55+F$64+F$69 -> 89.354543 | G105: =G77+AI77*LOG(G$19/$B$16)+G29+G$55+G$64+G$69 -> 92.754543 | H105: =H77+AJ77*LOG(H$19/$B$16)+H29+H$55+H$64+H$69 -> 97.454543 | I105: =I77+AK77*LOG(I$19/$B$16)+I29+I$55+I$64+I$69 -> 81.638663 | ... AA105: =AA77+BC77*LOG(AA$19/$B$16)+AA29+AA$55+AA$64+AA$69 -> 1.8 | AC105: 80 | AD105: =B77+AD77*LOG(B$20/$B$16)+B29+B$56+B$64+B$70 -> 92.854879 | AE105: =C77+AE77*LOG(C$20/$B$16)+C29+C$56+C$64+C$70 -> 86.00058 | AF105: =D77+AF77*LOG(D$20/$B$16)+D29+D$56+D$64+D$70 -> 85.364887 | AG105: =E77+AG77*LOG(E$20/$B$16)+E29+E$56+E$64+E$70 -> 91.310705 | AH105: =F77+AH77*LOG(F$20/$B$16)+F29+F$56+F$64+F$70 -> 89.354543 | AI105: =G77+AI77*LOG(G$20/$B$16)+G29+G$56+G$64+G$70 -> 92.754543 | AJ105: =H77+AJ77*LOG(H$20/$B$16)+H29+H$56+H$64+H$70 -> 97.454543 | AK105: =I77+AK77*LOG(I$20/$B$16)+I29+I$56+I$64+I$70 -> 81.638663 | ... BC105: =AA77+BC77*LOG(AA$20/$B$16)+AA29+AA$56+AA$64+AA$70 -> 1.8 | BE105: =B105-AD105 -> 0 | BF105: =C105-AE105 -> 0 | BG105: =D105-AF105 -> 0 | BH105: =E105-AG105 -> 0 | BI105: =F105-AH105 -> 0 | BJ105: =G105-AI105 -> 0 | BK105: =H105-AJ105 -> 0 | BL105: =I105-AK105 -> 0 | ... CD105: =AA105-BC105 -> 0
A106: 100 | B106: =B78+AD78*LOG(B$19/$B$16)+B30+B$55+B$64+B$69 -> 90.254879 | C106: =C78+AE78*LOG(C$19/$B$16)+C30+C$55+C$64+C$69 -> 82.80058 | D106: =D78+AF78*LOG(D$19/$B$16)+D30+D$55+D$64+D$69 -> 82.706014 | E106: =E78+AG78*LOG(E$19/$B$16)+E30+E$55+E$64+E$69 -> 88.589223 | F106: =F78+AH78*LOG(F$19/$B$16)+F30+F$55+F$64+F$69 -> 86.546799 | G106: =G78+AI78*LOG(G$19/$B$16)+G30+G$55+G$64+G$69 -> 89.446799 | H106: =H78+AJ78*LOG(H$19/$B$16)+H30+H$55+H$64+H$69 -> 91.946799 | I106: =I78+AK78*LOG(I$19/$B$16)+I30+I$55+I$64+I$69 -> 85.349164 | ... AA106: =AA78+BC78*LOG(AA$19/$B$16)+AA30+AA$55+AA$64+AA$69 -> 1.8 | AC106: 100 | AD106: =B78+AD78*LOG(B$20/$B$16)+B30+B$56+B$64+B$70 -> 90.254879 | AE106: =C78+AE78*LOG(C$20/$B$16)+C30+C$56+C$64+C$70 -> 82.80058 | AF106: =D78+AF78*LOG(D$20/$B$16)+D30+D$56+D$64+D$70 -> 82.706014 | AG106: =E78+AG78*LOG(E$20/$B$16)+E30+E$56+E$64+E$70 -> 88.589223 | AH106: =F78+AH78*LOG(F$20/$B$16)+F30+F$56+F$64+F$70 -> 86.546799 | AI106: =G78+AI78*LOG(G$20/$B$16)+G30+G$56+G$64+G$70 -> 89.446799 | AJ106: =H78+AJ78*LOG(H$20/$B$16)+H30+H$56+H$64+H$70 -> 91.946799 | AK106: =I78+AK78*LOG(I$20/$B$16)+I30+I$56+I$64+I$70 -> 85.349164 | ... BC106: =AA78+BC78*LOG(AA$20/$B$16)+AA30+AA$56+AA$64+AA$70 -> 1.8 | BE106: =B106-AD106 -> 0 | BF106: =C106-AE106 -> 0 | BG106: =D106-AF106 -> 0 | BH106: =E106-AG106 -> 0 | BI106: =F106-AH106 -> 0 | BJ106: =G106-AI106 -> 0 | BK106: =H106-AJ106 -> 0 | BL106: =I106-AK106 -> 0 | ... CD106: =AA106-BC106 -> 0
A107: 125 | B107: =B79+AD79*LOG(B$19/$B$16)+B31+B$55+B$64+B$69 -> 80.446799 | C107: =C79+AE79*LOG(C$19/$B$16)+C31+C$55+C$64+C$69 -> 81.116592 | D107: =D79+AF79*LOG(D$19/$B$16)+D31+D$55+D$64+D$69 -> 79.02778 | E107: =E79+AG79*LOG(E$19/$B$16)+E31+E$55+E$64+E$69 -> 86.866327 | F107: =F79+AH79*LOG(F$19/$B$16)+F31+F$55+F$64+F$69 -> 87.416159 | G107: =G79+AI79*LOG(G$19/$B$16)+G31+G$55+G$64+G$69 -> 86.816159 | H107: =H79+AJ79*LOG(H$19/$B$16)+H31+H$55+H$64+H$69 -> 92.216159 | I107: =I79+AK79*LOG(I$19/$B$16)+I31+I$55+I$64+I$69 -> 85.849164 | ... AA107: =AA79+BC79*LOG(AA$19/$B$16)+AA31+AA$55+AA$64+AA$69 -> 1.8 | AC107: 125 | AD107: =B79+AD79*LOG(B$20/$B$16)+B31+B$56+B$64+B$70 -> 80.446799 | AE107: =C79+AE79*LOG(C$20/$B$16)+C31+C$56+C$64+C$70 -> 81.116592 | AF107: =D79+AF79*LOG(D$20/$B$16)+D31+D$56+D$64+D$70 -> 79.02778 | AG107: =E79+AG79*LOG(E$20/$B$16)+E31+E$56+E$64+E$70 -> 86.866327 | AH107: =F79+AH79*LOG(F$20/$B$16)+F31+F$56+F$64+F$70 -> 87.416159 | AI107: =G79+AI79*LOG(G$20/$B$16)+G31+G$56+G$64+G$70 -> 86.816159 | AJ107: =H79+AJ79*LOG(H$20/$B$16)+H31+H$56+H$64+H$70 -> 92.216159 | AK107: =I79+AK79*LOG(I$20/$B$16)+I31+I$56+I$64+I$70 -> 85.849164 | ... BC107: =AA79+BC79*LOG(AA$20/$B$16)+AA31+AA$56+AA$64+AA$70 -> 1.8 | BE107: =B107-AD107 -> 0 | BF107: =C107-AE107 -> 0 | BG107: =D107-AF107 -> 0 | BH107: =E107-AG107 -> 0 | BI107: =F107-AH107 -> 0 | BJ107: =G107-AI107 -> 0 | BK107: =H107-AJ107 -> 0 | BL107: =I107-AK107 -> 0 | ... CD107: =AA107-BC107 -> 0
A108: 160 | B108: =B80+AD80*LOG(B$19/$B$16)+B32+B$55+B$64+B$69 -> 90.923903 | C108: =C80+AE80*LOG(C$19/$B$16)+C32+C$55+C$64+C$69 -> 78.10058 | D108: =D80+AF80*LOG(D$19/$B$16)+D32+D$55+D$64+D$69 -> 77.453183 | E108: =E80+AG80*LOG(E$19/$B$16)+E32+E$55+E$64+E$69 -> 84.98094 | F108: =F80+AH80*LOG(F$19/$B$16)+F32+F$55+F$64+F$69 -> 87.108415 | G108: =G80+AI80*LOG(G$19/$B$16)+G32+G$55+G$64+G$69 -> 83.408415 | H108: =H80+AJ80*LOG(H$19/$B$16)+H32+H$55+H$64+H$69 -> 91.108415 | I108: =I80+AK80*LOG(I$19/$B$16)+I32+I$55+I$64+I$69 -> 87.049164 | ... AA108: =AA80+BC80*LOG(AA$19/$B$16)+AA32+AA$55+AA$64+AA$69 -> 1.8 | AC108: 160 | AD108: =B80+AD80*LOG(B$20/$B$16)+B32+B$56+B$64+B$70 -> 90.923903 | AE108: =C80+AE80*LOG(C$20/$B$16)+C32+C$56+C$64+C$70 -> 78.10058 | AF108: =D80+AF80*LOG(D$20/$B$16)+D32+D$56+D$64+D$70 -> 77.453183 | AG108: =E80+AG80*LOG(E$20/$B$16)+E32+E$56+E$64+E$70 -> 84.98094 | AH108: =F80+AH80*LOG(F$20/$B$16)+F32+F$56+F$64+F$70 -> 87.108415 | AI108: =G80+AI80*LOG(G$20/$B$16)+G32+G$56+G$64+G$70 -> 83.408415 | AJ108: =H80+AJ80*LOG(H$20/$B$16)+H32+H$56+H$64+H$70 -> 91.108415 | AK108: =I80+AK80*LOG(I$20/$B$16)+I32+I$56+I$64+I$70 -> 87.049164 | ... BC108: =AA80+BC80*LOG(AA$20/$B$16)+AA32+AA$56+AA$64+AA$70 -> 1.8 | BE108: =B108-AD108 -> 0 | BF108: =C108-AE108 -> 0 | BG108: =D108-AF108 -> 0 | BH108: =E108-AG108 -> 0 | BI108: =F108-AH108 -> 0 | BJ108: =G108-AI108 -> 0 | BK108: =H108-AJ108 -> 0 | BL108: =I108-AK108 -> 0 | ... CD108: =AA108-BC108 -> 0
A109: 200 | B109: =B81+AD81*LOG(B$19/$B$16)+B33+B$55+B$64+B$69 -> 96.946799 | C109: =C81+AE81*LOG(C$19/$B$16)+C33+C$55+C$64+C$69 -> 85.80058 | D109: =D81+AF81*LOG(D$19/$B$16)+D33+D$55+D$64+D$69 -> 78.97093 | E109: =E81+AG81*LOG(E$19/$B$16)+E33+E$55+E$64+E$69 -> 85.723903 | F109: =F81+AH81*LOG(F$19/$B$16)+F33+F$55+F$64+F$69 -> 86.946799 | G109: =G81+AI81*LOG(G$19/$B$16)+G33+G$55+G$64+G$69 -> 84.146799 | H109: =H81+AJ81*LOG(H$19/$B$16)+H33+H$55+H$64+H$69 -> 91.746799 | I109: =I81+AK81*LOG(I$19/$B$16)+I33+I$55+I$64+I$69 -> 88.349164 | ... AA109: =AA81+BC81*LOG(AA$19/$B$16)+AA33+AA$55+AA$64+AA$69 -> 1.8 | AC109: 200 | AD109: =B81+AD81*LOG(B$20/$B$16)+B33+B$56+B$64+B$70 -> 96.946799 | AE109: =C81+AE81*LOG(C$20/$B$16)+C33+C$56+C$64+C$70 -> 85.80058 | AF109: =D81+AF81*LOG(D$20/$B$16)+D33+D$56+D$64+D$70 -> 78.97093 | AG109: =E81+AG81*LOG(E$20/$B$16)+E33+E$56+E$64+E$70 -> 85.723903 | AH109: =F81+AH81*LOG(F$20/$B$16)+F33+F$56+F$64+F$70 -> 86.946799 | AI109: =G81+AI81*LOG(G$20/$B$16)+G33+G$56+G$64+G$70 -> 84.146799 | AJ109: =H81+AJ81*LOG(H$20/$B$16)+H33+H$56+H$64+H$70 -> 91.746799 | AK109: =I81+AK81*LOG(I$20/$B$16)+I33+I$56+I$64+I$70 -> 88.349164 | ... BC109: =AA81+BC81*LOG(AA$20/$B$16)+AA33+AA$56+AA$64+AA$70 -> 1.8 | BE109: =B109-AD109 -> 0 | BF109: =C109-AE109 -> 0 | BG109: =D109-AF109 -> 0 | BH109: =E109-AG109 -> 0 | BI109: =F109-AH109 -> 0 | BJ109: =G109-AI109 -> 0 | BK109: =H109-AJ109 -> 0 | BL109: =I109-AK109 -> 0 | ... CD109: =AA109-BC109 -> 0
A110: 250 | B110: =B82+AD82*LOG(B$19/$B$16)+B34+B$55+B$64+B$69 -> 90.046799 | C110: =C82+AE82*LOG(C$19/$B$16)+C34+C$55+C$64+C$69 -> 81.511264 | D110: =D82+AF82*LOG(D$19/$B$16)+D34+D$55+D$64+D$69 -> 81.449164 | E110: =E82+AG82*LOG(E$19/$B$16)+E34+E$55+E$64+E$69 -> 88.046799 | F110: =F82+AH82*LOG(F$19/$B$16)+F34+F$55+F$64+F$69 -> 87.146799 | G110: =G82+AI82*LOG(G$19/$B$16)+G34+G$55+G$64+G$69 -> 84.246799 | H110: =H82+AJ82*LOG(H$19/$B$16)+H34+H$55+H$64+H$69 -> 93.246799 | I110: =I82+AK82*LOG(I$19/$B$16)+I34+I$55+I$64+I$69 -> 84.962863 | ... AA110: =AA82+BC82*LOG(AA$19/$B$16)+AA34+AA$55+AA$64+AA$69 -> 1.8 | AC110: 250 | AD110: =B82+AD82*LOG(B$20/$B$16)+B34+B$56+B$64+B$70 -> 90.046799 | AE110: =C82+AE82*LOG(C$20/$B$16)+C34+C$56+C$64+C$70 -> 81.511264 | AF110: =D82+AF82*LOG(D$20/$B$16)+D34+D$56+D$64+D$70 -> 81.449164 | AG110: =E82+AG82*LOG(E$20/$B$16)+E34+E$56+E$64+E$70 -> 88.046799 | AH110: =F82+AH82*LOG(F$20/$B$16)+F34+F$56+F$64+F$70 -> 87.146799 | AI110: =G82+AI82*LOG(G$20/$B$16)+G34+G$56+G$64+G$70 -> 84.246799 | AJ110: =H82+AJ82*LOG(H$20/$B$16)+H34+H$56+H$64+H$70 -> 93.246799 | AK110: =I82+AK82*LOG(I$20/$B$16)+I34+I$56+I$64+I$70 -> 84.962863 | ... BC110: =AA82+BC82*LOG(AA$20/$B$16)+AA34+AA$56+AA$64+AA$70 -> 1.8 | BE110: =B110-AD110 -> 0 | BF110: =C110-AE110 -> 0 | BG110: =D110-AF110 -> 0 | BH110: =E110-AG110 -> 0 | BI110: =F110-AH110 -> 0 | BJ110: =G110-AI110 -> 0 | BK110: =H110-AJ110 -> 0 | BL110: =I110-AK110 -> 0 | ... CD110: =AA110-BC110 -> 0
A111: 315 | B111: =B83+AD83*LOG(B$19/$B$16)+B35+B$55+B$64+B$69 -> 82.354879 | C111: =C83+AE83*LOG(C$19/$B$16)+C35+C$55+C$64+C$69 -> 79.727275 | D111: =D83+AF83*LOG(D$19/$B$16)+D35+D$55+D$64+D$69 -> 81.449164 | E111: =E83+AG83*LOG(E$19/$B$16)+E35+E$55+E$64+E$69 -> 87.846799 | F111: =F83+AH83*LOG(F$19/$B$16)+F35+F$55+F$64+F$69 -> 85.5769 | G111: =G83+AI83*LOG(G$19/$B$16)+G35+G$55+G$64+G$69 -> 87.0769 | H111: =H83+AJ83*LOG(H$19/$B$16)+H35+H$55+H$64+H$69 -> 99.0769 | I111: =I83+AK83*LOG(I$19/$B$16)+I35+I$55+I$64+I$69 -> 89.238663 | ... AA111: =AA83+BC83*LOG(AA$19/$B$16)+AA35+AA$55+AA$64+AA$69 -> 1.8 | AC111: 315 | AD111: =B83+AD83*LOG(B$20/$B$16)+B35+B$56+B$64+B$70 -> 82.354879 | AE111: =C83+AE83*LOG(C$20/$B$16)+C35+C$56+C$64+C$70 -> 79.727275 | AF111: =D83+AF83*LOG(D$20/$B$16)+D35+D$56+D$64+D$70 -> 81.449164 | AG111: =E83+AG83*LOG(E$20/$B$16)+E35+E$56+E$64+E$70 -> 87.846799 | AH111: =F83+AH83*LOG(F$20/$B$16)+F35+F$56+F$64+F$70 -> 85.5769 | AI111: =G83+AI83*LOG(G$20/$B$16)+G35+G$56+G$64+G$70 -> 87.0769 | AJ111: =H83+AJ83*LOG(H$20/$B$16)+H35+H$56+H$64+H$70 -> 99.0769 | AK111: =I83+AK83*LOG(I$20/$B$16)+I35+I$56+I$64+I$70 -> 89.238663 | ... BC111: =AA83+BC83*LOG(AA$20/$B$16)+AA35+AA$56+AA$64+AA$70 -> 1.8 | BE111: =B111-AD111 -> 0 | BF111: =C111-AE111 -> 0 | BG111: =D111-AF111 -> 0 | BH111: =E111-AG111 -> 0 | BI111: =F111-AH111 -> 0 | BJ111: =G111-AI111 -> 0 | BK111: =H111-AJ111 -> 0 | BL111: =I111-AK111 -> 0 | ... CD111: =AA111-BC111 -> 0
A112: 400 | B112: =B84+AD84*LOG(B$19/$B$16)+B36+B$55+B$64+B$69 -> 85.554879 | C112: =C84+AE84*LOG(C$19/$B$16)+C36+C$55+C$64+C$69 -> 77.580084 | D112: =D84+AF84*LOG(D$19/$B$16)+D36+D$55+D$64+D$69 -> 81.372954 | E112: =E84+AG84*LOG(E$19/$B$16)+E36+E$55+E$64+E$69 -> 87.702961 | F112: =F84+AH84*LOG(F$19/$B$16)+F36+F$55+F$64+F$69 -> 85.132186 | G112: =G84+AI84*LOG(G$19/$B$16)+G36+G$55+G$64+G$69 -> 89.732186 | H112: =H84+AJ84*LOG(H$19/$B$16)+H36+H$55+H$64+H$69 -> 98.332186 | I112: =I84+AK84*LOG(I$19/$B$16)+I36+I$55+I$64+I$69 -> 90.138663 | ... AA112: =AA84+BC84*LOG(AA$19/$B$16)+AA36+AA$55+AA$64+AA$69 -> 1.2 | AC112: 400 | AD112: =B84+AD84*LOG(B$20/$B$16)+B36+B$56+B$64+B$70 -> 85.554879 | AE112: =C84+AE84*LOG(C$20/$B$16)+C36+C$56+C$64+C$70 -> 77.580084 | AF112: =D84+AF84*LOG(D$20/$B$16)+D36+D$56+D$64+D$70 -> 81.372954 | AG112: =E84+AG84*LOG(E$20/$B$16)+E36+E$56+E$64+E$70 -> 87.702961 | AH112: =F84+AH84*LOG(F$20/$B$16)+F36+F$56+F$64+F$70 -> 85.132186 | AI112: =G84+AI84*LOG(G$20/$B$16)+G36+G$56+G$64+G$70 -> 89.732186 | AJ112: =H84+AJ84*LOG(H$20/$B$16)+H36+H$56+H$64+H$70 -> 98.332186 | AK112: =I84+AK84*LOG(I$20/$B$16)+I36+I$56+I$64+I$70 -> 90.138663 | ... BC112: =AA84+BC84*LOG(AA$20/$B$16)+AA36+AA$56+AA$64+AA$70 -> 1.2 | BE112: =B112-AD112 -> 0 | BF112: =C112-AE112 -> 0 | BG112: =D112-AF112 -> 0 | BH112: =E112-AG112 -> 0 | BI112: =F112-AH112 -> 0 | BJ112: =G112-AI112 -> 0 | BK112: =H112-AJ112 -> 0 | BL112: =I112-AK112 -> 0 | ... CD112: =AA112-BC112 -> 0
A113: 500 | B113: =B85+AD85*LOG(B$19/$B$16)+B37+B$55+B$64+B$69 -> 90.254879 | C113: =C85+AE85*LOG(C$19/$B$16)+C37+C$55+C$64+C$69 -> 75.910419 | D113: =D85+AF85*LOG(D$19/$B$16)+D37+D$55+D$64+D$69 -> 80.442711 | E113: =E85+AG85*LOG(E$19/$B$16)+E37+E$55+E$64+E$69 -> 87.012994 | F113: =F85+AH85*LOG(F$19/$B$16)+F37+F$55+F$64+F$69 -> 86.046799 | G113: =G85+AI85*LOG(G$19/$B$16)+G37+G$55+G$64+G$69 -> 90.346799 | H113: =H85+AJ85*LOG(H$19/$B$16)+H37+H$55+H$64+H$69 -> 98.046799 | I113: =I85+AK85*LOG(I$19/$B$16)+I37+I$55+I$64+I$69 -> 88.138663 | ... AA113: =AA85+BC85*LOG(AA$19/$B$16)+AA37+AA$55+AA$64+AA$69 -> 0 | AC113: 500 | AD113: =B85+AD85*LOG(B$20/$B$16)+B37+B$56+B$64+B$70 -> 90.254879 | AE113: =C85+AE85*LOG(C$20/$B$16)+C37+C$56+C$64+C$70 -> 75.910419 | AF113: =D85+AF85*LOG(D$20/$B$16)+D37+D$56+D$64+D$70 -> 80.442711 | AG113: =E85+AG85*LOG(E$20/$B$16)+E37+E$56+E$64+E$70 -> 87.012994 | AH113: =F85+AH85*LOG(F$20/$B$16)+F37+F$56+F$64+F$70 -> 86.046799 | AI113: =G85+AI85*LOG(G$20/$B$16)+G37+G$56+G$64+G$70 -> 90.346799 | AJ113: =H85+AJ85*LOG(H$20/$B$16)+H37+H$56+H$64+H$70 -> 98.046799 | AK113: =I85+AK85*LOG(I$20/$B$16)+I37+I$56+I$64+I$70 -> 88.138663 | ... BC113: =AA85+BC85*LOG(AA$20/$B$16)+AA37+AA$56+AA$64+AA$70 -> 0 | BE113: =B113-AD113 -> 0 | BF113: =C113-AE113 -> 0 | BG113: =D113-AF113 -> 0 | BH113: =E113-AG113 -> 0 | BI113: =F113-AH113 -> 0 | BJ113: =G113-AI113 -> 0 | BK113: =H113-AJ113 -> 0 | BL113: =I113-AK113 -> 0 | ... CD113: =AA113-BC113 -> 0
A114: 630 | B114: =B86+AD86*LOG(B$19/$B$16)+B38+B$55+B$64+B$69 -> 94.254879 | C114: =C86+AE86*LOG(C$19/$B$16)+C38+C$55+C$64+C$69 -> 77.310419 | D114: =D86+AF86*LOG(D$19/$B$16)+D38+D$55+D$64+D$69 -> 83.07093 | E114: =E86+AG86*LOG(E$19/$B$16)+E38+E$55+E$64+E$69 -> 92.523903 | F114: =F86+AH86*LOG(F$19/$B$16)+F38+F$55+F$64+F$69 -> 91.046799 | G114: =G86+AI86*LOG(G$19/$B$16)+G38+G$55+G$64+G$69 -> 95.546799 | H114: =H86+AJ86*LOG(H$19/$B$16)+H38+H$55+H$64+H$69 -> 103.3468 | I114: =I86+AK86*LOG(I$19/$B$16)+I38+I$55+I$64+I$69 -> 94.738663 | ... AA114: =AA86+BC86*LOG(AA$19/$B$16)+AA38+AA$55+AA$64+AA$69 -> 3 | AC114: 630 | AD114: =B86+AD86*LOG(B$20/$B$16)+B38+B$56+B$64+B$70 -> 94.254879 | AE114: =C86+AE86*LOG(C$20/$B$16)+C38+C$56+C$64+C$70 -> 77.310419 | AF114: =D86+AF86*LOG(D$20/$B$16)+D38+D$56+D$64+D$70 -> 83.07093 | AG114: =E86+AG86*LOG(E$20/$B$16)+E38+E$56+E$64+E$70 -> 92.523903 | AH114: =F86+AH86*LOG(F$20/$B$16)+F38+F$56+F$64+F$70 -> 91.046799 | AI114: =G86+AI86*LOG(G$20/$B$16)+G38+G$56+G$64+G$70 -> 95.546799 | AJ114: =H86+AJ86*LOG(H$20/$B$16)+H38+H$56+H$64+H$70 -> 103.3468 | AK114: =I86+AK86*LOG(I$20/$B$16)+I38+I$56+I$64+I$70 -> 94.738663 | ... BC114: =AA86+BC86*LOG(AA$20/$B$16)+AA38+AA$56+AA$64+AA$70 -> 3 | BE114: =B114-AD114 -> 0 | BF114: =C114-AE114 -> 0 | BG114: =D114-AF114 -> 0 | BH114: =E114-AG114 -> 0 | BI114: =F114-AH114 -> 0 | BJ114: =G114-AI114 -> 0 | BK114: =H114-AJ114 -> 0 | BL114: =I114-AK114 -> 0 | ... CD114: =AA114-BC114 -> 0
... A126: 10000 | B126: =B98+AD98*LOG(B$19/$B$16)+B50+B$55+B$64+B$69 -> 74.154879 | C126: =C98+AE98*LOG(C$19/$B$16)+C50+C$55+C$64+C$69 -> 66.071089 | D126: =D98+AF98*LOG(D$19/$B$16)+D50+D$55+D$64+D$69 -> 61.089469 | E126: =E98+AG98*LOG(E$19/$B$16)+E50+E$55+E$64+E$69 -> 72.084104 | F126: =F98+AH98*LOG(F$19/$B$16)+F50+F$55+F$64+F$69 -> 68.884104 | G126: =G98+AI98*LOG(G$19/$B$16)+G50+G$55+G$64+G$69 -> 72.484104 | H126: =H98+AJ98*LOG(H$19/$B$16)+H50+H$55+H$64+H$69 -> 75.184104 | I126: =I98+AK98*LOG(I$19/$B$16)+I50+I$55+I$64+I$69 -> 68.538663 | ... AA126: =AA98+BC98*LOG(AA$19/$B$16)+AA50+AA$55+AA$64+AA$69 -> 1.6 | AC126: 10000 | AD126: =B98+AD98*LOG(B$20/$B$16)+B50+B$56+B$64+B$70 -> 74.154879 | AE126: =C98+AE98*LOG(C$20/$B$16)+C50+C$56+C$64+C$70 -> 66.071089 | AF126: =D98+AF98*LOG(D$20/$B$16)+D50+D$56+D$64+D$70 -> 61.089469 | AG126: =E98+AG98*LOG(E$20/$B$16)+E50+E$56+E$64+E$70 -> 72.084104 | AH126: =F98+AH98*LOG(F$20/$B$16)+F50+F$56+F$64+F$70 -> 68.884104 | AI126: =G98+AI98*LOG(G$20/$B$16)+G50+G$56+G$64+G$70 -> 72.484104 | AJ126: =H98+AJ98*LOG(H$20/$B$16)+H50+H$56+H$64+H$70 -> 75.184104 | AK126: =I98+AK98*LOG(I$20/$B$16)+I50+I$56+I$64+I$70 -> 68.538663 | ... BC126: =AA98+BC98*LOG(AA$20/$B$16)+AA50+AA$56+AA$64+AA$70 -> 1.6 | BE126: =B126-AD126 -> 0 | BF126: =C126-AE126 -> 0 | BG126: =D126-AF126 -> 0 | BH126: =E126-AG126 -> 0 | BI126: =F126-AH126 -> 0 | BJ126: =G126-AI126 -> 0 | BK126: =H126-AJ126 -> 0 | BL126: =I126-AK126 -> 0 | ... CD126: =AA126-BC126 -> 0
A129: Rollgeräusch pro Strassenabschnitt (energetischer Mittelwert aufwärts und abwärts)
A130: Annahme: Gleichviel Verkehr aufwärts wie abwärts und gleiche Verkehrszusammensetzung Swiss10
A131: Lw,R(c,i) | B131: cat 1 | C131: cat 2 | D131: cat 3 | E131: cat 4 | F131: cat 5 | G131: cat 6 | H131: cat 7 | I131: cat 8 | J131: cat 9 | K131: cat 10
A132: 50 | B132: =10*LOG(0.5*10^(B103/10)+0.5*10^(AD103/10)) -> 82.046799 | C132: =10*LOG(0.5*10^(C103/10)+0.5*10^(AE103/10)) -> 76.60058 | D132: =10*LOG(0.5*10^(D103/10)+0.5*10^(AF103/10)) -> 80.949164 | E132: =10*LOG(0.5*10^(E103/10)+0.5*10^(AG103/10)) -> 88.146799 | F132: =10*LOG(0.5*10^(F103/10)+0.5*10^(AH103/10)) -> 85.146799 | G132: =10*LOG(0.5*10^(G103/10)+0.5*10^(AI103/10)) -> 90.746799 | H132: =10*LOG(0.5*10^(H103/10)+0.5*10^(AJ103/10)) -> 91.946799 | I132: =10*LOG(0.5*10^(I103/10)+0.5*10^(AK103/10)) -> 83.249164 | ... V132: =10*LOG(0.5*10^(V103/10)+0.5*10^(AX103/10)) -> 91.247135 | W132: 0 | X132: =10*LOG(0.5*10^(X103/10)+0.5*10^(AZ103/10)) -> 92.946799 | Y132: =10*LOG(0.5*10^(Y103/10)+0.5*10^(BA103/10)) -> 1.8 | Z132: =10*LOG(0.5*10^(Z103/10)+0.5*10^(BB103/10)) -> 1.8 | AA132: =10*LOG(0.5*10^(AA103/10)+0.5*10^(BC103/10)) -> 1.8
A133: 63 | B133: =10*LOG(0.5*10^(B104/10)+0.5*10^(AD104/10)) -> 93.432522 | C133: =10*LOG(0.5*10^(C104/10)+0.5*10^(AE104/10)) -> 86.00058 | D133: =10*LOG(0.5*10^(D104/10)+0.5*10^(AF104/10)) -> 85.949164 | E133: =10*LOG(0.5*10^(E104/10)+0.5*10^(AG104/10)) -> 93.946799 | F133: =10*LOG(0.5*10^(F104/10)+0.5*10^(AH104/10)) -> 87.146799 | G133: =10*LOG(0.5*10^(G104/10)+0.5*10^(AI104/10)) -> 94.546799 | H133: =10*LOG(0.5*10^(H104/10)+0.5*10^(AJ104/10)) -> 100.0468 | I133: =10*LOG(0.5*10^(I104/10)+0.5*10^(AK104/10)) -> 81.638663 | ... V133: =10*LOG(0.5*10^(V104/10)+0.5*10^(AX104/10)) -> 92.357708 | W133: 0 | X133: =10*LOG(0.5*10^(X104/10)+0.5*10^(AZ104/10)) -> 92.289223 | Y133: =10*LOG(0.5*10^(Y104/10)+0.5*10^(BA104/10)) -> 1.8 | Z133: =10*LOG(0.5*10^(Z104/10)+0.5*10^(BB104/10)) -> 1.8 | AA133: =10*LOG(0.5*10^(AA104/10)+0.5*10^(BC104/10)) -> 1.8
A134: 80 | B134: =10*LOG(0.5*10^(B105/10)+0.5*10^(AD105/10)) -> 92.854879 | C134: =10*LOG(0.5*10^(C105/10)+0.5*10^(AE105/10)) -> 86.00058 | D134: =10*LOG(0.5*10^(D105/10)+0.5*10^(AF105/10)) -> 85.364887 | E134: =10*LOG(0.5*10^(E105/10)+0.5*10^(AG105/10)) -> 91.310705 | F134: =10*LOG(0.5*10^(F105/10)+0.5*10^(AH105/10)) -> 89.354543 | G134: =10*LOG(0.5*10^(G105/10)+0.5*10^(AI105/10)) -> 92.754543 | H134: =10*LOG(0.5*10^(H105/10)+0.5*10^(AJ105/10)) -> 97.454543 | I134: =10*LOG(0.5*10^(I105/10)+0.5*10^(AK105/10)) -> 81.638663 | ... V134: =10*LOG(0.5*10^(V105/10)+0.5*10^(AX105/10)) -> 90.954879 | W134: 0 | X134: =10*LOG(0.5*10^(X105/10)+0.5*10^(AZ105/10)) -> 90.220738 | Y134: =10*LOG(0.5*10^(Y105/10)+0.5*10^(BA105/10)) -> 1.8 | Z134: =10*LOG(0.5*10^(Z105/10)+0.5*10^(BB105/10)) -> 1.8 | AA134: =10*LOG(0.5*10^(AA105/10)+0.5*10^(BC105/10)) -> 1.8
A135: 100 | B135: =10*LOG(0.5*10^(B106/10)+0.5*10^(AD106/10)) -> 90.254879 | C135: =10*LOG(0.5*10^(C106/10)+0.5*10^(AE106/10)) -> 82.80058 | D135: =10*LOG(0.5*10^(D106/10)+0.5*10^(AF106/10)) -> 82.706014 | E135: =10*LOG(0.5*10^(E106/10)+0.5*10^(AG106/10)) -> 88.589223 | F135: =10*LOG(0.5*10^(F106/10)+0.5*10^(AH106/10)) -> 86.546799 | G135: =10*LOG(0.5*10^(G106/10)+0.5*10^(AI106/10)) -> 89.446799 | H135: =10*LOG(0.5*10^(H106/10)+0.5*10^(AJ106/10)) -> 91.946799 | I135: =10*LOG(0.5*10^(I106/10)+0.5*10^(AK106/10)) -> 85.349164 | ... V135: =10*LOG(0.5*10^(V106/10)+0.5*10^(AX106/10)) -> 88.657168 | W135: 0 | X135: =10*LOG(0.5*10^(X106/10)+0.5*10^(AZ106/10)) -> 90.746799 | Y135: =10*LOG(0.5*10^(Y106/10)+0.5*10^(BA106/10)) -> 1.8 | Z135: =10*LOG(0.5*10^(Z106/10)+0.5*10^(BB106/10)) -> 1.8 | AA135: =10*LOG(0.5*10^(AA106/10)+0.5*10^(BC106/10)) -> 1.8
A136: 125 | B136: =10*LOG(0.5*10^(B107/10)+0.5*10^(AD107/10)) -> 80.446799 | C136: =10*LOG(0.5*10^(C107/10)+0.5*10^(AE107/10)) -> 81.116592 | D136: =10*LOG(0.5*10^(D107/10)+0.5*10^(AF107/10)) -> 79.02778 | E136: =10*LOG(0.5*10^(E107/10)+0.5*10^(AG107/10)) -> 86.866327 | F136: =10*LOG(0.5*10^(F107/10)+0.5*10^(AH107/10)) -> 87.416159 | G136: =10*LOG(0.5*10^(G107/10)+0.5*10^(AI107/10)) -> 86.816159 | H136: =10*LOG(0.5*10^(H107/10)+0.5*10^(AJ107/10)) -> 92.216159 | I136: =10*LOG(0.5*10^(I107/10)+0.5*10^(AK107/10)) -> 85.849164 | ... V136: =10*LOG(0.5*10^(V107/10)+0.5*10^(AX107/10)) -> 86.446799 | W136: 0 | X136: =10*LOG(0.5*10^(X107/10)+0.5*10^(AZ107/10)) -> 88.546799 | Y136: =10*LOG(0.5*10^(Y107/10)+0.5*10^(BA107/10)) -> 1.8 | Z136: =10*LOG(0.5*10^(Z107/10)+0.5*10^(BB107/10)) -> 1.8 | AA136: =10*LOG(0.5*10^(AA107/10)+0.5*10^(BC107/10)) -> 1.8
A137: 160 | B137: =10*LOG(0.5*10^(B108/10)+0.5*10^(AD108/10)) -> 90.923903 | C137: =10*LOG(0.5*10^(C108/10)+0.5*10^(AE108/10)) -> 78.10058 | D137: =10*LOG(0.5*10^(D108/10)+0.5*10^(AF108/10)) -> 77.453183 | E137: =10*LOG(0.5*10^(E108/10)+0.5*10^(AG108/10)) -> 84.98094 | F137: =10*LOG(0.5*10^(F108/10)+0.5*10^(AH108/10)) -> 87.108415 | G137: =10*LOG(0.5*10^(G108/10)+0.5*10^(AI108/10)) -> 83.408415 | H137: =10*LOG(0.5*10^(H108/10)+0.5*10^(AJ108/10)) -> 91.108415 | I137: =10*LOG(0.5*10^(I108/10)+0.5*10^(AK108/10)) -> 87.049164 | ... V137: =10*LOG(0.5*10^(V108/10)+0.5*10^(AX108/10)) -> 81.954879 | W137: 0 | X137: =10*LOG(0.5*10^(X108/10)+0.5*10^(AZ108/10)) -> 86.446799 | Y137: =10*LOG(0.5*10^(Y108/10)+0.5*10^(BA108/10)) -> 1.8 | Z137: =10*LOG(0.5*10^(Z108/10)+0.5*10^(BB108/10)) -> 1.8 | AA137: =10*LOG(0.5*10^(AA108/10)+0.5*10^(BC108/10)) -> 1.8
A138: 200 | B138: =10*LOG(0.5*10^(B109/10)+0.5*10^(AD109/10)) -> 96.946799 | C138: =10*LOG(0.5*10^(C109/10)+0.5*10^(AE109/10)) -> 85.80058 | D138: =10*LOG(0.5*10^(D109/10)+0.5*10^(AF109/10)) -> 78.97093 | E138: =10*LOG(0.5*10^(E109/10)+0.5*10^(AG109/10)) -> 85.723903 | F138: =10*LOG(0.5*10^(F109/10)+0.5*10^(AH109/10)) -> 86.946799 | G138: =10*LOG(0.5*10^(G109/10)+0.5*10^(AI109/10)) -> 84.146799 | H138: =10*LOG(0.5*10^(H109/10)+0.5*10^(AJ109/10)) -> 91.746799 | I138: =10*LOG(0.5*10^(I109/10)+0.5*10^(AK109/10)) -> 88.349164 | ... V138: =10*LOG(0.5*10^(V109/10)+0.5*10^(AX109/10)) -> 78.954879 | W138: 0 | X138: =10*LOG(0.5*10^(X109/10)+0.5*10^(AZ109/10)) -> 86.146799 | Y138: =10*LOG(0.5*10^(Y109/10)+0.5*10^(BA109/10)) -> 1.8 | Z138: =10*LOG(0.5*10^(Z109/10)+0.5*10^(BB109/10)) -> 1.8 | AA138: =10*LOG(0.5*10^(AA109/10)+0.5*10^(BC109/10)) -> 1.8
A139: 250 | B139: =10*LOG(0.5*10^(B110/10)+0.5*10^(AD110/10)) -> 90.046799 | C139: =10*LOG(0.5*10^(C110/10)+0.5*10^(AE110/10)) -> 81.511264 | D139: =10*LOG(0.5*10^(D110/10)+0.5*10^(AF110/10)) -> 81.449164 | E139: =10*LOG(0.5*10^(E110/10)+0.5*10^(AG110/10)) -> 88.046799 | F139: =10*LOG(0.5*10^(F110/10)+0.5*10^(AH110/10)) -> 87.146799 | G139: =10*LOG(0.5*10^(G110/10)+0.5*10^(AI110/10)) -> 84.246799 | H139: =10*LOG(0.5*10^(H110/10)+0.5*10^(AJ110/10)) -> 93.246799 | I139: =10*LOG(0.5*10^(I110/10)+0.5*10^(AK110/10)) -> 84.962863 | ... V139: =10*LOG(0.5*10^(V110/10)+0.5*10^(AX110/10)) -> 79.846799 | W139: 0 | X139: =10*LOG(0.5*10^(X110/10)+0.5*10^(AZ110/10)) -> 86.446799 | Y139: =10*LOG(0.5*10^(Y110/10)+0.5*10^(BA110/10)) -> 1.8 | Z139: =10*LOG(0.5*10^(Z110/10)+0.5*10^(BB110/10)) -> 1.8 | AA139: =10*LOG(0.5*10^(AA110/10)+0.5*10^(BC110/10)) -> 1.8
A140: 315 | B140: =10*LOG(0.5*10^(B111/10)+0.5*10^(AD111/10)) -> 82.354879 | C140: =10*LOG(0.5*10^(C111/10)+0.5*10^(AE111/10)) -> 79.727275 | D140: =10*LOG(0.5*10^(D111/10)+0.5*10^(AF111/10)) -> 81.449164 | E140: =10*LOG(0.5*10^(E111/10)+0.5*10^(AG111/10)) -> 87.846799 | F140: =10*LOG(0.5*10^(F111/10)+0.5*10^(AH111/10)) -> 85.5769 | G140: =10*LOG(0.5*10^(G111/10)+0.5*10^(AI111/10)) -> 87.0769 | H140: =10*LOG(0.5*10^(H111/10)+0.5*10^(AJ111/10)) -> 99.0769 | I140: =10*LOG(0.5*10^(I111/10)+0.5*10^(AK111/10)) -> 89.238663 | ... V140: =10*LOG(0.5*10^(V111/10)+0.5*10^(AX111/10)) -> 79.954879 | W140: 0 | X140: =10*LOG(0.5*10^(X111/10)+0.5*10^(AZ111/10)) -> 88.546799 | Y140: =10*LOG(0.5*10^(Y111/10)+0.5*10^(BA111/10)) -> 1.8 | Z140: =10*LOG(0.5*10^(Z111/10)+0.5*10^(BB111/10)) -> 1.8 | AA140: =10*LOG(0.5*10^(AA111/10)+0.5*10^(BC111/10)) -> 1.8
A141: 400 | B141: =10*LOG(0.5*10^(B112/10)+0.5*10^(AD112/10)) -> 85.554879 | C141: =10*LOG(0.5*10^(C112/10)+0.5*10^(AE112/10)) -> 77.580084 | D141: =10*LOG(0.5*10^(D112/10)+0.5*10^(AF112/10)) -> 81.372954 | E141: =10*LOG(0.5*10^(E112/10)+0.5*10^(AG112/10)) -> 87.702961 | F141: =10*LOG(0.5*10^(F112/10)+0.5*10^(AH112/10)) -> 85.132186 | G141: =10*LOG(0.5*10^(G112/10)+0.5*10^(AI112/10)) -> 89.732186 | H141: =10*LOG(0.5*10^(H112/10)+0.5*10^(AJ112/10)) -> 98.332186 | I141: =10*LOG(0.5*10^(I112/10)+0.5*10^(AK112/10)) -> 90.138663 | ... V141: =10*LOG(0.5*10^(V112/10)+0.5*10^(AX112/10)) -> 82.354879 | W141: 0 | X141: =10*LOG(0.5*10^(X112/10)+0.5*10^(AZ112/10)) -> 83.646799 | Y141: =10*LOG(0.5*10^(Y112/10)+0.5*10^(BA112/10)) -> 1.2 | Z141: =10*LOG(0.5*10^(Z112/10)+0.5*10^(BB112/10)) -> 1.2 | AA141: =10*LOG(0.5*10^(AA112/10)+0.5*10^(BC112/10)) -> 1.2
A142: 500 | B142: =10*LOG(0.5*10^(B113/10)+0.5*10^(AD113/10)) -> 90.254879 | C142: =10*LOG(0.5*10^(C113/10)+0.5*10^(AE113/10)) -> 75.910419 | D142: =10*LOG(0.5*10^(D113/10)+0.5*10^(AF113/10)) -> 80.442711 | E142: =10*LOG(0.5*10^(E113/10)+0.5*10^(AG113/10)) -> 87.012994 | F142: =10*LOG(0.5*10^(F113/10)+0.5*10^(AH113/10)) -> 86.046799 | G142: =10*LOG(0.5*10^(G113/10)+0.5*10^(AI113/10)) -> 90.346799 | H142: =10*LOG(0.5*10^(H113/10)+0.5*10^(AJ113/10)) -> 98.046799 | I142: =10*LOG(0.5*10^(I113/10)+0.5*10^(AK113/10)) -> 88.138663 | ... V142: =10*LOG(0.5*10^(V113/10)+0.5*10^(AX113/10)) -> 86.746799 | W142: 0 | X142: =10*LOG(0.5*10^(X113/10)+0.5*10^(AZ113/10)) -> 88.712994 | Y142: =10*LOG(0.5*10^(Y113/10)+0.5*10^(BA113/10)) -> 0 | Z142: =10*LOG(0.5*10^(Z113/10)+0.5*10^(BB113/10)) -> 0 | AA142: =10*LOG(0.5*10^(AA113/10)+0.5*10^(BC113/10)) -> 0
A143: 630 | B143: =10*LOG(0.5*10^(B114/10)+0.5*10^(AD114/10)) -> 94.254879 | C143: =10*LOG(0.5*10^(C114/10)+0.5*10^(AE114/10)) -> 77.310419 | D143: =10*LOG(0.5*10^(D114/10)+0.5*10^(AF114/10)) -> 83.07093 | E143: =10*LOG(0.5*10^(E114/10)+0.5*10^(AG114/10)) -> 92.523903 | F143: =10*LOG(0.5*10^(F114/10)+0.5*10^(AH114/10)) -> 91.046799 | G143: =10*LOG(0.5*10^(G114/10)+0.5*10^(AI114/10)) -> 95.546799 | H143: =10*LOG(0.5*10^(H114/10)+0.5*10^(AJ114/10)) -> 103.3468 | I143: =10*LOG(0.5*10^(I114/10)+0.5*10^(AK114/10)) -> 94.738663 | ... V143: =10*LOG(0.5*10^(V114/10)+0.5*10^(AX114/10)) -> 97.117034 | W143: 0 | X143: =10*LOG(0.5*10^(X114/10)+0.5*10^(AZ114/10)) -> 95.367741 | Y143: =10*LOG(0.5*10^(Y114/10)+0.5*10^(BA114/10)) -> 3 | Z143: =10*LOG(0.5*10^(Z114/10)+0.5*10^(BB114/10)) -> 3 | AA143: =10*LOG(0.5*10^(AA114/10)+0.5*10^(BC114/10)) -> 3
... A155: 10000 | B155: =10*LOG(0.5*10^(B126/10)+0.5*10^(AD126/10)) -> 74.154879 | C155: =10*LOG(0.5*10^(C126/10)+0.5*10^(AE126/10)) -> 66.071089 | D155: =10*LOG(0.5*10^(D126/10)+0.5*10^(AF126/10)) -> 61.089469 | E155: =10*LOG(0.5*10^(E126/10)+0.5*10^(AG126/10)) -> 72.084104 | F155: =10*LOG(0.5*10^(F126/10)+0.5*10^(AH126/10)) -> 68.884104 | G155: =10*LOG(0.5*10^(G126/10)+0.5*10^(AI126/10)) -> 72.484104 | H155: =10*LOG(0.5*10^(H126/10)+0.5*10^(AJ126/10)) -> 75.184104 | I155: =10*LOG(0.5*10^(I126/10)+0.5*10^(AK126/10)) -> 68.538663 | ... V155: =10*LOG(0.5*10^(V126/10)+0.5*10^(AX126/10)) -> 55.754879 | W155: 0 | X155: =10*LOG(0.5*10^(X126/10)+0.5*10^(AZ126/10)) -> 62.284104 | Y155: =10*LOG(0.5*10^(Y126/10)+0.5*10^(BA126/10)) -> 1.6 | Z155: =10*LOG(0.5*10^(Z126/10)+0.5*10^(BB126/10)) -> 1.6 | AA155: =10*LOG(0.5*10^(AA126/10)+0.5*10^(BC126/10)) -> 1.6

Sheet Totalgeräusch
C18: vorgegeben
C19: eingebbar
C20: berechnet | S20: Hess | T20: Hess | Y20: Tram | Z20: Tram | AA20: Tram
C21: Berechnung mit Rechenbeispielen geprüft | M21: Man A40 | N21: Neoplan | O21: Merce- | P21: MAN | Q21: Volvo | R21: Swiss | S21: ligh Tram | T21: ligh Tram | U21: Batterie- | V21: Batterie- | W21: Tram | X21: Bus
L22: Citaro | M22: Lions | N22: Centro- | O22: des | P22: A 35 | Q22: 7900H | R22: Trolley | S22: 3 Longo | T22: 3 Longo 2 | U22: bus | V22: bus | W22: Zürich | X22: Caetano
A23: Abstrahlcharakteristik | L23: O 350 | M23: City | N23: liner | O23: O 530 | P23: Midibus | R23: 3 | S23: Doppel- | T23: Doppel- | U23: SOR EBN 8 | V23: Volvo | W23: Cobra
L24: Gelenk- | M24: Gelenk- | N24: Gelenk- | O24: Stand- | P24: Stand- | R24: Gelenk- | S24: Gelenk- | T24: Gelenk- | V24: 7900 EH
A25: θ [°] | B25: 0 | L25: bus | M25: bus | N25: bus | O25: ardbus | P25: ardbus | Q25: Hybrid | R25: trolley | S25: trolley | T25: trolley
B26: cat 1 | C26: cat 2 | D26: cat 3 | E26: cat 4 | F26: cat 5 | G26: cat 6 | H26: cat 7 | I26: cat 8 | J26: cat 9 | K26: cat 10 | L26: Diesel | M26: Diesel | N26: Diesel | O26: Diesel | P26: Diesel | R26: Elektro | S26: Elektro | T26: Elektro | U26: Elektro | V26: Elektro | W26: Tram
A27: D1 | B27: -0.04 | C27: 0 | D27: -0.11 | E27: -0.11 | F27: -0.11 | G27: -0.11 | H27: -0.11 | I27: -0.04 | J27: -0.04 | K27: -0.04 | L27: =$B$27 -> -0.04 | M27: =$B$27 -> -0.04 | N27: =$B$27 -> -0.04 | O27: =$B$27 -> -0.04 | P27: =$B$27 -> -0.04 | Q27: =$B$27 -> -0.04 | R27: =$B$27 -> -0.04 | S27: =$B$27 -> -0.04 | ... V27: =$B$27 -> -0.04 | W27: 0 | X27: =$B$27 -> -0.04
A28: D2 | B28: 1.6 | C28: 0 | D28: 0 | E28: 0 | F28: 0 | G28: 0 | H28: 0 | I28: 1.6 | J28: 1.6 | K28: 1.6 | L28: =$B$28 -> 1.6 | M28: =$B$28 -> 1.6 | N28: =$B$28 -> 1.6 | O28: =$B$28 -> 1.6 | P28: =$B$28 -> 1.6 | Q28: =$B$28 -> 1.6 | R28: =$B$28 -> 1.6 | S28: =$B$28 -> 1.6 | ... V28: =$B$28 -> 1.6 | W28: 0 | X28: =$B$28 -> 1.6
A30: ∆Lw,θ(c,f) [dB] | B30: cat 1 | C30: cat 2 | D30: cat 3 | E30: cat 4 | F30: cat 5 | G30: cat 6 | H30: cat 7 | I30: cat 8 | J30: cat 9 | K30: cat 10
A31: 50 | B31: =B$27*(SIN($B$25*PI()/180))^3*(LOG($A31)+B$28)^3 -> 0 | C31: =C$27*(SIN($B$25*PI()/180))^3*(LOG($A31)+C$28)^3 -> 0 | D31: =D$27*(SIN($B$25*PI()/180))^3*(LOG($A31)+D$28)^3 -> 0 | E31: =E$27*(SIN($B$25*PI()/180))^3*(LOG($A31)+E$28)^3 -> 0 | F31: =F$27*(SIN($B$25*PI()/180))^3*(LOG($A31)+F$28)^3 -> 0 | G31: =G$27*(SIN($B$25*PI()/180))^3*(LOG($A31)+G$28)^3 -> 0 | H31: =H$27*(SIN($B$25*PI()/180))^3*(LOG($A31)+H$28)^3 -> 0 | I31: =I$27*(SIN($B$25*PI()/180))^3*(LOG($A31)+I$28)^3 -> 0 | ... AA31: =AA$27*(SIN($B$25*PI()/180))^3*(LOG($A31)+AA$28)^3 -> 0
A32: 63 | B32: =B$27*(SIN($B$25*PI()/180))^3*(LOG($A32)+B$28)^3 -> 0 | C32: =C$27*(SIN($B$25*PI()/180))^3*(LOG($A32)+C$28)^3 -> 0 | D32: =D$27*(SIN($B$25*PI()/180))^3*(LOG($A32)+D$28)^3 -> 0 | E32: =E$27*(SIN($B$25*PI()/180))^3*(LOG($A32)+E$28)^3 -> 0 | F32: =F$27*(SIN($B$25*PI()/180))^3*(LOG($A32)+F$28)^3 -> 0 | G32: =G$27*(SIN($B$25*PI()/180))^3*(LOG($A32)+G$28)^3 -> 0 | H32: =H$27*(SIN($B$25*PI()/180))^3*(LOG($A32)+H$28)^3 -> 0 | I32: =I$27*(SIN($B$25*PI()/180))^3*(LOG($A32)+I$28)^3 -> 0 | ... AA32: =AA$27*(SIN($B$25*PI()/180))^3*(LOG($A32)+AA$28)^3 -> 0
A33: 80 | B33: =B$27*(SIN($B$25*PI()/180))^3*(LOG($A33)+B$28)^3 -> 0 | C33: =C$27*(SIN($B$25*PI()/180))^3*(LOG($A33)+C$28)^3 -> 0 | D33: =D$27*(SIN($B$25*PI()/180))^3*(LOG($A33)+D$28)^3 -> 0 | E33: =E$27*(SIN($B$25*PI()/180))^3*(LOG($A33)+E$28)^3 -> 0 | F33: =F$27*(SIN($B$25*PI()/180))^3*(LOG($A33)+F$28)^3 -> 0 | G33: =G$27*(SIN($B$25*PI()/180))^3*(LOG($A33)+G$28)^3 -> 0 | H33: =H$27*(SIN($B$25*PI()/180))^3*(LOG($A33)+H$28)^3 -> 0 | I33: =I$27*(SIN($B$25*PI()/180))^3*(LOG($A33)+I$28)^3 -> 0 | ... AA33: =AA$27*(SIN($B$25*PI()/180))^3*(LOG($A33)+AA$28)^3 -> 0
A34: 100 | B34: =B$27*(SIN($B$25*PI()/180))^3*(LOG($A34)+B$28)^3 -> 0 | C34: =C$27*(SIN($B$25*PI()/180))^3*(LOG($A34)+C$28)^3 -> 0 | D34: =D$27*(SIN($B$25*PI()/180))^3*(LOG($A34)+D$28)^3 -> 0 | E34: =E$27*(SIN($B$25*PI()/180))^3*(LOG($A34)+E$28)^3 -> 0 | F34: =F$27*(SIN($B$25*PI()/180))^3*(LOG($A34)+F$28)^3 -> 0 | G34: =G$27*(SIN($B$25*PI()/180))^3*(LOG($A34)+G$28)^3 -> 0 | H34: =H$27*(SIN($B$25*PI()/180))^3*(LOG($A34)+H$28)^3 -> 0 | I34: =I$27*(SIN($B$25*PI()/180))^3*(LOG($A34)+I$28)^3 -> 0 | ... AA34: =AA$27*(SIN($B$25*PI()/180))^3*(LOG($A34)+AA$28)^3 -> 0
A35: 125 | B35: =B$27*(SIN($B$25*PI()/180))^3*(LOG($A35)+B$28)^3 -> 0 | C35: =C$27*(SIN($B$25*PI()/180))^3*(LOG($A35)+C$28)^3 -> 0 | D35: =D$27*(SIN($B$25*PI()/180))^3*(LOG($A35)+D$28)^3 -> 0 | E35: =E$27*(SIN($B$25*PI()/180))^3*(LOG($A35)+E$28)^3 -> 0 | F35: =F$27*(SIN($B$25*PI()/180))^3*(LOG($A35)+F$28)^3 -> 0 | G35: =G$27*(SIN($B$25*PI()/180))^3*(LOG($A35)+G$28)^3 -> 0 | H35: =H$27*(SIN($B$25*PI()/180))^3*(LOG($A35)+H$28)^3 -> 0 | I35: =I$27*(SIN($B$25*PI()/180))^3*(LOG($A35)+I$28)^3 -> 0 | ... AA35: =AA$27*(SIN($B$25*PI()/180))^3*(LOG($A35)+AA$28)^3 -> 0
A36: 160 | B36: =B$27*(SIN($B$25*PI()/180))^3*(LOG($A36)+B$28)^3 -> 0 | C36: =C$27*(SIN($B$25*PI()/180))^3*(LOG($A36)+C$28)^3 -> 0 | D36: =D$27*(SIN($B$25*PI()/180))^3*(LOG($A36)+D$28)^3 -> 0 | E36: =E$27*(SIN($B$25*PI()/180))^3*(LOG($A36)+E$28)^3 -> 0 | F36: =F$27*(SIN($B$25*PI()/180))^3*(LOG($A36)+F$28)^3 -> 0 | G36: =G$27*(SIN($B$25*PI()/180))^3*(LOG($A36)+G$28)^3 -> 0 | H36: =H$27*(SIN($B$25*PI()/180))^3*(LOG($A36)+H$28)^3 -> 0 | I36: =I$27*(SIN($B$25*PI()/180))^3*(LOG($A36)+I$28)^3 -> 0 | ... AA36: =AA$27*(SIN($B$25*PI()/180))^3*(LOG($A36)+AA$28)^3 -> 0
A37: 200 | B37: =B$27*(SIN($B$25*PI()/180))^3*(LOG($A37)+B$28)^3 -> 0 | C37: =C$27*(SIN($B$25*PI()/180))^3*(LOG($A37)+C$28)^3 -> 0 | D37: =D$27*(SIN($B$25*PI()/180))^3*(LOG($A37)+D$28)^3 -> 0 | E37: =E$27*(SIN($B$25*PI()/180))^3*(LOG($A37)+E$28)^3 -> 0 | F37: =F$27*(SIN($B$25*PI()/180))^3*(LOG($A37)+F$28)^3 -> 0 | G37: =G$27*(SIN($B$25*PI()/180))^3*(LOG($A37)+G$28)^3 -> 0 | H37: =H$27*(SIN($B$25*PI()/180))^3*(LOG($A37)+H$28)^3 -> 0 | I37: =I$27*(SIN($B$25*PI()/180))^3*(LOG($A37)+I$28)^3 -> 0 | ... AA37: =AA$27*(SIN($B$25*PI()/180))^3*(LOG($A37)+AA$28)^3 -> 0
A38: 250 | B38: =B$27*(SIN($B$25*PI()/180))^3*(LOG($A38)+B$28)^3 -> 0 | C38: =C$27*(SIN($B$25*PI()/180))^3*(LOG($A38)+C$28)^3 -> 0 | D38: =D$27*(SIN($B$25*PI()/180))^3*(LOG($A38)+D$28)^3 -> 0 | E38: =E$27*(SIN($B$25*PI()/180))^3*(LOG($A38)+E$28)^3 -> 0 | F38: =F$27*(SIN($B$25*PI()/180))^3*(LOG($A38)+F$28)^3 -> 0 | G38: =G$27*(SIN($B$25*PI()/180))^3*(LOG($A38)+G$28)^3 -> 0 | H38: =H$27*(SIN($B$25*PI()/180))^3*(LOG($A38)+H$28)^3 -> 0 | I38: =I$27*(SIN($B$25*PI()/180))^3*(LOG($A38)+I$28)^3 -> 0 | ... AA38: =AA$27*(SIN($B$25*PI()/180))^3*(LOG($A38)+AA$28)^3 -> 0
A39: 315 | B39: =B$27*(SIN($B$25*PI()/180))^3*(LOG($A39)+B$28)^3 -> 0 | C39: =C$27*(SIN($B$25*PI()/180))^3*(LOG($A39)+C$28)^3 -> 0 | D39: =D$27*(SIN($B$25*PI()/180))^3*(LOG($A39)+D$28)^3 -> 0 | E39: =E$27*(SIN($B$25*PI()/180))^3*(LOG($A39)+E$28)^3 -> 0 | F39: =F$27*(SIN($B$25*PI()/180))^3*(LOG($A39)+F$28)^3 -> 0 | G39: =G$27*(SIN($B$25*PI()/180))^3*(LOG($A39)+G$28)^3 -> 0 | H39: =H$27*(SIN($B$25*PI()/180))^3*(LOG($A39)+H$28)^3 -> 0 | I39: =I$27*(SIN($B$25*PI()/180))^3*(LOG($A39)+I$28)^3 -> 0 | ... AA39: =AA$27*(SIN($B$25*PI()/180))^3*(LOG($A39)+AA$28)^3 -> 0
A40: 400 | B40: =B$27*(SIN($B$25*PI()/180))^3*(LOG($A40)+B$28)^3 -> 0 | C40: =C$27*(SIN($B$25*PI()/180))^3*(LOG($A40)+C$28)^3 -> 0 | D40: =D$27*(SIN($B$25*PI()/180))^3*(LOG($A40)+D$28)^3 -> 0 | E40: =E$27*(SIN($B$25*PI()/180))^3*(LOG($A40)+E$28)^3 -> 0 | F40: =F$27*(SIN($B$25*PI()/180))^3*(LOG($A40)+F$28)^3 -> 0 | G40: =G$27*(SIN($B$25*PI()/180))^3*(LOG($A40)+G$28)^3 -> 0 | H40: =H$27*(SIN($B$25*PI()/180))^3*(LOG($A40)+H$28)^3 -> 0 | I40: =I$27*(SIN($B$25*PI()/180))^3*(LOG($A40)+I$28)^3 -> 0 | ... AA40: =AA$27*(SIN($B$25*PI()/180))^3*(LOG($A40)+AA$28)^3 -> 0
A41: 500 | B41: =B$27*(SIN($B$25*PI()/180))^3*(LOG($A41)+B$28)^3 -> 0 | C41: =C$27*(SIN($B$25*PI()/180))^3*(LOG($A41)+C$28)^3 -> 0 | D41: =D$27*(SIN($B$25*PI()/180))^3*(LOG($A41)+D$28)^3 -> 0 | E41: =E$27*(SIN($B$25*PI()/180))^3*(LOG($A41)+E$28)^3 -> 0 | F41: =F$27*(SIN($B$25*PI()/180))^3*(LOG($A41)+F$28)^3 -> 0 | G41: =G$27*(SIN($B$25*PI()/180))^3*(LOG($A41)+G$28)^3 -> 0 | H41: =H$27*(SIN($B$25*PI()/180))^3*(LOG($A41)+H$28)^3 -> 0 | I41: =I$27*(SIN($B$25*PI()/180))^3*(LOG($A41)+I$28)^3 -> 0 | ... AA41: =AA$27*(SIN($B$25*PI()/180))^3*(LOG($A41)+AA$28)^3 -> 0
A42: 630 | B42: =B$27*(SIN($B$25*PI()/180))^3*(LOG($A42)+B$28)^3 -> 0 | C42: =C$27*(SIN($B$25*PI()/180))^3*(LOG($A42)+C$28)^3 -> 0 | D42: =D$27*(SIN($B$25*PI()/180))^3*(LOG($A42)+D$28)^3 -> 0 | E42: =E$27*(SIN($B$25*PI()/180))^3*(LOG($A42)+E$28)^3 -> 0 | F42: =F$27*(SIN($B$25*PI()/180))^3*(LOG($A42)+F$28)^3 -> 0 | G42: =G$27*(SIN($B$25*PI()/180))^3*(LOG($A42)+G$28)^3 -> 0 | H42: =H$27*(SIN($B$25*PI()/180))^3*(LOG($A42)+H$28)^3 -> 0 | I42: =I$27*(SIN($B$25*PI()/180))^3*(LOG($A42)+I$28)^3 -> 0 | ... AA42: =AA$27*(SIN($B$25*PI()/180))^3*(LOG($A42)+AA$28)^3 -> 0
... A54: 10000 | B54: =B$27*(SIN($B$25*PI()/180))^3*(LOG($A54)+B$28)^3 -> 0 | C54: =C$27*(SIN($B$25*PI()/180))^3*(LOG($A54)+C$28)^3 -> 0 | D54: =D$27*(SIN($B$25*PI()/180))^3*(LOG($A54)+D$28)^3 -> 0 | E54: =E$27*(SIN($B$25*PI()/180))^3*(LOG($A54)+E$28)^3 -> 0 | F54: =F$27*(SIN($B$25*PI()/180))^3*(LOG($A54)+F$28)^3 -> 0 | G54: =G$27*(SIN($B$25*PI()/180))^3*(LOG($A54)+G$28)^3 -> 0 | H54: =H$27*(SIN($B$25*PI()/180))^3*(LOG($A54)+H$28)^3 -> 0 | I54: =I$27*(SIN($B$25*PI()/180))^3*(LOG($A54)+I$28)^3 -> 0 | ... AA54: =AA$27*(SIN($B$25*PI()/180))^3*(LOG($A54)+AA$28)^3 -> 0
A58: Totalgeräusch Schallleistung von einem Fahrzeug für einen bestimmten Elevationswinkel
A60: Lw(c,i) | B60: cat 1 | C60: cat 2 | D60: cat 3 | E60: cat 4 | F60: cat 5 | G60: cat 6 | H60: cat 7 | I60: cat 8 | J60: cat 9 | K60: cat 10
A61: 50 | B61: =10*LOG(10^(Antriebsgeräusch!B97/10)+10^(Rollgeräusch!B132/10))+B31 -> 99.724956 | C61: =10*LOG(10^(Antriebsgeräusch!C97/10)+10^(Rollgeräusch!C132/10))+C31 -> 98.561453 | D61: =10*LOG(10^(Antriebsgeräusch!D97/10)+10^(Rollgeräusch!D132/10))+D31 -> 91.40933 | E61: =10*LOG(10^(Antriebsgeräusch!E97/10)+10^(Rollgeräusch!E132/10))+E31 -> 92.813913 | F61: =10*LOG(10^(Antriebsgeräusch!F97/10)+10^(Rollgeräusch!F132/10))+F31 -> 95.882979 | G61: =10*LOG(10^(Antriebsgeräusch!G97/10)+10^(Rollgeräusch!G132/10))+G31 -> 94.428747 | H61: =10*LOG(10^(Antriebsgeräusch!H97/10)+10^(Rollgeräusch!H132/10))+H31 -> 94.983781 | I61: =10*LOG(10^(Antriebsgeräusch!I97/10)+10^(Rollgeräusch!I132/10))+I31 -> 100.35657 | ... AA61: =10*LOG(10^(Antriebsgeräusch!AA97/10)+10^(Rollgeräusch!AA132/10))+AA31 -> 4.0028947
A62: 63 | B62: =10*LOG(10^(Antriebsgeräusch!B98/10)+10^(Rollgeräusch!B133/10))+B32 -> 99.413026 | C62: =10*LOG(10^(Antriebsgeräusch!C98/10)+10^(Rollgeräusch!C133/10))+C32 -> 99.867742 | D62: =10*LOG(10^(Antriebsgeräusch!D98/10)+10^(Rollgeräusch!D133/10))+D32 -> 89.803741 | E62: =10*LOG(10^(Antriebsgeräusch!E98/10)+10^(Rollgeräusch!E133/10))+E32 -> 94.83394 | F62: =10*LOG(10^(Antriebsgeräusch!F98/10)+10^(Rollgeräusch!F133/10))+F32 -> 96.976873 | G62: =10*LOG(10^(Antriebsgeräusch!G98/10)+10^(Rollgeräusch!G133/10))+G32 -> 96.467772 | H62: =10*LOG(10^(Antriebsgeräusch!H98/10)+10^(Rollgeräusch!H133/10))+H32 -> 100.67935 | I62: =10*LOG(10^(Antriebsgeräusch!I98/10)+10^(Rollgeräusch!I133/10))+I32 -> 101.90516 | ... AA62: =10*LOG(10^(Antriebsgeräusch!AA98/10)+10^(Rollgeräusch!AA133/10))+AA32 -> 4.0028947
A63: 80 | B63: =10*LOG(10^(Antriebsgeräusch!B99/10)+10^(Rollgeräusch!B134/10))+B33 -> 97.818162 | C63: =10*LOG(10^(Antriebsgeräusch!C99/10)+10^(Rollgeräusch!C134/10))+C33 -> 100.36207 | D63: =10*LOG(10^(Antriebsgeräusch!D99/10)+10^(Rollgeräusch!D134/10))+D33 -> 88.979724 | E63: =10*LOG(10^(Antriebsgeräusch!E99/10)+10^(Rollgeräusch!E134/10))+E33 -> 92.550253 | F63: =10*LOG(10^(Antriebsgeräusch!F99/10)+10^(Rollgeräusch!F134/10))+F33 -> 92.43818 | G63: =10*LOG(10^(Antriebsgeräusch!G99/10)+10^(Rollgeräusch!G134/10))+G33 -> 95.403938 | H63: =10*LOG(10^(Antriebsgeräusch!H99/10)+10^(Rollgeräusch!H134/10))+H33 -> 98.542911 | I63: =10*LOG(10^(Antriebsgeräusch!I99/10)+10^(Rollgeräusch!I134/10))+I33 -> 99.447716 | ... AA63: =10*LOG(10^(Antriebsgeräusch!AA99/10)+10^(Rollgeräusch!AA134/10))+AA33 -> 4.0028947
A64: 100 | B64: =10*LOG(10^(Antriebsgeräusch!B100/10)+10^(Rollgeräusch!B135/10))+B34 -> 95.385033 | C64: =10*LOG(10^(Antriebsgeräusch!C100/10)+10^(Rollgeräusch!C135/10))+C34 -> 100.27833 | D64: =10*LOG(10^(Antriebsgeräusch!D100/10)+10^(Rollgeräusch!D135/10))+D34 -> 85.07476 | E64: =10*LOG(10^(Antriebsgeräusch!E100/10)+10^(Rollgeräusch!E135/10))+E34 -> 89.53346 | F64: =10*LOG(10^(Antriebsgeräusch!F100/10)+10^(Rollgeräusch!F135/10))+F34 -> 88.714246 | G64: =10*LOG(10^(Antriebsgeräusch!G100/10)+10^(Rollgeräusch!G135/10))+G34 -> 92.93608 | H64: =10*LOG(10^(Antriebsgeräusch!H100/10)+10^(Rollgeräusch!H135/10))+H34 -> 94.234602 | I64: =10*LOG(10^(Antriebsgeräusch!I100/10)+10^(Rollgeräusch!I135/10))+I34 -> 96.717246 | ... AA64: =10*LOG(10^(Antriebsgeräusch!AA100/10)+10^(Rollgeräusch!AA135/10))+AA34 -> 4.0028947
A65: 125 | B65: =10*LOG(10^(Antriebsgeräusch!B101/10)+10^(Rollgeräusch!B136/10))+B35 -> 98.36378 | C65: =10*LOG(10^(Antriebsgeräusch!C101/10)+10^(Rollgeräusch!C136/10))+C35 -> 101.83695 | D65: =10*LOG(10^(Antriebsgeräusch!D101/10)+10^(Rollgeräusch!D136/10))+D35 -> 82.447556 | E65: =10*LOG(10^(Antriebsgeräusch!E101/10)+10^(Rollgeräusch!E136/10))+E35 -> 87.855027 | F65: =10*LOG(10^(Antriebsgeräusch!F101/10)+10^(Rollgeräusch!F136/10))+F35 -> 88.941556 | G65: =10*LOG(10^(Antriebsgeräusch!G101/10)+10^(Rollgeräusch!G136/10))+G35 -> 91.948265 | H65: =10*LOG(10^(Antriebsgeräusch!H101/10)+10^(Rollgeräusch!H136/10))+H35 -> 94.395671 | I65: =10*LOG(10^(Antriebsgeräusch!I101/10)+10^(Rollgeräusch!I136/10))+I35 -> 96.207656 | ... AA65: =10*LOG(10^(Antriebsgeräusch!AA101/10)+10^(Rollgeräusch!AA136/10))+AA35 -> 4.0028947
A66: 160 | B66: =10*LOG(10^(Antriebsgeräusch!B102/10)+10^(Rollgeräusch!B137/10))+B36 -> 93.194881 | C66: =10*LOG(10^(Antriebsgeräusch!C102/10)+10^(Rollgeräusch!C137/10))+C36 -> 96.210492 | D66: =10*LOG(10^(Antriebsgeräusch!D102/10)+10^(Rollgeräusch!D137/10))+D36 -> 82.12362 | E66: =10*LOG(10^(Antriebsgeräusch!E102/10)+10^(Rollgeräusch!E137/10))+E36 -> 86.572952 | F66: =10*LOG(10^(Antriebsgeräusch!F102/10)+10^(Rollgeräusch!F137/10))+F36 -> 89.063776 | G66: =10*LOG(10^(Antriebsgeräusch!G102/10)+10^(Rollgeräusch!G137/10))+G36 -> 91.155811 | H66: =10*LOG(10^(Antriebsgeräusch!H102/10)+10^(Rollgeräusch!H137/10))+H36 -> 93.759304 | I66: =10*LOG(10^(Antriebsgeräusch!I102/10)+10^(Rollgeräusch!I137/10))+I36 -> 95.378264 | ... AA66: =10*LOG(10^(Antriebsgeräusch!AA102/10)+10^(Rollgeräusch!AA137/10))+AA36 -> 4.0028947
A67: 200 | B67: =10*LOG(10^(Antriebsgeräusch!B103/10)+10^(Rollgeräusch!B138/10))+B37 -> 97.236616 | C67: =10*LOG(10^(Antriebsgeräusch!C103/10)+10^(Rollgeräusch!C138/10))+C37 -> 91.661196 | D67: =10*LOG(10^(Antriebsgeräusch!D103/10)+10^(Rollgeräusch!D138/10))+D37 -> 82.041173 | E67: =10*LOG(10^(Antriebsgeräusch!E103/10)+10^(Rollgeräusch!E138/10))+E37 -> 86.819082 | F67: =10*LOG(10^(Antriebsgeräusch!F103/10)+10^(Rollgeräusch!F138/10))+F37 -> 88.467358 | G67: =10*LOG(10^(Antriebsgeräusch!G103/10)+10^(Rollgeräusch!G138/10))+G37 -> 90.358834 | H67: =10*LOG(10^(Antriebsgeräusch!H103/10)+10^(Rollgeräusch!H138/10))+H37 -> 93.65758 | I67: =10*LOG(10^(Antriebsgeräusch!I103/10)+10^(Rollgeräusch!I138/10))+I37 -> 93.543461 | ... AA67: =10*LOG(10^(Antriebsgeräusch!AA103/10)+10^(Rollgeräusch!AA138/10))+AA37 -> 4.0028947
A68: 250 | B68: =10*LOG(10^(Antriebsgeräusch!B104/10)+10^(Rollgeräusch!B139/10))+B38 -> 95.710928 | C68: =10*LOG(10^(Antriebsgeräusch!C104/10)+10^(Rollgeräusch!C139/10))+C38 -> 86.306228 | D68: =10*LOG(10^(Antriebsgeräusch!D104/10)+10^(Rollgeräusch!D139/10))+D38 -> 83.628617 | E68: =10*LOG(10^(Antriebsgeräusch!E104/10)+10^(Rollgeräusch!E139/10))+E38 -> 88.796805 | F68: =10*LOG(10^(Antriebsgeräusch!F104/10)+10^(Rollgeräusch!F139/10))+F38 -> 88.609231 | G68: =10*LOG(10^(Antriebsgeräusch!G104/10)+10^(Rollgeräusch!G139/10))+G38 -> 90.382967 | H68: =10*LOG(10^(Antriebsgeräusch!H104/10)+10^(Rollgeräusch!H139/10))+H38 -> 94.680875 | I68: =10*LOG(10^(Antriebsgeräusch!I104/10)+10^(Rollgeräusch!I139/10))+I38 -> 94.581649 | ... AA68: =10*LOG(10^(Antriebsgeräusch!AA104/10)+10^(Rollgeräusch!AA139/10))+AA38 -> 4.0028947
A69: 315 | B69: =10*LOG(10^(Antriebsgeräusch!B105/10)+10^(Rollgeräusch!B140/10))+B39 -> 94.134223 | C69: =10*LOG(10^(Antriebsgeräusch!C105/10)+10^(Rollgeräusch!C140/10))+C39 -> 82.802994 | D69: =10*LOG(10^(Antriebsgeräusch!D105/10)+10^(Rollgeräusch!D140/10))+D39 -> 83.438143 | E69: =10*LOG(10^(Antriebsgeräusch!E105/10)+10^(Rollgeräusch!E140/10))+E39 -> 88.550584 | F69: =10*LOG(10^(Antriebsgeräusch!F105/10)+10^(Rollgeräusch!F140/10))+F39 -> 87.548921 | G69: =10*LOG(10^(Antriebsgeräusch!G105/10)+10^(Rollgeräusch!G140/10))+G39 -> 91.259529 | H69: =10*LOG(10^(Antriebsgeräusch!H105/10)+10^(Rollgeräusch!H140/10))+H39 -> 99.499506 | I69: =10*LOG(10^(Antriebsgeräusch!I105/10)+10^(Rollgeräusch!I140/10))+I39 -> 96.567804 | ... AA69: =10*LOG(10^(Antriebsgeräusch!AA105/10)+10^(Rollgeräusch!AA140/10))+AA39 -> 4.0028947
A70: 400 | B70: =10*LOG(10^(Antriebsgeräusch!B106/10)+10^(Rollgeräusch!B141/10))+B40 -> 95.666921 | C70: =10*LOG(10^(Antriebsgeräusch!C106/10)+10^(Rollgeräusch!C141/10))+C40 -> 82.947911 | D70: =10*LOG(10^(Antriebsgeräusch!D106/10)+10^(Rollgeräusch!D141/10))+D40 -> 82.852498 | E70: =10*LOG(10^(Antriebsgeräusch!E106/10)+10^(Rollgeräusch!E141/10))+E40 -> 88.219198 | F70: =10*LOG(10^(Antriebsgeräusch!F106/10)+10^(Rollgeräusch!F141/10))+F40 -> 87.260744 | G70: =10*LOG(10^(Antriebsgeräusch!G106/10)+10^(Rollgeräusch!G141/10))+G40 -> 92.45781 | H70: =10*LOG(10^(Antriebsgeräusch!H106/10)+10^(Rollgeräusch!H141/10))+H40 -> 98.826391 | I70: =10*LOG(10^(Antriebsgeräusch!I106/10)+10^(Rollgeräusch!I141/10))+I40 -> 95.426421 | ... AA70: =10*LOG(10^(Antriebsgeräusch!AA106/10)+10^(Rollgeräusch!AA141/10))+AA40 -> 3.6516153
A71: 500 | B71: =10*LOG(10^(Antriebsgeräusch!B107/10)+10^(Rollgeräusch!B142/10))+B41 -> 93.504816 | C71: =10*LOG(10^(Antriebsgeräusch!C107/10)+10^(Rollgeräusch!C142/10))+C41 -> 83.070408 | D71: =10*LOG(10^(Antriebsgeräusch!D107/10)+10^(Rollgeräusch!D142/10))+D41 -> 82.211883 | E71: =10*LOG(10^(Antriebsgeräusch!E107/10)+10^(Rollgeräusch!E142/10))+E41 -> 87.612242 | F71: =10*LOG(10^(Antriebsgeräusch!F107/10)+10^(Rollgeräusch!F142/10))+F41 -> 87.390957 | G71: =10*LOG(10^(Antriebsgeräusch!G107/10)+10^(Rollgeräusch!G142/10))+G41 -> 92.796714 | H71: =10*LOG(10^(Antriebsgeräusch!H107/10)+10^(Rollgeräusch!H142/10))+H41 -> 98.572615 | I71: =10*LOG(10^(Antriebsgeräusch!I107/10)+10^(Rollgeräusch!I142/10))+I41 -> 96.574439 | ... AA71: =10*LOG(10^(Antriebsgeräusch!AA107/10)+10^(Rollgeräusch!AA142/10))+AA41 -> 3.0103
A72: 630 | B72: =10*LOG(10^(Antriebsgeräusch!B108/10)+10^(Rollgeräusch!B143/10))+B42 -> 95.564987 | C72: =10*LOG(10^(Antriebsgeräusch!C108/10)+10^(Rollgeräusch!C143/10))+C42 -> 84.321031 | D72: =10*LOG(10^(Antriebsgeräusch!D108/10)+10^(Rollgeräusch!D143/10))+D42 -> 84.79762 | E72: =10*LOG(10^(Antriebsgeräusch!E108/10)+10^(Rollgeräusch!E143/10))+E42 -> 92.833812 | F72: =10*LOG(10^(Antriebsgeräusch!F108/10)+10^(Rollgeräusch!F143/10))+F42 -> 91.425518 | G72: =10*LOG(10^(Antriebsgeräusch!G108/10)+10^(Rollgeräusch!G143/10))+G42 -> 96.44189 | H72: =10*LOG(10^(Antriebsgeräusch!H108/10)+10^(Rollgeräusch!H143/10))+H42 -> 103.50871 | I72: =10*LOG(10^(Antriebsgeräusch!I108/10)+10^(Rollgeräusch!I143/10))+I42 -> 98.039989 | ... AA72: =10*LOG(10^(Antriebsgeräusch!AA108/10)+10^(Rollgeräusch!AA143/10))+AA42 -> 4.7643486
... A84: 10000 | B84: =10*LOG(10^(Antriebsgeräusch!B120/10)+10^(Rollgeräusch!B155/10))+B54 -> 74.277429 | C84: =10*LOG(10^(Antriebsgeräusch!C120/10)+10^(Rollgeräusch!C155/10))+C54 -> 75.308365 | D84: =10*LOG(10^(Antriebsgeräusch!D120/10)+10^(Rollgeräusch!D155/10))+D54 -> 62.373997 | E84: =10*LOG(10^(Antriebsgeräusch!E120/10)+10^(Rollgeräusch!E155/10))+E54 -> 72.240053 | F84: =10*LOG(10^(Antriebsgeräusch!F120/10)+10^(Rollgeräusch!F155/10))+F54 -> 70.736566 | G84: =10*LOG(10^(Antriebsgeräusch!G120/10)+10^(Rollgeräusch!G155/10))+G54 -> 77.628537 | H84: =10*LOG(10^(Antriebsgeräusch!H120/10)+10^(Rollgeräusch!H155/10))+H54 -> 78.644972 | I84: =10*LOG(10^(Antriebsgeräusch!I120/10)+10^(Rollgeräusch!I155/10))+I54 -> 76.465713 | ... AA84: =10*LOG(10^(Antriebsgeräusch!AA120/10)+10^(Rollgeräusch!AA155/10))+AA54 -> 3.8835697

Sheet Lw Line
C19: vorgegeben
C20: eingebbar | T20: Hess | U20: Hess | Z20: Tram | AA20: Tram | AB20: Tram
C21: berechnet | N21: Man A40 | O21: Neoplan | P21: Merce- | Q21: MAN | R21: Volvo | S21: Swiss | T21: ligh Tram | U21: ligh Tram | V21: Batterie- | W21: Batterie- | X21: Tram | Y21: Bus
C22: Berechnung mit Rechenbeispielen geprüft | M22: Citaro | N22: Lions | O22: Centro- | P22: des | Q22: A 35 | R22: 7900H | S22: Trolley | T22: 3 Longo | U22: 3 Longo 2 | V22: bus | W22: bus | X22: Zürich | Y22: Caetano
M23: O 350 | N23: City | O23: liner | P23: O 530 | Q23: Midibus | S23: 3 | T23: Doppel- | U23: Doppel- | V23: SOR EBN 8 | W23: Volvo | X23: Cobra
M24: Gelenk- | N24: Gelenk- | O24: Gelenk- | P24: Stand- | Q24: Stand- | S24: Gelenk- | T24: Gelenk- | U24: Gelenk- | W24: 7900 EH
A25: Verkehrsmenge Beispiel A | M25: bus | N25: bus | O25: bus | P25: ardbus | Q25: ardbus | R25: Hybrid | S25: trolley | T25: trolley | U25: trolley
C26: cat 1 | D26: cat 2 | E26: cat 3 | F26: cat 4 | G26: cat 5 | H26: cat 6 | I26: cat 7 | J26: cat 8 | K26: cat 9 | L26: cat 10 | M26: Diesel | N26: Diesel | O26: Diesel | P26: Diesel | Q26: Diesel | S26: Elektro | T26: Elektro | U26: Elektro | V26: Elektro | W26: Elektro | X26: Tram
A27: N( c) | B27: [Fz/h] | C27: =Leq!C25 -> 0 | D27: =Leq!D25 -> 0 | E27: =Leq!E25 -> 287.33524 | F27: =Leq!F25 -> 0 | G27: =Leq!G25 -> 0 | H27: =Leq!H25 -> 0 | I27: =Leq!I25 -> 0 | J27: =Leq!J25 -> 10.789759 | ... AB27: =Leq!AB25 -> 0
A28: v( c) | B28: [km/h] | C28: =Leq!C26 -> 50 | D28: =Leq!D26 -> 30 | E28: =Leq!E26 -> 39 | F28: =Leq!F26 -> 50 | G28: =Leq!G26 -> 50 | H28: =Leq!H26 -> 50 | I28: =Leq!I26 -> 50 | J28: =Leq!J26 -> 39 | ... AB28: =Leq!AB26 -> 50
A29: θ | B29: [°] | C29: =Totalgeräusch!B25 -> 0
A32: Totale Schallleistung pro Meter einer Linienquelle unter Berücksichtigung der Verkehrsmenge
A34: Lw'eq,line(c,i) | C34: cat 1 | D34: cat 2 | E34: cat 3 | F34: cat 4 | G34: cat 5 | H34: cat 6 | I34: cat 7 | J34: cat 8 | K34: cat 9 | L34: cat 10
B35: 50 | C35: =IF(C$27=0,0,Totalgeräusch!B61+10*LOG(C$27/(1000*C$28))) -> 0 | D35: =IF(D$27=0,0,Totalgeräusch!C61+10*LOG(D$27/(1000*D$28))) -> 0 | E35: =IF(E$27=0,0,Totalgeräusch!D61+10*LOG(E$27/(1000*E$28))) -> 70.082573 | F35: =IF(F$27=0,0,Totalgeräusch!E61+10*LOG(F$27/(1000*F$28))) -> 0 | G35: =IF(G$27=0,0,Totalgeräusch!F61+10*LOG(G$27/(1000*G$28))) -> 0 | H35: =IF(H$27=0,0,Totalgeräusch!G61+10*LOG(H$27/(1000*H$28))) -> 0 | I35: =IF(I$27=0,0,Totalgeräusch!H61+10*LOG(I$27/(1000*I$28))) -> 0 | J35: =IF(J$27=0,0,Totalgeräusch!I61+10*LOG(J$27/(1000*J$28))) -> 64.776045 | ... AB35: =IF(AB$27=0,0,Totalgeräusch!AA61+10*LOG(AB$27/(1000*AB$28))) -> 0
B36: 63 | C36: =IF(C$27=0,0,Totalgeräusch!B62+10*LOG(C$27/(1000*C$28))) -> 0 | D36: =IF(D$27=0,0,Totalgeräusch!C62+10*LOG(D$27/(1000*D$28))) -> 0 | E36: =IF(E$27=0,0,Totalgeräusch!D62+10*LOG(E$27/(1000*E$28))) -> 68.476984 | F36: =IF(F$27=0,0,Totalgeräusch!E62+10*LOG(F$27/(1000*F$28))) -> 0 | G36: =IF(G$27=0,0,Totalgeräusch!F62+10*LOG(G$27/(1000*G$28))) -> 0 | H36: =IF(H$27=0,0,Totalgeräusch!G62+10*LOG(H$27/(1000*H$28))) -> 0 | I36: =IF(I$27=0,0,Totalgeräusch!H62+10*LOG(I$27/(1000*I$28))) -> 0 | J36: =IF(J$27=0,0,Totalgeräusch!I62+10*LOG(J$27/(1000*J$28))) -> 66.324627 | ... AB36: =IF(AB$27=0,0,Totalgeräusch!AA62+10*LOG(AB$27/(1000*AB$28))) -> 0
B37: 80 | C37: =IF(C$27=0,0,Totalgeräusch!B63+10*LOG(C$27/(1000*C$28))) -> 0 | D37: =IF(D$27=0,0,Totalgeräusch!C63+10*LOG(D$27/(1000*D$28))) -> 0 | E37: =IF(E$27=0,0,Totalgeräusch!D63+10*LOG(E$27/(1000*E$28))) -> 67.652967 | F37: =IF(F$27=0,0,Totalgeräusch!E63+10*LOG(F$27/(1000*F$28))) -> 0 | G37: =IF(G$27=0,0,Totalgeräusch!F63+10*LOG(G$27/(1000*G$28))) -> 0 | H37: =IF(H$27=0,0,Totalgeräusch!G63+10*LOG(H$27/(1000*H$28))) -> 0 | I37: =IF(I$27=0,0,Totalgeräusch!H63+10*LOG(I$27/(1000*I$28))) -> 0 | J37: =IF(J$27=0,0,Totalgeräusch!I63+10*LOG(J$27/(1000*J$28))) -> 63.867188 | ... AB37: =IF(AB$27=0,0,Totalgeräusch!AA63+10*LOG(AB$27/(1000*AB$28))) -> 0
B38: 100 | C38: =IF(C$27=0,0,Totalgeräusch!B64+10*LOG(C$27/(1000*C$28))) -> 0 | D38: =IF(D$27=0,0,Totalgeräusch!C64+10*LOG(D$27/(1000*D$28))) -> 0 | E38: =IF(E$27=0,0,Totalgeräusch!D64+10*LOG(E$27/(1000*E$28))) -> 63.748003 | F38: =IF(F$27=0,0,Totalgeräusch!E64+10*LOG(F$27/(1000*F$28))) -> 0 | G38: =IF(G$27=0,0,Totalgeräusch!F64+10*LOG(G$27/(1000*G$28))) -> 0 | H38: =IF(H$27=0,0,Totalgeräusch!G64+10*LOG(H$27/(1000*H$28))) -> 0 | I38: =IF(I$27=0,0,Totalgeräusch!H64+10*LOG(I$27/(1000*I$28))) -> 0 | J38: =IF(J$27=0,0,Totalgeräusch!I64+10*LOG(J$27/(1000*J$28))) -> 61.136717 | ... AB38: =IF(AB$27=0,0,Totalgeräusch!AA64+10*LOG(AB$27/(1000*AB$28))) -> 0
B39: 125 | C39: =IF(C$27=0,0,Totalgeräusch!B65+10*LOG(C$27/(1000*C$28))) -> 0 | D39: =IF(D$27=0,0,Totalgeräusch!C65+10*LOG(D$27/(1000*D$28))) -> 0 | E39: =IF(E$27=0,0,Totalgeräusch!D65+10*LOG(E$27/(1000*E$28))) -> 61.120798 | F39: =IF(F$27=0,0,Totalgeräusch!E65+10*LOG(F$27/(1000*F$28))) -> 0 | G39: =IF(G$27=0,0,Totalgeräusch!F65+10*LOG(G$27/(1000*G$28))) -> 0 | H39: =IF(H$27=0,0,Totalgeräusch!G65+10*LOG(H$27/(1000*H$28))) -> 0 | I39: =IF(I$27=0,0,Totalgeräusch!H65+10*LOG(I$27/(1000*I$28))) -> 0 | J39: =IF(J$27=0,0,Totalgeräusch!I65+10*LOG(J$27/(1000*J$28))) -> 60.627127 | ... AB39: =IF(AB$27=0,0,Totalgeräusch!AA65+10*LOG(AB$27/(1000*AB$28))) -> 0
B40: 160 | C40: =IF(C$27=0,0,Totalgeräusch!B66+10*LOG(C$27/(1000*C$28))) -> 0 | D40: =IF(D$27=0,0,Totalgeräusch!C66+10*LOG(D$27/(1000*D$28))) -> 0 | E40: =IF(E$27=0,0,Totalgeräusch!D66+10*LOG(E$27/(1000*E$28))) -> 60.796863 | F40: =IF(F$27=0,0,Totalgeräusch!E66+10*LOG(F$27/(1000*F$28))) -> 0 | G40: =IF(G$27=0,0,Totalgeräusch!F66+10*LOG(G$27/(1000*G$28))) -> 0 | H40: =IF(H$27=0,0,Totalgeräusch!G66+10*LOG(H$27/(1000*H$28))) -> 0 | I40: =IF(I$27=0,0,Totalgeräusch!H66+10*LOG(I$27/(1000*I$28))) -> 0 | J40: =IF(J$27=0,0,Totalgeräusch!I66+10*LOG(J$27/(1000*J$28))) -> 59.797736 | ... AB40: =IF(AB$27=0,0,Totalgeräusch!AA66+10*LOG(AB$27/(1000*AB$28))) -> 0
B41: 200 | C41: =IF(C$27=0,0,Totalgeräusch!B67+10*LOG(C$27/(1000*C$28))) -> 0 | D41: =IF(D$27=0,0,Totalgeräusch!C67+10*LOG(D$27/(1000*D$28))) -> 0 | E41: =IF(E$27=0,0,Totalgeräusch!D67+10*LOG(E$27/(1000*E$28))) -> 60.714416 | F41: =IF(F$27=0,0,Totalgeräusch!E67+10*LOG(F$27/(1000*F$28))) -> 0 | G41: =IF(G$27=0,0,Totalgeräusch!F67+10*LOG(G$27/(1000*G$28))) -> 0 | H41: =IF(H$27=0,0,Totalgeräusch!G67+10*LOG(H$27/(1000*H$28))) -> 0 | I41: =IF(I$27=0,0,Totalgeräusch!H67+10*LOG(I$27/(1000*I$28))) -> 0 | J41: =IF(J$27=0,0,Totalgeräusch!I67+10*LOG(J$27/(1000*J$28))) -> 57.962932 | ... AB41: =IF(AB$27=0,0,Totalgeräusch!AA67+10*LOG(AB$27/(1000*AB$28))) -> 0
B42: 250 | C42: =IF(C$27=0,0,Totalgeräusch!B68+10*LOG(C$27/(1000*C$28))) -> 0 | D42: =IF(D$27=0,0,Totalgeräusch!C68+10*LOG(D$27/(1000*D$28))) -> 0 | E42: =IF(E$27=0,0,Totalgeräusch!D68+10*LOG(E$27/(1000*E$28))) -> 62.30186 | F42: =IF(F$27=0,0,Totalgeräusch!E68+10*LOG(F$27/(1000*F$28))) -> 0 | G42: =IF(G$27=0,0,Totalgeräusch!F68+10*LOG(G$27/(1000*G$28))) -> 0 | H42: =IF(H$27=0,0,Totalgeräusch!G68+10*LOG(H$27/(1000*H$28))) -> 0 | I42: =IF(I$27=0,0,Totalgeräusch!H68+10*LOG(I$27/(1000*I$28))) -> 0 | J42: =IF(J$27=0,0,Totalgeräusch!I68+10*LOG(J$27/(1000*J$28))) -> 59.00112 | ... AB42: =IF(AB$27=0,0,Totalgeräusch!AA68+10*LOG(AB$27/(1000*AB$28))) -> 0
B43: 315 | C43: =IF(C$27=0,0,Totalgeräusch!B69+10*LOG(C$27/(1000*C$28))) -> 0 | D43: =IF(D$27=0,0,Totalgeräusch!C69+10*LOG(D$27/(1000*D$28))) -> 0 | E43: =IF(E$27=0,0,Totalgeräusch!D69+10*LOG(E$27/(1000*E$28))) -> 62.111386 | F43: =IF(F$27=0,0,Totalgeräusch!E69+10*LOG(F$27/(1000*F$28))) -> 0 | G43: =IF(G$27=0,0,Totalgeräusch!F69+10*LOG(G$27/(1000*G$28))) -> 0 | H43: =IF(H$27=0,0,Totalgeräusch!G69+10*LOG(H$27/(1000*H$28))) -> 0 | I43: =IF(I$27=0,0,Totalgeräusch!H69+10*LOG(I$27/(1000*I$28))) -> 0 | J43: =IF(J$27=0,0,Totalgeräusch!I69+10*LOG(J$27/(1000*J$28))) -> 60.987275 | ... AB43: =IF(AB$27=0,0,Totalgeräusch!AA69+10*LOG(AB$27/(1000*AB$28))) -> 0
B44: 400 | C44: =IF(C$27=0,0,Totalgeräusch!B70+10*LOG(C$27/(1000*C$28))) -> 0 | D44: =IF(D$27=0,0,Totalgeräusch!C70+10*LOG(D$27/(1000*D$28))) -> 0 | E44: =IF(E$27=0,0,Totalgeräusch!D70+10*LOG(E$27/(1000*E$28))) -> 61.525741 | F44: =IF(F$27=0,0,Totalgeräusch!E70+10*LOG(F$27/(1000*F$28))) -> 0 | G44: =IF(G$27=0,0,Totalgeräusch!F70+10*LOG(G$27/(1000*G$28))) -> 0 | H44: =IF(H$27=0,0,Totalgeräusch!G70+10*LOG(H$27/(1000*H$28))) -> 0 | I44: =IF(I$27=0,0,Totalgeräusch!H70+10*LOG(I$27/(1000*I$28))) -> 0 | J44: =IF(J$27=0,0,Totalgeräusch!I70+10*LOG(J$27/(1000*J$28))) -> 59.845893 | ... AB44: =IF(AB$27=0,0,Totalgeräusch!AA70+10*LOG(AB$27/(1000*AB$28))) -> 0
B45: 500 | C45: =IF(C$27=0,0,Totalgeräusch!B71+10*LOG(C$27/(1000*C$28))) -> 0 | D45: =IF(D$27=0,0,Totalgeräusch!C71+10*LOG(D$27/(1000*D$28))) -> 0 | E45: =IF(E$27=0,0,Totalgeräusch!D71+10*LOG(E$27/(1000*E$28))) -> 60.885126 | F45: =IF(F$27=0,0,Totalgeräusch!E71+10*LOG(F$27/(1000*F$28))) -> 0 | G45: =IF(G$27=0,0,Totalgeräusch!F71+10*LOG(G$27/(1000*G$28))) -> 0 | H45: =IF(H$27=0,0,Totalgeräusch!G71+10*LOG(H$27/(1000*H$28))) -> 0 | I45: =IF(I$27=0,0,Totalgeräusch!H71+10*LOG(I$27/(1000*I$28))) -> 0 | J45: =IF(J$27=0,0,Totalgeräusch!I71+10*LOG(J$27/(1000*J$28))) -> 60.99391 | ... AB45: =IF(AB$27=0,0,Totalgeräusch!AA71+10*LOG(AB$27/(1000*AB$28))) -> 0
B46: 630 | C46: =IF(C$27=0,0,Totalgeräusch!B72+10*LOG(C$27/(1000*C$28))) -> 0 | D46: =IF(D$27=0,0,Totalgeräusch!C72+10*LOG(D$27/(1000*D$28))) -> 0 | E46: =IF(E$27=0,0,Totalgeräusch!D72+10*LOG(E$27/(1000*E$28))) -> 63.470863 | F46: =IF(F$27=0,0,Totalgeräusch!E72+10*LOG(F$27/(1000*F$28))) -> 0 | G46: =IF(G$27=0,0,Totalgeräusch!F72+10*LOG(G$27/(1000*G$28))) -> 0 | H46: =IF(H$27=0,0,Totalgeräusch!G72+10*LOG(H$27/(1000*H$28))) -> 0 | I46: =IF(I$27=0,0,Totalgeräusch!H72+10*LOG(I$27/(1000*I$28))) -> 0 | J46: =IF(J$27=0,0,Totalgeräusch!I72+10*LOG(J$27/(1000*J$28))) -> 62.45946 | ... AB46: =IF(AB$27=0,0,Totalgeräusch!AA72+10*LOG(AB$27/(1000*AB$28))) -> 0
... B58: 10000 | C58: =IF(C$27=0,0,Totalgeräusch!B84+10*LOG(C$27/(1000*C$28))) -> 0 | D58: =IF(D$27=0,0,Totalgeräusch!C84+10*LOG(D$27/(1000*D$28))) -> 0 | E58: =IF(E$27=0,0,Totalgeräusch!D84+10*LOG(E$27/(1000*E$28))) -> 41.04724 | F58: =IF(F$27=0,0,Totalgeräusch!E84+10*LOG(F$27/(1000*F$28))) -> 0 | G58: =IF(G$27=0,0,Totalgeräusch!F84+10*LOG(G$27/(1000*G$28))) -> 0 | H58: =IF(H$27=0,0,Totalgeräusch!G84+10*LOG(H$27/(1000*H$28))) -> 0 | I58: =IF(I$27=0,0,Totalgeräusch!H84+10*LOG(I$27/(1000*I$28))) -> 0 | J58: =IF(J$27=0,0,Totalgeräusch!I84+10*LOG(J$27/(1000*J$28))) -> 40.885184 | ... AB58: =IF(AB$27=0,0,Totalgeräusch!AA84+10*LOG(AB$27/(1000*AB$28))) -> 0
A62: Energetische Summe aller Fahrzeugkategorien pro Meter einer Linienquelle unter Berücksichtigung der Verkehrsmengen
AH63: Oktavpegel
A64: Lw'eq,line(c,i) | B64: cat 1 | C64: cat 2 | D64: cat 3 | E64: cat 4 | F64: cat 5 | G64: cat 6 | H64: cat 7 | I64: cat 8 | J64: cat 9 | K64: cat 10 | AC64: Summe | AD64: Lweq,line | AE64: A-Filter | AF64: dBA | AG64: Energie | AH64: dBA | AI64: Energie
A65: 50 | B65: =IF(C35=0,0,10^((C35)/10)) -> 0 | C65: =IF(D35=0,0,10^((D35)/10)) -> 0 | D65: =IF(E35=0,0,10^((E35)/10)) -> 10191950 | E65: =IF(F35=0,0,10^((F35)/10)) -> 0 | F65: =IF(G35=0,0,10^((G35)/10)) -> 0 | G65: =IF(H35=0,0,10^((H35)/10)) -> 0 | H65: =IF(I35=0,0,10^((I35)/10)) -> 0 | I65: =IF(J35=0,0,10^((J35)/10)) -> 3003339.8 | ... AB65: =IF(AC35=0,0,10^((AC35)/10)) -> 0 | AC65: =SUM(B65:AB65) -> 13195290 | AD65: =10*LOG(AC65) -> 71.204189 | AE65: -30.3 | AF65: =AD65+AE65-3.1 -> 37.804189 | AG65: =10^(AF65/10) -> 6031.4111
A66: 63 | B66: =IF(C36=0,0,10^((C36)/10)) -> 0 | C66: =IF(D36=0,0,10^((D36)/10)) -> 0 | D66: =IF(E36=0,0,10^((E36)/10)) -> 7042039.1 | E66: =IF(F36=0,0,10^((F36)/10)) -> 0 | F66: =IF(G36=0,0,10^((G36)/10)) -> 0 | G66: =IF(H36=0,0,10^((H36)/10)) -> 0 | H66: =IF(I36=0,0,10^((I36)/10)) -> 0 | I66: =IF(J36=0,0,10^((J36)/10)) -> 4290053.4 | ... AB66: =IF(AC36=0,0,10^((AC36)/10)) -> 0 | AC66: =SUM(B66:AB66) -> 11332092 | AD66: =10*LOG(AC66) -> 70.543101 | AE66: -26.3 | AF66: =AD66+AE66-3.1 -> 41.143101 | AG66: =10^(AF66/10) -> 13010.983 | AH66: =10*LOG(SUM(AG65:AG67)) -> 46.157167 | AI66: =10^(AH66/10) -> 41277.817
A67: 80 | B67: =IF(C37=0,0,10^((C37)/10)) -> 0 | C67: =IF(D37=0,0,10^((D37)/10)) -> 0 | D67: =IF(E37=0,0,10^((E37)/10)) -> 5825010.1 | E67: =IF(F37=0,0,10^((F37)/10)) -> 0 | F67: =IF(G37=0,0,10^((G37)/10)) -> 0 | G67: =IF(H37=0,0,10^((H37)/10)) -> 0 | H67: =IF(I37=0,0,10^((I37)/10)) -> 0 | I67: =IF(J37=0,0,10^((J37)/10)) -> 2436232.6 | ... AB67: =IF(AC37=0,0,10^((AC37)/10)) -> 0 | AC67: =SUM(B67:AB67) -> 8261242.8 | AD67: =10*LOG(AC67) -> 69.170454 | AE67: -22.6 | AF67: =AD67+AE67-3.1 -> 43.470454 | AG67: =10^(AF67/10) -> 22235.422
A68: 100 | B68: =IF(C38=0,0,10^((C38)/10)) -> 0 | C68: =IF(D38=0,0,10^((D38)/10)) -> 0 | D68: =IF(E38=0,0,10^((E38)/10)) -> 2370283.5 | E68: =IF(F38=0,0,10^((F38)/10)) -> 0 | F68: =IF(G38=0,0,10^((G38)/10)) -> 0 | G68: =IF(H38=0,0,10^((H38)/10)) -> 0 | H68: =IF(I38=0,0,10^((I38)/10)) -> 0 | I68: =IF(J38=0,0,10^((J38)/10)) -> 1299187.1 | ... AB68: =IF(AC38=0,0,10^((AC38)/10)) -> 0 | AC68: =SUM(B68:AB68) -> 3669470.6 | AD68: =10*LOG(AC68) -> 65.646034 | AE68: -19.2 | AF68: =AD68+AE68-3.1 -> 43.346034 | AG68: =10^(AF68/10) -> 21607.445
A69: 125 | B69: =IF(C39=0,0,10^((C39)/10)) -> 0 | C69: =IF(D39=0,0,10^((D39)/10)) -> 0 | D69: =IF(E39=0,0,10^((E39)/10)) -> 1294433.8 | E69: =IF(F39=0,0,10^((F39)/10)) -> 0 | F69: =IF(G39=0,0,10^((G39)/10)) -> 0 | G69: =IF(H39=0,0,10^((H39)/10)) -> 0 | H69: =IF(I39=0,0,10^((I39)/10)) -> 0 | I69: =IF(J39=0,0,10^((J39)/10)) -> 1155347.7 | ... AB69: =IF(AC39=0,0,10^((AC39)/10)) -> 0 | AC69: =SUM(B69:AB69) -> 2449781.5 | AD69: =10*LOG(AC69) -> 63.891274 | AE69: -16.1 | AF69: =AD69+AE69-3.1 -> 44.691274 | AG69: =10^(AF69/10) -> 29452.852 | AH69: =10*LOG(SUM(AG68:AG70)) -> 49.970572 | AI69: =10^(AH69/10) -> 99324.685
A70: 160 | B70: =IF(C40=0,0,10^((C40)/10)) -> 0 | C70: =IF(D40=0,0,10^((D40)/10)) -> 0 | D70: =IF(E40=0,0,10^((E40)/10)) -> 1201396.2 | E70: =IF(F40=0,0,10^((F40)/10)) -> 0 | F70: =IF(G40=0,0,10^((G40)/10)) -> 0 | G70: =IF(H40=0,0,10^((H40)/10)) -> 0 | H70: =IF(I40=0,0,10^((I40)/10)) -> 0 | I70: =IF(J40=0,0,10^((J40)/10)) -> 954494.8 | ... AB70: =IF(AC40=0,0,10^((AC40)/10)) -> 0 | AC70: =SUM(B70:AB70) -> 2155891 | AD70: =10*LOG(AC70) -> 63.336268 | AE70: -13.4 | AF70: =AD70+AE70-3.1 -> 46.836268 | AG70: =10^(AF70/10) -> 48264.388
A71: 200 | B71: =IF(C41=0,0,10^((C41)/10)) -> 0 | C71: =IF(D41=0,0,10^((D41)/10)) -> 0 | D71: =IF(E41=0,0,10^((E41)/10)) -> 1178804 | E71: =IF(F41=0,0,10^((F41)/10)) -> 0 | F71: =IF(G41=0,0,10^((G41)/10)) -> 0 | G71: =IF(H41=0,0,10^((H41)/10)) -> 0 | H71: =IF(I41=0,0,10^((I41)/10)) -> 0 | I71: =IF(J41=0,0,10^((J41)/10)) -> 625594.9 | ... AB71: =IF(AC41=0,0,10^((AC41)/10)) -> 0 | AC71: =SUM(B71:AB71) -> 1804398.9 | AD71: =10*LOG(AC71) -> 62.563325 | AE71: -10.9 | AF71: =AD71+AE71-3.1 -> 48.563325 | AG71: =10^(AF71/10) -> 71834.413
A72: 250 | B72: =IF(C42=0,0,10^((C42)/10)) -> 0 | C72: =IF(D42=0,0,10^((D42)/10)) -> 0 | D72: =IF(E42=0,0,10^((E42)/10)) -> 1698971.2 | E72: =IF(F42=0,0,10^((F42)/10)) -> 0 | F72: =IF(G42=0,0,10^((G42)/10)) -> 0 | G72: =IF(H42=0,0,10^((H42)/10)) -> 0 | H72: =IF(I42=0,0,10^((I42)/10)) -> 0 | I72: =IF(J42=0,0,10^((J42)/10)) -> 794533.13 | ... AB72: =IF(AC42=0,0,10^((AC42)/10)) -> 0 | AC72: =SUM(B72:AB72) -> 2493504.4 | AD72: =10*LOG(AC72) -> 63.968101 | AE72: -8.6 | AF72: =AD72+AE72-3.1 -> 52.268101 | AG72: =10^(AF72/10) -> 168581.58 | AH72: =10*LOG(SUM(AG71:AG73)) -> 57.396941 | AI72: =10^(AH72/10) -> 549153.89
A73: 315 | B73: =IF(C43=0,0,10^((C43)/10)) -> 0 | C73: =IF(D43=0,0,10^((D43)/10)) -> 0 | D73: =IF(E43=0,0,10^((E43)/10)) -> 1626067.5 | E73: =IF(F43=0,0,10^((F43)/10)) -> 0 | F73: =IF(G43=0,0,10^((G43)/10)) -> 0 | G73: =IF(H43=0,0,10^((H43)/10)) -> 0 | H73: =IF(I43=0,0,10^((I43)/10)) -> 0 | I73: =IF(J43=0,0,10^((J43)/10)) -> 1255242.2 | ... AB73: =IF(AC43=0,0,10^((AC43)/10)) -> 0 | AC73: =SUM(B73:AB73) -> 2881309.7 | AD73: =10*LOG(AC73) -> 64.595899 | AE73: -6.6 | AF73: =AD73+AE73-3.1 -> 54.895899 | AG73: =10^(AF73/10) -> 308737.89
A74: 400 | B74: =IF(C44=0,0,10^((C44)/10)) -> 0 | C74: =IF(D44=0,0,10^((D44)/10)) -> 0 | D74: =IF(E44=0,0,10^((E44)/10)) -> 1420934.6 | E74: =IF(F44=0,0,10^((F44)/10)) -> 0 | F74: =IF(G44=0,0,10^((G44)/10)) -> 0 | G74: =IF(H44=0,0,10^((H44)/10)) -> 0 | H74: =IF(I44=0,0,10^((I44)/10)) -> 0 | I74: =IF(J44=0,0,10^((J44)/10)) -> 965137.67 | ... AB74: =IF(AC44=0,0,10^((AC44)/10)) -> 0 | AC74: =SUM(B74:AB74) -> 2386072.2 | AD74: =10*LOG(AC74) -> 63.776836 | AE74: -4.8 | AF74: =AD74+AE74-3.1 -> 55.876836 | AG74: =10^(AF74/10) -> 386975.61
A75: 500 | B75: =IF(C45=0,0,10^((C45)/10)) -> 0 | C75: =IF(D45=0,0,10^((D45)/10)) -> 0 | D75: =IF(E45=0,0,10^((E45)/10)) -> 1226062.4 | E75: =IF(F45=0,0,10^((F45)/10)) -> 0 | F75: =IF(G45=0,0,10^((G45)/10)) -> 0 | G75: =IF(H45=0,0,10^((H45)/10)) -> 0 | H75: =IF(I45=0,0,10^((I45)/10)) -> 0 | I75: =IF(J45=0,0,10^((J45)/10)) -> 1257161.4 | ... AB75: =IF(AC45=0,0,10^((AC45)/10)) -> 0 | AC75: =SUM(B75:AB75) -> 2483223.8 | AD75: =10*LOG(AC75) -> 63.950159 | AE75: -3.2 | AF75: =AD75+AE75-3.1 -> 57.650159 | AG75: =10^(AF75/10) -> 582124.49 | AH75: =10*LOG(SUM(AG74:AG76)) -> 63.481936 | AI75: =10^(AH75/10) -> 2229428.7
A76: 630 | B76: =IF(C46=0,0,10^((C46)/10)) -> 0 | C76: =IF(D46=0,0,10^((D46)/10)) -> 0 | D76: =IF(E46=0,0,10^((E46)/10)) -> 2223751.8 | E76: =IF(F46=0,0,10^((F46)/10)) -> 0 | F76: =IF(G46=0,0,10^((G46)/10)) -> 0 | G76: =IF(H46=0,0,10^((H46)/10)) -> 0 | H76: =IF(I46=0,0,10^((I46)/10)) -> 0 | I76: =IF(J46=0,0,10^((J46)/10)) -> 1761757.1 | ... AB76: =IF(AC46=0,0,10^((AC46)/10)) -> 0 | AC76: =SUM(B76:AB76) -> 3985508.9 | AD76: =10*LOG(AC76) -> 66.004838 | AE76: -1.9 | AF76: =AD76+AE76-3.1 -> 61.004838 | AG76: =10^(AF76/10) -> 1260328.6
A77: 800 | B77: =IF(C47=0,0,10^((C47)/10)) -> 0 | C77: =IF(D47=0,0,10^((D47)/10)) -> 0 | D77: =IF(E47=0,0,10^((E47)/10)) -> 3889424.2 | E77: =IF(F47=0,0,10^((F47)/10)) -> 0 | F77: =IF(G47=0,0,10^((G47)/10)) -> 0 | G77: =IF(H47=0,0,10^((H47)/10)) -> 0 | H77: =IF(I47=0,0,10^((I47)/10)) -> 0 | I77: =IF(J47=0,0,10^((J47)/10)) -> 1502413.2 | ... AB77: =IF(AC47=0,0,10^((AC47)/10)) -> 0 | AC77: =SUM(B77:AB77) -> 5391837.3 | AD77: =10*LOG(AC77) -> 67.317368 | AE77: -0.8 | AF77: =AD77+AE77-3.1 -> 63.417368 | AG77: =10^(AF77/10) -> 2196528.2
A78: 1000 | B78: =IF(C48=0,0,10^((C48)/10)) -> 0 | C78: =IF(D48=0,0,10^((D48)/10)) -> 0 | D78: =IF(E48=0,0,10^((E48)/10)) -> 7444619.4 | E78: =IF(F48=0,0,10^((F48)/10)) -> 0 | F78: =IF(G48=0,0,10^((G48)/10)) -> 0 | G78: =IF(H48=0,0,10^((H48)/10)) -> 0 | H78: =IF(I48=0,0,10^((I48)/10)) -> 0 | I78: =IF(J48=0,0,10^((J48)/10)) -> 1918371 | ... AB78: =IF(AC48=0,0,10^((AC48)/10)) -> 0 | AC78: =SUM(B78:AB78) -> 9362990.5 | AD78: =10*LOG(AC78) -> 69.714146 | AE78: 0 | AF78: =AD78+AE78-3.1 -> 66.614146 | AG78: =10^(AF78/10) -> 4585794.4 | AH78: =10*LOG(SUM(AG77:AG79)) -> 70.070795 | AI78: =10^(AH78/10) -> 10164346
A79: 1250 | B79: =IF(C49=0,0,10^((C49)/10)) -> 0 | C79: =IF(D49=0,0,10^((D49)/10)) -> 0 | D79: =IF(E49=0,0,10^((E49)/10)) -> 4489582.9 | E79: =IF(F49=0,0,10^((F49)/10)) -> 0 | F79: =IF(G49=0,0,10^((G49)/10)) -> 0 | G79: =IF(H49=0,0,10^((H49)/10)) -> 0 | H79: =IF(I49=0,0,10^((I49)/10)) -> 0 | I79: =IF(J49=0,0,10^((J49)/10)) -> 1524600.1 | ... AB79: =IF(AC49=0,0,10^((AC49)/10)) -> 0 | AC79: =SUM(B79:AB79) -> 6014183 | AD79: =10*LOG(AC79) -> 67.791766 | AE79: 0.6 | AF79: =AD79+AE79-3.1 -> 65.291766 | AG79: =10^(AF79/10) -> 3382023.6
A80: 1600 | B80: =IF(C50=0,0,10^((C50)/10)) -> 0 | C80: =IF(D50=0,0,10^((D50)/10)) -> 0 | D80: =IF(E50=0,0,10^((E50)/10)) -> 2064870.8 | E80: =IF(F50=0,0,10^((F50)/10)) -> 0 | F80: =IF(G50=0,0,10^((G50)/10)) -> 0 | G80: =IF(H50=0,0,10^((H50)/10)) -> 0 | H80: =IF(I50=0,0,10^((I50)/10)) -> 0 | I80: =IF(J50=0,0,10^((J50)/10)) -> 766271.52 | ... AB80: =IF(AC50=0,0,10^((AC50)/10)) -> 0 | AC80: =SUM(B80:AB80) -> 2831142.3 | AD80: =10*LOG(AC80) -> 64.519617 | AE80: 1 | AF80: =AD80+AE80-3.1 -> 62.419617 | AG80: =10^(AF80/10) -> 1745668.2
A81: 2000 | B81: =IF(C51=0,0,10^((C51)/10)) -> 0 | C81: =IF(D51=0,0,10^((D51)/10)) -> 0 | D81: =IF(E51=0,0,10^((E51)/10)) -> 1237805.5 | E81: =IF(F51=0,0,10^((F51)/10)) -> 0 | F81: =IF(G51=0,0,10^((G51)/10)) -> 0 | G81: =IF(H51=0,0,10^((H51)/10)) -> 0 | H81: =IF(I51=0,0,10^((I51)/10)) -> 0 | I81: =IF(J51=0,0,10^((J51)/10)) -> 392951.92 | ... AB81: =IF(AC51=0,0,10^((AC51)/10)) -> 0 | AC81: =SUM(B81:AB81) -> 1630757.4 | AD81: =10*LOG(AC81) -> 62.123894 | AE81: 1.2 | AF81: =AD81+AE81-3.1 -> 60.223894 | AG81: =10^(AF81/10) -> 1052905.4 | AH81: =10*LOG(SUM(AG80:AG82)) -> 65.200387 | AI81: =10^(AH81/10) -> 3311606.2
A82: 2500 | B82: =IF(C52=0,0,10^((C52)/10)) -> 0 | C82: =IF(D52=0,0,10^((D52)/10)) -> 0 | D82: =IF(E52=0,0,10^((E52)/10)) -> 602790.83 | E82: =IF(F52=0,0,10^((F52)/10)) -> 0 | F82: =IF(G52=0,0,10^((G52)/10)) -> 0 | G82: =IF(H52=0,0,10^((H52)/10)) -> 0 | H82: =IF(I52=0,0,10^((I52)/10)) -> 0 | I82: =IF(J52=0,0,10^((J52)/10)) -> 173715.34 | ... AB82: =IF(AC52=0,0,10^((AC52)/10)) -> 0 | AC82: =SUM(B82:AB82) -> 776506.16 | AD82: =10*LOG(AC82) -> 58.901449 | AE82: 1.3 | AF82: =AD82+AE82-3.1 -> 57.101449 | AG82: =10^(AF82/10) -> 513032.53
A83: 3150 | B83: =IF(C53=0,0,10^((C53)/10)) -> 0 | C83: =IF(D53=0,0,10^((D53)/10)) -> 0 | D83: =IF(E53=0,0,10^((E53)/10)) -> 338087 | E83: =IF(F53=0,0,10^((F53)/10)) -> 0 | F83: =IF(G53=0,0,10^((G53)/10)) -> 0 | G83: =IF(H53=0,0,10^((H53)/10)) -> 0 | H83: =IF(I53=0,0,10^((I53)/10)) -> 0 | I83: =IF(J53=0,0,10^((J53)/10)) -> 111343.85 | ... AB83: =IF(AC53=0,0,10^((AC53)/10)) -> 0 | AC83: =SUM(B83:AB83) -> 449430.85 | AD83: =10*LOG(AC83) -> 56.526629 | AE83: 1.2 | AF83: =AD83+AE83-3.1 -> 54.626629 | AG83: =10^(AF83/10) -> 290176.93
A84: 4000 | B84: =IF(C54=0,0,10^((C54)/10)) -> 0 | C84: =IF(D54=0,0,10^((D54)/10)) -> 0 | D84: =IF(E54=0,0,10^((E54)/10)) -> 174491.42 | E84: =IF(F54=0,0,10^((F54)/10)) -> 0 | F84: =IF(G54=0,0,10^((G54)/10)) -> 0 | G84: =IF(H54=0,0,10^((H54)/10)) -> 0 | H84: =IF(I54=0,0,10^((I54)/10)) -> 0 | I84: =IF(J54=0,0,10^((J54)/10)) -> 79321.934 | ... AB84: =IF(AC54=0,0,10^((AC54)/10)) -> 0 | AC84: =SUM(B84:AB84) -> 253813.35 | AD84: =10*LOG(AC84) -> 54.045145 | AE84: 1 | AF84: =AD84+AE84-3.1 -> 51.945145 | AG84: =10^(AF84/10) -> 156500.04 | AH84: =10*LOG(SUM(AG83:AG85)) -> 57.138065 | AI84: =10^(AH84/10) -> 517376.29
A85: 5000 | B85: =IF(C55=0,0,10^((C55)/10)) -> 0 | C85: =IF(D55=0,0,10^((D55)/10)) -> 0 | D85: =IF(E55=0,0,10^((E55)/10)) -> 84135.376 | E85: =IF(F55=0,0,10^((F55)/10)) -> 0 | F85: =IF(G55=0,0,10^((G55)/10)) -> 0 | G85: =IF(H55=0,0,10^((H55)/10)) -> 0 | H85: =IF(I55=0,0,10^((I55)/10)) -> 0 | I85: =IF(J55=0,0,10^((J55)/10)) -> 44516.237 | ... AB85: =IF(AC55=0,0,10^((AC55)/10)) -> 0 | AC85: =SUM(B85:AB85) -> 128651.61 | AD85: =10*LOG(AC85) -> 51.094152 | AE85: 0.5 | AF85: =AD85+AE85-3.1 -> 48.494152 | AG85: =10^(AF85/10) -> 70699.32
A86: 6300 | B86: =IF(C56=0,0,10^((C56)/10)) -> 0 | C86: =IF(D56=0,0,10^((D56)/10)) -> 0 | D86: =IF(E56=0,0,10^((E56)/10)) -> 39822.904 | E86: =IF(F56=0,0,10^((F56)/10)) -> 0 | F86: =IF(G56=0,0,10^((G56)/10)) -> 0 | G86: =IF(H56=0,0,10^((H56)/10)) -> 0 | H86: =IF(I56=0,0,10^((I56)/10)) -> 0 | I86: =IF(J56=0,0,10^((J56)/10)) -> 28850.001 | ... AB86: =IF(AC56=0,0,10^((AC56)/10)) -> 0 | AC86: =SUM(B86:AB86) -> 68672.905 | AD86: =10*LOG(AC86) -> 48.367854 | AE86: -0.2 | AF86: =AD86+AE86-3.1 -> 45.067854 | AG86: =10^(AF86/10) -> 32120.731
A87: 8000 | B87: =IF(C57=0,0,10^((C57)/10)) -> 0 | C87: =IF(D57=0,0,10^((D57)/10)) -> 0 | D87: =IF(E57=0,0,10^((E57)/10)) -> 21697.714 | E87: =IF(F57=0,0,10^((F57)/10)) -> 0 | F87: =IF(G57=0,0,10^((G57)/10)) -> 0 | G87: =IF(H57=0,0,10^((H57)/10)) -> 0 | H87: =IF(I57=0,0,10^((I57)/10)) -> 0 | I87: =IF(J57=0,0,10^((J57)/10)) -> 17997.81 | ... AB87: =IF(AC57=0,0,10^((AC57)/10)) -> 0 | AC87: =SUM(B87:AB87) -> 39695.524 | AD87: =10*LOG(AC87) -> 45.987415 | AE87: -1.2 | AF87: =AD87+AE87-3.1 -> 41.687415 | AG87: =10^(AF87/10) -> 14748.285 | AH87: =10*LOG(SUM(AG86:AG88)) -> 47.303882 | AI87: =10^(AH87/10) -> 53751.209
A88: 10000 | B88: =IF(C58=0,0,10^((C58)/10)) -> 0 | C88: =IF(D58=0,0,10^((D58)/10)) -> 0 | D88: =IF(E58=0,0,10^((E58)/10)) -> 12726.939 | E88: =IF(F58=0,0,10^((F58)/10)) -> 0 | F88: =IF(G58=0,0,10^((G58)/10)) -> 0 | G88: =IF(H58=0,0,10^((H58)/10)) -> 0 | H88: =IF(I58=0,0,10^((I58)/10)) -> 0 | I88: =IF(J58=0,0,10^((J58)/10)) -> 12260.79 | ... AB88: =IF(AC58=0,0,10^((AC58)/10)) -> 0 | AC88: =SUM(B88:AB88) -> 24987.729 | AD88: =10*LOG(AC88) -> 43.977268 | AE88: -2.5 | AF88: =AD88+AE88-3.1 -> 38.377268 | AG88: =10^(AF88/10) -> 6882.1921
AC90: =SUM(AC65:AC88) -> 84070455 | AD90: =10*LOG(AC90) -> 79.246434 | AF90: =10*LOG(AG90) -> 72.295862 | AG90: =SUM(AG65:AG88) -> 16966265 | AH90: =10*LOG(AI90) -> 72.295862 | AI90: =SUM(AI65:AI88) -> 16966265
Q91: q.e.d.
I92: Achtung 0.1 dB-Differenz zu A-Bewertung Stl86+ = Bodeneffekt-Korrektur (vgl. Formel 19.1 sonROAD18 und Excel-Blatt Leq)

Sheet Leq
C16: vorgegeben
C17: eingebbar
C18: berechnet | J18: Leq | K18: dBA | L18: =AC115 -> 72.395862 | T18: Hess | U18: Hess | Z18: Tram | AA18: Tram | AB18: Tram
C19: Berechnung mit Rechenbeispielen geprüft | N19: Man A40 | O19: Neoplan | P19: Merce- | Q19: MAN | R19: Volvo | S19: Swiss | T19: ligh Tram | U19: ligh Tram | V19: Batterie- | W19: Batterie- | X19: Tram | Y19: Bus
M20: Citaro | N20: Lions | O20: Centro- | P20: des | Q20: A 35 | R20: 7900H | S20: Trolley | T20: 3 Longo | U20: 3 Longo 2 | V20: bus | W20: bus | X20: Zürich | Y20: Caetano
A21: E-Mobilität 100% | C21: ja=0; nein=999 | E21: 999 | M21: O 350 | N21: City | O21: liner | P21: O 530 | Q21: Midibus | S21: 3 | T21: Doppel- | U21: Doppel- | V21: SOR EBN 8 | W21: Volvo | X21: Cobra
E22: Tag / Nacht | J22: Tag / Nacht | M22: Gelenk- | N22: Gelenk- | O22: Gelenk- | P22: Stand- | Q22: Stand- | S22: Gelenk- | T22: Gelenk- | U22: Gelenk- | W22: 7900 EH
A23: Verkehrsmenge Beispiel A | E23: Spalte X / Z | J23: Spalte Y / AA | M23: bus | N23: bus | O23: bus | P23: ardbus | Q23: ardbus | R23: Hybrid | S23: trolley | T23: trolley | U23: trolley
C24: cat 1 | D24: cat 2 | E24: cat 3 | F24: cat 4 | G24: cat 5 | H24: cat 6 | I24: cat 7 | J24: cat 8 | K24: cat 9 | L24: cat 10 | M24: Diesel | N24: Diesel | O24: Diesel | P24: Diesel | Q24: Diesel | S24: Elektro | T24: Elektro | U24: Elektro | V24: Elektro | W24: Elektro | X24: Tram
A25: N( c) | B25: [Fz/h] | C25: 0 | D25: 0 | E25: =Emi_T50!X2 -> 287.33524 | F25: 0 | G25: 0 | H25: 0 | I25: 0 | J25: =Emi_T50!Y2 -> 10.789759 | K25: 0 | L25: 0 | M25: 0 | N25: 0 | O25: 0 | P25: 0 | Q25: 0 | R25: 0 | S25: 0 | T25: 0 | U25: 0 | V25: 0 | W25: 0 | X25: 0 | Y25: 0 | Z25: 0 | AA25: 0 | AB25: 0
A26: v( c) | B26: [km/h] | C26: 50 | D26: 30 | E26: =Emi_T50!G2 -> 39 | F26: 50 | G26: 50 | H26: 50 | I26: 50 | J26: =Emi_T50!G2 -> 39 | K26: 50 | L26: 50 | M26: 50 | N26: 50 | O26: 50 | P26: 50 | Q26: 50 | R26: 50 | S26: 50 | T26: 50 | U26: 50 | V26: 50 | W26: 50 | X26: 50 | Y26: 50 | Z26: 50 | AA26: 50 | AB26: 50
A27: θ | B27: [°] | C27: =Totalgeräusch!B25 -> 0 | E27: Spalte G / H | J27: Spalte G / H
A29: Totalgeräusch Schallleistung von einem Fahrzeug für einen bestimmten Elevationswinkel
A31: Lw(c,i) | B31: dB | C31: cat 1 | D31: cat 2 | E31: cat 3 | F31: cat 4 | G31: cat 5 | H31: cat 6 | I31: cat 7 | J31: cat 8 | K31: cat 9 | L31: cat 10
B32: 50 | C32: =Totalgeräusch!B61 -> 99.724956 | D32: =Totalgeräusch!C61 -> 98.561453 | E32: =Totalgeräusch!D61 -> 91.40933 | F32: =Totalgeräusch!E61 -> 92.813913 | G32: =Totalgeräusch!F61 -> 95.882979 | H32: =Totalgeräusch!G61 -> 94.428747 | I32: =Totalgeräusch!H61 -> 94.983781 | J32: =Totalgeräusch!I61 -> 100.35657 | ... AB32: =Totalgeräusch!AA61 -> 4.0028947
B33: 63 | C33: =Totalgeräusch!B62 -> 99.413026 | D33: =Totalgeräusch!C62 -> 99.867742 | E33: =Totalgeräusch!D62 -> 89.803741 | F33: =Totalgeräusch!E62 -> 94.83394 | G33: =Totalgeräusch!F62 -> 96.976873 | H33: =Totalgeräusch!G62 -> 96.467772 | I33: =Totalgeräusch!H62 -> 100.67935 | J33: =Totalgeräusch!I62 -> 101.90516 | ... AB33: =Totalgeräusch!AA62 -> 4.0028947
B34: 80 | C34: =Totalgeräusch!B63 -> 97.818162 | D34: =Totalgeräusch!C63 -> 100.36207 | E34: =Totalgeräusch!D63 -> 88.979724 | F34: =Totalgeräusch!E63 -> 92.550253 | G34: =Totalgeräusch!F63 -> 92.43818 | H34: =Totalgeräusch!G63 -> 95.403938 | I34: =Totalgeräusch!H63 -> 98.542911 | J34: =Totalgeräusch!I63 -> 99.447716 | ... AB34: =Totalgeräusch!AA63 -> 4.0028947
B35: 100 | C35: =Totalgeräusch!B64 -> 95.385033 | D35: =Totalgeräusch!C64 -> 100.27833 | E35: =Totalgeräusch!D64 -> 85.07476 | F35: =Totalgeräusch!E64 -> 89.53346 | G35: =Totalgeräusch!F64 -> 88.714246 | H35: =Totalgeräusch!G64 -> 92.93608 | I35: =Totalgeräusch!H64 -> 94.234602 | J35: =Totalgeräusch!I64 -> 96.717246 | ... AB35: =Totalgeräusch!AA64 -> 4.0028947
B36: 125 | C36: =Totalgeräusch!B65 -> 98.36378 | D36: =Totalgeräusch!C65 -> 101.83695 | E36: =Totalgeräusch!D65 -> 82.447556 | F36: =Totalgeräusch!E65 -> 87.855027 | G36: =Totalgeräusch!F65 -> 88.941556 | H36: =Totalgeräusch!G65 -> 91.948265 | I36: =Totalgeräusch!H65 -> 94.395671 | J36: =Totalgeräusch!I65 -> 96.207656 | ... AB36: =Totalgeräusch!AA65 -> 4.0028947
B37: 160 | C37: =Totalgeräusch!B66 -> 93.194881 | D37: =Totalgeräusch!C66 -> 96.210492 | E37: =Totalgeräusch!D66 -> 82.12362 | F37: =Totalgeräusch!E66 -> 86.572952 | G37: =Totalgeräusch!F66 -> 89.063776 | H37: =Totalgeräusch!G66 -> 91.155811 | I37: =Totalgeräusch!H66 -> 93.759304 | J37: =Totalgeräusch!I66 -> 95.378264 | ... AB37: =Totalgeräusch!AA66 -> 4.0028947
B38: 200 | C38: =Totalgeräusch!B67 -> 97.236616 | D38: =Totalgeräusch!C67 -> 91.661196 | E38: =Totalgeräusch!D67 -> 82.041173 | F38: =Totalgeräusch!E67 -> 86.819082 | G38: =Totalgeräusch!F67 -> 88.467358 | H38: =Totalgeräusch!G67 -> 90.358834 | I38: =Totalgeräusch!H67 -> 93.65758 | J38: =Totalgeräusch!I67 -> 93.543461 | ... AB38: =Totalgeräusch!AA67 -> 4.0028947
B39: 250 | C39: =Totalgeräusch!B68 -> 95.710928 | D39: =Totalgeräusch!C68 -> 86.306228 | E39: =Totalgeräusch!D68 -> 83.628617 | F39: =Totalgeräusch!E68 -> 88.796805 | G39: =Totalgeräusch!F68 -> 88.609231 | H39: =Totalgeräusch!G68 -> 90.382967 | I39: =Totalgeräusch!H68 -> 94.680875 | J39: =Totalgeräusch!I68 -> 94.581649 | ... AB39: =Totalgeräusch!AA68 -> 4.0028947
B40: 315 | C40: =Totalgeräusch!B69 -> 94.134223 | D40: =Totalgeräusch!C69 -> 82.802994 | E40: =Totalgeräusch!D69 -> 83.438143 | F40: =Totalgeräusch!E69 -> 88.550584 | G40: =Totalgeräusch!F69 -> 87.548921 | H40: =Totalgeräusch!G69 -> 91.259529 | I40: =Totalgeräusch!H69 -> 99.499506 | J40: =Totalgeräusch!I69 -> 96.567804 | ... AB40: =Totalgeräusch!AA69 -> 4.0028947
B41: 400 | C41: =Totalgeräusch!B70 -> 95.666921 | D41: =Totalgeräusch!C70 -> 82.947911 | E41: =Totalgeräusch!D70 -> 82.852498 | F41: =Totalgeräusch!E70 -> 88.219198 | G41: =Totalgeräusch!F70 -> 87.260744 | H41: =Totalgeräusch!G70 -> 92.45781 | I41: =Totalgeräusch!H70 -> 98.826391 | J41: =Totalgeräusch!I70 -> 95.426421 | ... AB41: =Totalgeräusch!AA70 -> 3.6516153
B42: 500 | C42: =Totalgeräusch!B71 -> 93.504816 | D42: =Totalgeräusch!C71 -> 83.070408 | E42: =Totalgeräusch!D71 -> 82.211883 | F42: =Totalgeräusch!E71 -> 87.612242 | G42: =Totalgeräusch!F71 -> 87.390957 | H42: =Totalgeräusch!G71 -> 92.796714 | I42: =Totalgeräusch!H71 -> 98.572615 | J42: =Totalgeräusch!I71 -> 96.574439 | ... AB42: =Totalgeräusch!AA71 -> 3.0103
B43: 630 | C43: =Totalgeräusch!B72 -> 95.564987 | D43: =Totalgeräusch!C72 -> 84.321031 | E43: =Totalgeräusch!D72 -> 84.79762 | F43: =Totalgeräusch!E72 -> 92.833812 | G43: =Totalgeräusch!F72 -> 91.425518 | H43: =Totalgeräusch!G72 -> 96.44189 | I43: =Totalgeräusch!H72 -> 103.50871 | J43: =Totalgeräusch!I72 -> 98.039989 | ... AB43: =Totalgeräusch!AA72 -> 4.7643486
... B55: 10000 | C55: =Totalgeräusch!B84 -> 74.277429 | D55: =Totalgeräusch!C84 -> 75.308365 | E55: =Totalgeräusch!D84 -> 62.373997 | F55: =Totalgeräusch!E84 -> 72.240053 | G55: =Totalgeräusch!F84 -> 70.736566 | H55: =Totalgeräusch!G84 -> 77.628537 | I55: =Totalgeräusch!H84 -> 78.644972 | J55: =Totalgeräusch!I84 -> 76.465713 | ... AB55: =Totalgeräusch!AA84 -> 3.8835697
A59: Totalgeräusch Leq für den direkten Vergleich mit Stl86+
A61: Leq | B61: dB | C61: cat 1 | D61: cat 2 | E61: cat 3 | F61: cat 4 | G61: cat 5 | H61: cat 6 | I61: cat 7 | J61: cat 8 | K61: cat 9 | L61: cat 10
B62: 50 | C62: =IF(C$25=0,0,C32+10*LOG(C$25/C$26)-33) -> 0 | D62: =IF(D$25=0,0,D32+10*LOG(D$25/D$26)-33) -> 0 | E62: =IF(E$25=0,0,E32+10*LOG(E$25/E$26)-33) -> 67.082573 | F62: =IF(F$25=0,0,F32+10*LOG(F$25/F$26)-33) -> 0 | G62: =IF(G$25=0,0,G32+10*LOG(G$25/G$26)-33) -> 0 | H62: =IF(H$25=0,0,H32+10*LOG(H$25/H$26)-33) -> 0 | I62: =IF(I$25=0,0,I32+10*LOG(I$25/I$26)-33) -> 0 | J62: =IF(J$25=0,0,J32+10*LOG(J$25/J$26)-33) -> 61.776045 | ... AB62: =IF(AB$25=0,0,AB32+10*LOG(AB$25/AB$26)-33) -> 0
B63: 63 | C63: =IF(C$25=0,0,C33+10*LOG(C$25/C$26)-33) -> 0 | D63: =IF(D$25=0,0,D33+10*LOG(D$25/D$26)-33) -> 0 | E63: =IF(E$25=0,0,E33+10*LOG(E$25/E$26)-33) -> 65.476984 | F63: =IF(F$25=0,0,F33+10*LOG(F$25/F$26)-33) -> 0 | G63: =IF(G$25=0,0,G33+10*LOG(G$25/G$26)-33) -> 0 | H63: =IF(H$25=0,0,H33+10*LOG(H$25/H$26)-33) -> 0 | I63: =IF(I$25=0,0,I33+10*LOG(I$25/I$26)-33) -> 0 | J63: =IF(J$25=0,0,J33+10*LOG(J$25/J$26)-33) -> 63.324627 | ... AB63: =IF(AB$25=0,0,AB33+10*LOG(AB$25/AB$26)-33) -> 0
B64: 80 | C64: =IF(C$25=0,0,C34+10*LOG(C$25/C$26)-33) -> 0 | D64: =IF(D$25=0,0,D34+10*LOG(D$25/D$26)-33) -> 0 | E64: =IF(E$25=0,0,E34+10*LOG(E$25/E$26)-33) -> 64.652967 | F64: =IF(F$25=0,0,F34+10*LOG(F$25/F$26)-33) -> 0 | G64: =IF(G$25=0,0,G34+10*LOG(G$25/G$26)-33) -> 0 | H64: =IF(H$25=0,0,H34+10*LOG(H$25/H$26)-33) -> 0 | I64: =IF(I$25=0,0,I34+10*LOG(I$25/I$26)-33) -> 0 | J64: =IF(J$25=0,0,J34+10*LOG(J$25/J$26)-33) -> 60.867188 | ... AB64: =IF(AB$25=0,0,AB34+10*LOG(AB$25/AB$26)-33) -> 0
B65: 100 | C65: =IF(C$25=0,0,C35+10*LOG(C$25/C$26)-33) -> 0 | D65: =IF(D$25=0,0,D35+10*LOG(D$25/D$26)-33) -> 0 | E65: =IF(E$25=0,0,E35+10*LOG(E$25/E$26)-33) -> 60.748003 | F65: =IF(F$25=0,0,F35+10*LOG(F$25/F$26)-33) -> 0 | G65: =IF(G$25=0,0,G35+10*LOG(G$25/G$26)-33) -> 0 | H65: =IF(H$25=0,0,H35+10*LOG(H$25/H$26)-33) -> 0 | I65: =IF(I$25=0,0,I35+10*LOG(I$25/I$26)-33) -> 0 | J65: =IF(J$25=0,0,J35+10*LOG(J$25/J$26)-33) -> 58.136717 | ... AB65: =IF(AB$25=0,0,AB35+10*LOG(AB$25/AB$26)-33) -> 0
B66: 125 | C66: =IF(C$25=0,0,C36+10*LOG(C$25/C$26)-33) -> 0 | D66: =IF(D$25=0,0,D36+10*LOG(D$25/D$26)-33) -> 0 | E66: =IF(E$25=0,0,E36+10*LOG(E$25/E$26)-33) -> 58.120798 | F66: =IF(F$25=0,0,F36+10*LOG(F$25/F$26)-33) -> 0 | G66: =IF(G$25=0,0,G36+10*LOG(G$25/G$26)-33) -> 0 | H66: =IF(H$25=0,0,H36+10*LOG(H$25/H$26)-33) -> 0 | I66: =IF(I$25=0,0,I36+10*LOG(I$25/I$26)-33) -> 0 | J66: =IF(J$25=0,0,J36+10*LOG(J$25/J$26)-33) -> 57.627127 | ... AB66: =IF(AB$25=0,0,AB36+10*LOG(AB$25/AB$26)-33) -> 0
B67: 160 | C67: =IF(C$25=0,0,C37+10*LOG(C$25/C$26)-33) -> 0 | D67: =IF(D$25=0,0,D37+10*LOG(D$25/D$26)-33) -> 0 | E67: =IF(E$25=0,0,E37+10*LOG(E$25/E$26)-33) -> 57.796863 | F67: =IF(F$25=0,0,F37+10*LOG(F$25/F$26)-33) -> 0 | G67: =IF(G$25=0,0,G37+10*LOG(G$25/G$26)-33) -> 0 | H67: =IF(H$25=0,0,H37+10*LOG(H$25/H$26)-33) -> 0 | I67: =IF(I$25=0,0,I37+10*LOG(I$25/I$26)-33) -> 0 | J67: =IF(J$25=0,0,J37+10*LOG(J$25/J$26)-33) -> 56.797736 | ... AB67: =IF(AB$25=0,0,AB37+10*LOG(AB$25/AB$26)-33) -> 0
B68: 200 | C68: =IF(C$25=0,0,C38+10*LOG(C$25/C$26)-33) -> 0 | D68: =IF(D$25=0,0,D38+10*LOG(D$25/D$26)-33) -> 0 | E68: =IF(E$25=0,0,E38+10*LOG(E$25/E$26)-33) -> 57.714416 | F68: =IF(F$25=0,0,F38+10*LOG(F$25/F$26)-33) -> 0 | G68: =IF(G$25=0,0,G38+10*LOG(G$25/G$26)-33) -> 0 | H68: =IF(H$25=0,0,H38+10*LOG(H$25/H$26)-33) -> 0 | I68: =IF(I$25=0,0,I38+10*LOG(I$25/I$26)-33) -> 0 | J68: =IF(J$25=0,0,J38+10*LOG(J$25/J$26)-33) -> 54.962932 | ... AB68: =IF(AB$25=0,0,AB38+10*LOG(AB$25/AB$26)-33) -> 0
B69: 250 | C69: =IF(C$25=0,0,C39+10*LOG(C$25/C$26)-33) -> 0 | D69: =IF(D$25=0,0,D39+10*LOG(D$25/D$26)-33) -> 0 | E69: =IF(E$25=0,0,E39+10*LOG(E$25/E$26)-33) -> 59.30186 | F69: =IF(F$25=0,0,F39+10*LOG(F$25/F$26)-33) -> 0 | G69: =IF(G$25=0,0,G39+10*LOG(G$25/G$26)-33) -> 0 | H69: =IF(H$25=0,0,H39+10*LOG(H$25/H$26)-33) -> 0 | I69: =IF(I$25=0,0,I39+10*LOG(I$25/I$26)-33) -> 0 | J69: =IF(J$25=0,0,J39+10*LOG(J$25/J$26)-33) -> 56.00112 | ... AB69: =IF(AB$25=0,0,AB39+10*LOG(AB$25/AB$26)-33) -> 0
B70: 315 | C70: =IF(C$25=0,0,C40+10*LOG(C$25/C$26)-33) -> 0 | D70: =IF(D$25=0,0,D40+10*LOG(D$25/D$26)-33) -> 0 | E70: =IF(E$25=0,0,E40+10*LOG(E$25/E$26)-33) -> 59.111386 | F70: =IF(F$25=0,0,F40+10*LOG(F$25/F$26)-33) -> 0 | G70: =IF(G$25=0,0,G40+10*LOG(G$25/G$26)-33) -> 0 | H70: =IF(H$25=0,0,H40+10*LOG(H$25/H$26)-33) -> 0 | I70: =IF(I$25=0,0,I40+10*LOG(I$25/I$26)-33) -> 0 | J70: =IF(J$25=0,0,J40+10*LOG(J$25/J$26)-33) -> 57.987275 | ... AB70: =IF(AB$25=0,0,AB40+10*LOG(AB$25/AB$26)-33) -> 0
B71: 400 | C71: =IF(C$25=0,0,C41+10*LOG(C$25/C$26)-33) -> 0 | D71: =IF(D$25=0,0,D41+10*LOG(D$25/D$26)-33) -> 0 | E71: =IF(E$25=0,0,E41+10*LOG(E$25/E$26)-33) -> 58.525741 | F71: =IF(F$25=0,0,F41+10*LOG(F$25/F$26)-33) -> 0 | G71: =IF(G$25=0,0,G41+10*LOG(G$25/G$26)-33) -> 0 | H71: =IF(H$25=0,0,H41+10*LOG(H$25/H$26)-33) -> 0 | I71: =IF(I$25=0,0,I41+10*LOG(I$25/I$26)-33) -> 0 | J71: =IF(J$25=0,0,J41+10*LOG(J$25/J$26)-33) -> 56.845893 | ... AB71: =IF(AB$25=0,0,AB41+10*LOG(AB$25/AB$26)-33) -> 0
B72: 500 | C72: =IF(C$25=0,0,C42+10*LOG(C$25/C$26)-33) -> 0 | D72: =IF(D$25=0,0,D42+10*LOG(D$25/D$26)-33) -> 0 | E72: =IF(E$25=0,0,E42+10*LOG(E$25/E$26)-33) -> 57.885126 | F72: =IF(F$25=0,0,F42+10*LOG(F$25/F$26)-33) -> 0 | G72: =IF(G$25=0,0,G42+10*LOG(G$25/G$26)-33) -> 0 | H72: =IF(H$25=0,0,H42+10*LOG(H$25/H$26)-33) -> 0 | I72: =IF(I$25=0,0,I42+10*LOG(I$25/I$26)-33) -> 0 | J72: =IF(J$25=0,0,J42+10*LOG(J$25/J$26)-33) -> 57.99391 | ... AB72: =IF(AB$25=0,0,AB42+10*LOG(AB$25/AB$26)-33) -> 0
B73: 630 | C73: =IF(C$25=0,0,C43+10*LOG(C$25/C$26)-33) -> 0 | D73: =IF(D$25=0,0,D43+10*LOG(D$25/D$26)-33) -> 0 | E73: =IF(E$25=0,0,E43+10*LOG(E$25/E$26)-33) -> 60.470863 | F73: =IF(F$25=0,0,F43+10*LOG(F$25/F$26)-33) -> 0 | G73: =IF(G$25=0,0,G43+10*LOG(G$25/G$26)-33) -> 0 | H73: =IF(H$25=0,0,H43+10*LOG(H$25/H$26)-33) -> 0 | I73: =IF(I$25=0,0,I43+10*LOG(I$25/I$26)-33) -> 0 | J73: =IF(J$25=0,0,J43+10*LOG(J$25/J$26)-33) -> 59.45946 | ... AB73: =IF(AB$25=0,0,AB43+10*LOG(AB$25/AB$26)-33) -> 0
... B85: 10000 | C85: =IF(C$25=0,0,C55+10*LOG(C$25/C$26)-33) -> 0 | D85: =IF(D$25=0,0,D55+10*LOG(D$25/D$26)-33) -> 0 | E85: =IF(E$25=0,0,E55+10*LOG(E$25/E$26)-33) -> 38.04724 | F85: =IF(F$25=0,0,F55+10*LOG(F$25/F$26)-33) -> 0 | G85: =IF(G$25=0,0,G55+10*LOG(G$25/G$26)-33) -> 0 | H85: =IF(H$25=0,0,H55+10*LOG(H$25/H$26)-33) -> 0 | I85: =IF(I$25=0,0,I55+10*LOG(I$25/I$26)-33) -> 0 | J85: =IF(J$25=0,0,J55+10*LOG(J$25/J$26)-33) -> 37.885184 | ... AB85: =IF(AB$25=0,0,AB55+10*LOG(AB$25/AB$26)-33) -> 0
A88: A-Filter | B88: dBA | C88: cat 1 | D88: cat 2 | E88: cat 3 | F88: cat 4 | G88: cat 5 | H88: cat 6 | I88: cat 7 | J88: cat 8 | K88: cat 9 | L88: cat 10 | AC88: Summe
A89: -30.3 | B89: 50 | C89: =IF(C62=0,0,10^((C62+$A89)/10)) -> 0 | D89: =IF(D62=0,0,10^((D62+$A89)/10)) -> 0 | E89: =IF(E62=0,0,10^((E62+$A89)/10)) -> 4767.1331 | F89: =IF(F62=0,0,10^((F62+$A89)/10)) -> 0 | G89: =IF(G62=0,0,10^((G62+$A89)/10)) -> 0 | H89: =IF(H62=0,0,10^((H62+$A89)/10)) -> 0 | I89: =IF(I62=0,0,10^((I62+$A89)/10)) -> 0 | J89: =IF(J62=0,0,10^((J62+$A89)/10)) -> 1404.7676 | ... AB89: =IF(AB62=0,0,10^((AB62+$A89)/10)) -> 0 | AC89: =SUM(C89:AB89) -> 6171.9007
A90: -26.3 | B90: 63 | C90: =IF(C63=0,0,10^((C63+$A90)/10)) -> 0 | D90: =IF(D63=0,0,10^((D63+$A90)/10)) -> 0 | E90: =IF(E63=0,0,10^((E63+$A90)/10)) -> 8273.6745 | F90: =IF(F63=0,0,10^((F63+$A90)/10)) -> 0 | G90: =IF(G63=0,0,10^((G63+$A90)/10)) -> 0 | H90: =IF(H63=0,0,10^((H63+$A90)/10)) -> 0 | I90: =IF(I63=0,0,10^((I63+$A90)/10)) -> 0 | J90: =IF(J63=0,0,10^((J63+$A90)/10)) -> 5040.3732 | ... AB90: =IF(AB63=0,0,10^((AB63+$A90)/10)) -> 0 | AC90: =SUM(C90:AB90) -> 13314.048
A91: -22.6 | B91: 80 | C91: =IF(C64=0,0,10^((C64+$A91)/10)) -> 0 | D91: =IF(D64=0,0,10^((D64+$A91)/10)) -> 0 | E91: =IF(E64=0,0,10^((E64+$A91)/10)) -> 16043.41 | F91: =IF(F64=0,0,10^((F64+$A91)/10)) -> 0 | G91: =IF(G64=0,0,10^((G64+$A91)/10)) -> 0 | H91: =IF(H64=0,0,10^((H64+$A91)/10)) -> 0 | I91: =IF(I64=0,0,10^((I64+$A91)/10)) -> 0 | J91: =IF(J64=0,0,10^((J64+$A91)/10)) -> 6709.9419 | ... AB91: =IF(AB64=0,0,10^((AB64+$A91)/10)) -> 0 | AC91: =SUM(C91:AB91) -> 22753.352
A92: -19.2 | B92: 100 | C92: =IF(C65=0,0,10^((C65+$A92)/10)) -> 0 | D92: =IF(D65=0,0,10^((D65+$A92)/10)) -> 0 | E92: =IF(E65=0,0,10^((E65+$A92)/10)) -> 14282.37 | F92: =IF(F65=0,0,10^((F65+$A92)/10)) -> 0 | G92: =IF(G65=0,0,10^((G65+$A92)/10)) -> 0 | H92: =IF(H65=0,0,10^((H65+$A92)/10)) -> 0 | I92: =IF(I65=0,0,10^((I65+$A92)/10)) -> 0 | J92: =IF(J65=0,0,10^((J65+$A92)/10)) -> 7828.3766 | ... AB92: =IF(AB65=0,0,10^((AB65+$A92)/10)) -> 0 | AC92: =SUM(C92:AB92) -> 22110.747
A93: -16.1 | B93: 125 | C93: =IF(C66=0,0,10^((C66+$A93)/10)) -> 0 | D93: =IF(D66=0,0,10^((D66+$A93)/10)) -> 0 | E93: =IF(E66=0,0,10^((E66+$A93)/10)) -> 15925.015 | F93: =IF(F66=0,0,10^((F66+$A93)/10)) -> 0 | G93: =IF(G66=0,0,10^((G66+$A93)/10)) -> 0 | H93: =IF(H66=0,0,10^((H66+$A93)/10)) -> 0 | I93: =IF(I66=0,0,10^((I66+$A93)/10)) -> 0 | J93: =IF(J66=0,0,10^((J66+$A93)/10)) -> 14213.882 | ... AB93: =IF(AB66=0,0,10^((AB66+$A93)/10)) -> 0 | AC93: =SUM(C93:AB93) -> 30138.897
A94: -13.4 | B94: 160 | C94: =IF(C67=0,0,10^((C67+$A94)/10)) -> 0 | D94: =IF(D67=0,0,10^((D67+$A94)/10)) -> 0 | E94: =IF(E67=0,0,10^((E67+$A94)/10)) -> 27522.398 | F94: =IF(F67=0,0,10^((F67+$A94)/10)) -> 0 | G94: =IF(G67=0,0,10^((G67+$A94)/10)) -> 0 | H94: =IF(H67=0,0,10^((H67+$A94)/10)) -> 0 | I94: =IF(I67=0,0,10^((I67+$A94)/10)) -> 0 | J94: =IF(J67=0,0,10^((J67+$A94)/10)) -> 21866.213 | ... AB94: =IF(AB67=0,0,10^((AB67+$A94)/10)) -> 0 | AC94: =SUM(C94:AB94) -> 49388.61
A95: -10.9 | B95: 200 | C95: =IF(C68=0,0,10^((C68+$A95)/10)) -> 0 | D95: =IF(D68=0,0,10^((D68+$A95)/10)) -> 0 | E95: =IF(E68=0,0,10^((E68+$A95)/10)) -> 48022.149 | F95: =IF(F68=0,0,10^((F68+$A95)/10)) -> 0 | G95: =IF(G68=0,0,10^((G68+$A95)/10)) -> 0 | H95: =IF(H68=0,0,10^((H68+$A95)/10)) -> 0 | I95: =IF(I68=0,0,10^((I68+$A95)/10)) -> 0 | J95: =IF(J68=0,0,10^((J68+$A95)/10)) -> 25485.502 | ... AB95: =IF(AB68=0,0,10^((AB68+$A95)/10)) -> 0 | AC95: =SUM(C95:AB95) -> 73507.652
A96: -8.6 | B96: 250 | C96: =IF(C69=0,0,10^((C69+$A96)/10)) -> 0 | D96: =IF(D69=0,0,10^((D69+$A96)/10)) -> 0 | E96: =IF(E69=0,0,10^((E69+$A96)/10)) -> 117540.09 | F96: =IF(F69=0,0,10^((F69+$A96)/10)) -> 0 | G96: =IF(G69=0,0,10^((G69+$A96)/10)) -> 0 | H96: =IF(H69=0,0,10^((H69+$A96)/10)) -> 0 | I96: =IF(I69=0,0,10^((I69+$A96)/10)) -> 0 | J96: =IF(J69=0,0,10^((J69+$A96)/10)) -> 54968.262 | ... AB96: =IF(AB69=0,0,10^((AB69+$A96)/10)) -> 0 | AC96: =SUM(C96:AB96) -> 172508.35
A97: -6.6 | B97: 315 | C97: =IF(C70=0,0,10^((C70+$A97)/10)) -> 0 | D97: =IF(D70=0,0,10^((D70+$A97)/10)) -> 0 | E97: =IF(E70=0,0,10^((E70+$A97)/10)) -> 178294.75 | F97: =IF(F70=0,0,10^((F70+$A97)/10)) -> 0 | G97: =IF(G70=0,0,10^((G70+$A97)/10)) -> 0 | H97: =IF(H70=0,0,10^((H70+$A97)/10)) -> 0 | I97: =IF(I70=0,0,10^((I70+$A97)/10)) -> 0 | J97: =IF(J70=0,0,10^((J70+$A97)/10)) -> 137634.57 | ... AB97: =IF(AB70=0,0,10^((AB70+$A97)/10)) -> 0 | AC97: =SUM(C97:AB97) -> 315929.32
A98: -4.8 | B98: 400 | C98: =IF(C71=0,0,10^((C71+$A98)/10)) -> 0 | D98: =IF(D71=0,0,10^((D71+$A98)/10)) -> 0 | E98: =IF(E71=0,0,10^((E71+$A98)/10)) -> 235816.44 | F98: =IF(F71=0,0,10^((F71+$A98)/10)) -> 0 | G98: =IF(G71=0,0,10^((G71+$A98)/10)) -> 0 | H98: =IF(H71=0,0,10^((H71+$A98)/10)) -> 0 | I98: =IF(I71=0,0,10^((I71+$A98)/10)) -> 0 | J98: =IF(J71=0,0,10^((J71+$A98)/10)) -> 160172.98 | ... AB98: =IF(AB71=0,0,10^((AB71+$A98)/10)) -> 0 | AC98: =SUM(C98:AB98) -> 395989.43
A99: -3.2 | B99: 500 | C99: =IF(C72=0,0,10^((C72+$A99)/10)) -> 0 | D99: =IF(D72=0,0,10^((D72+$A99)/10)) -> 0 | E99: =IF(E72=0,0,10^((E72+$A99)/10)) -> 294111.89 | F99: =IF(F72=0,0,10^((F72+$A99)/10)) -> 0 | G99: =IF(G72=0,0,10^((G72+$A99)/10)) -> 0 | H99: =IF(H72=0,0,10^((H72+$A99)/10)) -> 0 | I99: =IF(I72=0,0,10^((I72+$A99)/10)) -> 0 | J99: =IF(J72=0,0,10^((J72+$A99)/10)) -> 301572.02 | ... AB99: =IF(AB72=0,0,10^((AB72+$A99)/10)) -> 0 | AC99: =SUM(C99:AB99) -> 595683.91
A100: -1.9 | B100: 630 | C100: =IF(C73=0,0,10^((C73+$A100)/10)) -> 0 | D100: =IF(D73=0,0,10^((D73+$A100)/10)) -> 0 | E100: =IF(E73=0,0,10^((E73+$A100)/10)) -> 719591.97 | F100: =IF(F73=0,0,10^((F73+$A100)/10)) -> 0 | G100: =IF(G73=0,0,10^((G73+$A100)/10)) -> 0 | H100: =IF(H73=0,0,10^((H73+$A100)/10)) -> 0 | I100: =IF(I73=0,0,10^((I73+$A100)/10)) -> 0 | J100: =IF(J73=0,0,10^((J73+$A100)/10)) -> 570093.42 | ... AB100: =IF(AB73=0,0,10^((AB73+$A100)/10)) -> 0 | AC100: =SUM(C100:AB100) -> 1289685.4
... A112: -2.5 | B112: 10000 | C112: =IF(C85=0,0,10^((C85+$A112)/10)) -> 0 | D112: =IF(D85=0,0,10^((D85+$A112)/10)) -> 0 | E112: =IF(E85=0,0,10^((E85+$A112)/10)) -> 3586.9388 | F112: =IF(F85=0,0,10^((F85+$A112)/10)) -> 0 | G112: =IF(G85=0,0,10^((G85+$A112)/10)) -> 0 | H112: =IF(H85=0,0,10^((H85+$A112)/10)) -> 0 | I112: =IF(I85=0,0,10^((I85+$A112)/10)) -> 0 | J112: =IF(J85=0,0,10^((J85+$A112)/10)) -> 3455.5601 | ... AB112: =IF(AB85=0,0,10^((AB85+$A112)/10)) -> 0 | AC112: =SUM(C112:AB112) -> 7042.4989
AB114: Summe | AC114: =SUM(AC89:AC112) -> 17361460
A115: Leq A-bewertet für direkten Vergleich mit Stl86+ (vgl. auch Formel 20.1 sonROAD18) | AC115: =10*LOG(AC114) -> 72.395862
A116: Wie muss der Elevationswinkel gesetzt werden? Vermutlich gleich Null für Punktquelle?

Sheet PW
A1: PW | B1: Blattschutz
A2: sonROAD18

Sheet Emissionen
A1: LOKALISATI | B1: vas_id | C1: Nt1 | D1: Nt2 | E1: Nn1 | F1: Nn2 | G1: Vt | H1: Vn | I1: STEIGUNG | J1: Steigung_K | K1: Lret | L1: Lren | M1: Nt2_Anteil | N1: Nt | O1: Nn2_Anteil | P1: Nn | Q1: DAV vorher | R1: Nt | S1: Nn | T1: vØt | U1: vØn | V1: Abw. Nt | W1: Abw. Nn | X1: Nt1 | Y1: Nt2 | Z1: Nn1 | AA1: Nn2 | AB1: VZ aus
A2: Baslerstrasse | B2: 163_20 | C2: 338.49058 | D2: 12.710699 | E2: 68.195269 | F2: 2.0449864 | G2: 39 | H2: 40 | I2: -0.472575 | J2: 0 | K2: 71.175986 | L2: 62.36651 | M2: 3.6192064 | N2: 351.20127 | O2: 2.9114166 | P2: 70.240255 | Q2: DAV-Zählung Baslersstr. 29 | R2: 298.125 | S2: 64.875 | T2: 39 | U2: 40 | V2: =(100/N2*R2)-100 -> -15.11278 | W2: =(100/P2*S2)-100 -> -7.6384332 | X2: =R2-Y2 -> 287.33524 | Y2: =R2/100*M2 -> 10.789759 | Z2: =S2-AA2 -> 62.986218 | AA2: =S2/100*O2 -> 1.8887815 | AB2: DAVv
A3: Baslerstrasse | B3: 163_30 | C3: 418.539 | D3: 13.590465 | E3: 84.41427 | F3: 2.0116233 | G3: 39 | H3: 40 | I3: -0.515222 | J3: 0 | K3: 71.887282 | L3: 63.917028 | M3: 3.1449985 | N3: 432.12946 | O3: 2.3275701 | P3: 86.425893 | Q3: Berechnung aus Zählung | R3: =N3*(1+(V6/100)) -> 404.09098 | S3: =P3*(1+(W6/100)) -> 75.439152 | X3: =R3-Y3 -> 391.38233 | Y3: =R3/100*M3 -> 12.708655 | Z3: =S3-AA3 -> 73.683252 | AA3: =S3/100*O3 -> 1.7558992 | AB3: DAVv
A4: Baslerstrasse | B4: 163_35 | C4: 418.539 | D4: 13.590465 | E4: 84.41427 | F4: 2.0116233 | G4: 39 | H4: 40 | I4: -0.49744306 | J4: 0 | K4: 71.887282 | L4: 63.917028 | M4: 3.1449985 | N4: 432.12946 | O4: 2.3275701 | P4: 86.425893 | Q4: Berechnung aus Zählung | R4: 404.09098 | S4: 75.439152 | X4: 391.38233 | Y4: 12.708655 | Z4: 73.683252 | AA4: 1.7558992 | AB4: DAVv
A5: Baslerstrasse | B5: 163_40 | C5: 503.6223 | D5: 30.75016 | E5: 101.43913 | F5: 5.7925013 | G5: 40 | H5: 42 | I5: -0.465119 | J5: 0 | K5: 73.761743 | L5: 66.66944 | M5: 5.7544433 | N5: 534.37246 | O5: 5.4018586 | P5: 107.23164 | X5: 470.94505 | Y5: 28.754953 | Z5: 88.54386 | AA5: 5.0561397 | AB5: DAVv
A6: Baslerstrasse | B6: 163_50 | C6: 503.6223 | D6: 30.75016 | E6: 101.43913 | F6: 5.7925013 | G6: 40 | H6: 42 | I6: -0.37843 | J6: 0 | K6: 73.761743 | L6: 66.66944 | M6: 5.7544433 | N6: 534.37246 | O6: 5.4018586 | P6: 107.23164 | Q6: DAV-Zählung Baslersstr. 107 | R6: 499.7 | S6: 93.6 | T6: 40 | U6: 42 | V6: =(100/N6*R6)-100 -> -6.4884446 | W6: =(100/P6*S6)-100 -> -12.712326 | X6: =R6-Y6 -> 470.94505 | Y6: =R6/100*M6 -> 28.754953 | Z6: =S6-AA6 -> 88.54386 | AA6: =S6/100*O6 -> 5.0561397 | AB6: DAVv
A7: Baslerstrasse | B7: 163_60 | C7: 340.98198 | D7: 25.666953 | E7: 68.453171 | F7: 5.2337592 | G7: 36 | H7: 39 | I7: -0.574721 | J7: 0 | K7: 72.515997 | L7: 64.251829 | M7: 7.0004166 | N7: 366.64893 | O7: 7.1026968 | P7: 73.68693 | Q7: DAV-Zählung, Baslerstr. 137 | R7: 373.6 | S7: 63.9 | T7: 36 | U7: 39 | V7: =(100/N7*R7)-100 -> 1.8958367 | W7: =(100/P7*S7)-100 -> -13.281772 | X7: =R7-Y7 -> 347.44644 | Y7: =R7/100*M7 -> 26.153556 | Z7: =S7-AA7 -> 59.361377 | AA7: =S7/100*O7 -> 4.5386233 | AB7: DAVv
A8: Baslerstrasse | B8: 163_70 | C8: 340.98198 | D8: 25.666953 | E8: 68.453171 | F8: 5.2337592 | G8: 36 | H8: 39 | I8: -0.378244 | J8: 0 | K8: 72.515997 | L8: 64.251829 | M8: 7.0004166 | N8: 366.64893 | O8: 7.1026968 | P8: 73.68693 | X8: 347.44644 | Y8: 26.153556 | Z8: 59.361377 | AA8: 4.5386233 | AB8: DAVv
A9: Baslerstrasse | B9: 163_80 | C9: 340.98198 | D9: 25.666953 | E9: 68.453171 | F9: 5.2337592 | G9: 36 | H9: 39 | I9: -0.318971 | J9: 0 | K9: 72.515997 | L9: 64.251829 | M9: 7.0004166 | N9: 366.64893 | O9: 7.1026968 | P9: 73.68693 | X9: 347.44644 | Y9: 26.153556 | Z9: 59.361377 | AA9: 4.5386233 | AB9: DAVv
A10: Baslerstrasse | B10: 163_90 | C10: 340.98198 | D10: 25.666953 | E10: 68.453171 | F10: 5.2337592 | G10: 36 | H10: 39 | I10: -0.320044 | J10: 0 | K10: 72.515997 | L10: 64.251829 | M10: 7.0004166 | N10: 366.64893 | O10: 7.1026968 | P10: 73.68693 | X10: 347.44644 | Y10: 26.153556 | Z10: 59.361377 | AA10: 4.5386233 | AB10: DAVv
A11: Bleulerstrasse | B11: 242_10 | C11: 139.4578 | D11: 11.146201 | E11: 21.066107 | F11: 2.5807429 | G11: 38 | H11: 39 | I11: 0.908896 | J11: 0 | K11: 68.770207 | L11: 56.648837 | M11: 7.4009994 | N11: 150.604 | O11: 10.913686 | P11: 23.64685 | Q11: DAV-Zählung Bleulerstr. 5 | R11: 123.5625 | S11: 12.625 | T11: 33 | U11: 34 | V11: =(100/N11*R11)-100 -> -17.955365 | W11: =(100/P11*S11)-100 -> -46.610224 | X11: =R11-Y11 -> 114.41764 | Y11: =R11/100*M11 -> 9.1448599 | Z11: =S11-AA11 -> 11.247147 | AA11: =S11/100*O11 -> 1.3778528 | AB11: DAVv
A12: Bleulerstrasse | B12: 242_20 | C12: 139.4578 | D12: 11.146201 | E12: 21.066107 | F12: 2.5807429 | G12: 38 | H12: 39 | I12: 1.150368 | J12: 0 | K12: 68.770207 | L12: 56.648837 | M12: 7.4009994 | N12: 150.604 | O12: 10.913686 | P12: 23.64685 | X12: 114.41764 | Y12: 9.1448599 | Z12: 11.247147 | AA12: 1.3778528 | AB12: DAVv
A13: Bleulerstrasse | B13: 242_30 | C13: 139.4578 | D13: 11.146201 | E13: 21.066107 | F13: 2.5807429 | G13: 38 | H13: 39 | I13: 1.219561 | J13: 0 | K13: 68.770207 | L13: 56.648837 | M13: 7.4009994 | N13: 150.604 | O13: 10.913686 | P13: 23.64685 | X13: 114.41764 | Y13: 9.1448599 | Z13: 11.247147 | AA13: 1.3778528 | AB13: DAVv
A14: Butzenstrasse | B14: 342_10 | C14: 205.746 | D14: 21.818526 | E14: 41.427404 | F14: 6.6855012 | G14: 38 | H14: 40 | I14: 3.554087 | J14: 0.2770435 | K14: 71.298336 | L14: 62.348865 | M14: 9.5878414 | N14: 227.56453 | O14: 13.895443 | P14: 48.112905 | X14: 203.69859 | Y14: 21.601407 | Z14: 35.302868 | AA14: 5.6971315 | AB14: DAVv
A15: Butzenstrasse | B15: 342_20 | C15: 205.746 | D15: 21.818526 | E15: 41.427404 | F15: 6.6855012 | G15: 38 | H15: 40 | I15: 7.625716 | J15: 2.312858 | K15: 72.466214 | L15: 63.516743 | M15: 9.5878414 | N15: 227.56453 | O15: 13.895443 | P15: 48.112905 | X15: 203.69859 | Y15: 21.601407 | Z15: 35.302868 | AA15: 5.6971315 | AB15: DAVv
A16: Butzenstrasse | B16: 342_30 | C16: 205.746 | D16: 21.818526 | E16: 41.427404 | F16: 6.6855012 | G16: 38 | H16: 40 | I16: 7.211743 | J16: 2.1058715 | K16: 72.336951 | L16: 63.387479 | M16: 9.5878414 | N16: 227.56453 | O16: 13.895443 | P16: 48.112905 | X16: 203.69859 | Y16: 21.601407 | Z16: 35.302868 | AA16: 5.6971315 | AB16: DAVv
A17: Butzenstrasse | B17: 342_40 | C17: 205.746 | D17: 21.818526 | E17: 41.427404 | F17: 6.6855012 | G17: 38 | H17: 40 | I17: 10.044234 | J17: 3.522117 | K17: 73.266341 | L17: 64.316869 | M17: 9.5878414 | N17: 227.56453 | O17: 13.895443 | P17: 48.112905 | X17: 203.69859 | Y17: 21.601407 | Z17: 35.302868 | AA17: 5.6971315 | AB17: DAVv
A18: Butzenstrasse | B18: 342_50 | C18: 205.746 | D18: 21.818526 | E18: 41.427404 | F18: 6.6855012 | G18: 38 | H18: 40 | I18: 10.455965 | J18: 3.7279825 | K18: 73.409899 | L18: 64.460427 | M18: 9.5878414 | N18: 227.56453 | O18: 13.895443 | P18: 48.112905 | X18: 203.69859 | Y18: 21.601407 | Z18: 35.302868 | AA18: 5.6971315 | AB18: DAVv
A19: Butzenstrasse | B19: 342_60 | C19: 205.746 | D19: 21.818526 | E19: 41.427404 | F19: 6.6855012 | G19: 38 | H19: 40 | I19: 11.585127 | J19: 4.2925635 | K19: 73.813954 | L19: 64.864482 | M19: 9.5878414 | N19: 227.56453 | O19: 13.895443 | P19: 48.112905 | X19: 203.69859 | Y19: 21.601407 | Z19: 35.302868 | AA19: 5.6971315 | AB19: DAVv
A20: Butzenstrasse | B20: 342_70 | C20: 205.746 | D20: 21.818526 | E20: 41.427404 | F20: 6.6855012 | G20: 38 | H20: 40 | I20: 4.280221 | J20: 0.6401105 | K20: 71.489443 | L20: 62.539972 | M20: 9.5878414 | N20: 227.56453 | O20: 13.895443 | P20: 48.112905 | X20: 203.69859 | Y20: 21.601407 | Z20: 35.302868 | AA20: 5.6971315 | AB20: DAVv
A21: Butzenstrasse | B21: 342_80 | C21: 205.746 | D21: 21.818526 | E21: 41.427404 | F21: 6.6855012 | G21: 38 | H21: 40 | I21: 3.032013 | J21: 0.0160065 | K21: 71.165616 | L21: 62.216145 | M21: 9.5878414 | N21: 227.56453 | O21: 13.895443 | P21: 48.112905 | Q21: DAV-Zählung Butzenstr. 37/46 | R21: 225.3 | S21: 41 | T21: 38 | U21: 40 | V21: =(100/N21*R21)-100 -> -0.99511438 | W21: =(100/P21*S21)-100 -> -14.783779 | X21: =R21-Y21 -> 203.69859 | Y21: =R21/100*M21 -> 21.601407 | Z21: =S21-AA21 -> 35.302868 | AA21: =S21/100*O21 -> 5.6971315 | AB21: DAVv
A22: Butzenstrasse | B22: 342_90 | C22: 205.746 | D22: 21.818526 | E22: 41.427404 | F22: 6.6855012 | G22: 38 | H22: 40 | I22: -2.386019 | J22: 0 | K22: 71.157605 | L22: 62.208134 | M22: 9.5878414 | N22: 227.56453 | O22: 13.895443 | P22: 48.112905 | X22: 203.69859 | Y22: 21.601407 | Z22: 35.302868 | AA22: 5.6971315 | AB22: DAVv
A23: Hegibachstrasse | B23: 818_15 | C23: 320.19242 | D23: 17.26213 | E23: 68.432056 | F23: 2.6945684 | G23: 39 | H23: 42 | I23: 6.63276 | J23: 1.81638 | K23: 72.553314 | L23: 63.829126 | M23: 5.1153942 | N23: 337.45455 | O23: 3.7884104 | P23: 71.126624 | Q23: Berechnung aus Zählung | R23: =N23*(1+(V28/100)) -> 314.22069 | S23: =P23*(1+(W28/100)) -> 46.966995 | X23: =R23-Y23 -> 298.14706 | Y23: =R23/100*M23 -> 16.073627 | Z23: =S23-AA23 -> 45.187693 | AA23: =S23/100*O23 -> 1.7793025 | AB23: DAVv
A24: Hegibachstrasse | B24: 818_20 | C24: 286.81368 | D24: 17.132486 | E24: 61.756307 | F24: 2.6686396 | G24: 39 | H24: 42 | I24: 7.193856 | J24: 2.096928 | K24: 72.446324 | L24: 63.274951 | M24: 5.6366845 | N24: 303.94616 | O24: 4.1422457 | P24: 64.424947 | X24: 265.73769 | Y24: 11.699813 | Z24: 40.551764 | AA24: 1.1982364 | AB24: DAVv
A25: Hegibachstrasse | B25: 818_30 | C25: 286.81368 | D25: 17.132486 | E25: 61.756307 | F25: 2.6686396 | G25: 39 | H25: 42 | I25: 7.041128 | J25: 2.020564 | K25: 72.399258 | L25: 63.227885 | M25: 5.6366845 | N25: 303.94616 | O25: 4.1422457 | P25: 64.424947 | X25: 265.73769 | Y25: 11.699813 | Z25: 40.551764 | AA25: 1.1982364 | AB25: DAVv
A26: Hegibachstrasse | B26: 818_40 | C26: 286.81368 | D26: 17.132486 | E26: 61.756307 | F26: 2.6686396 | G26: 39 | H26: 42 | I26: 6.527296 | J26: 1.763648 | K26: 72.243254 | L26: 63.07188 | M26: 5.6366845 | N26: 303.94616 | O26: 4.1422457 | P26: 64.424947 | X26: 265.73769 | Y26: 11.699813 | Z26: 40.551764 | AA26: 1.1982364 | AB26: DAVv
A27: Hegibachstrasse | B27: 818_50 | C27: 285.38666 | D27: 12.564912 | E27: 61.411424 | F27: 1.8146043 | G27: 39 | H27: 42 | I27: 3.606956 | J27: 0.303478 | K27: 70.843735 | L27: 61.589797 | M27: 4.2170987 | N27: 297.95157 | O27: 2.8700273 | P27: 63.226028 | X27: 265.73769 | Y27: 11.699813 | Z27: 40.551764 | AA27: 1.1982364 | AB27: DAVv
A28: Hegibachstrasse | B28: 818_60 | C28: 285.38666 | D28: 12.564912 | E28: 61.411424 | F28: 1.8146043 | G28: 39 | H28: 42 | I28: 5.916382 | J28: 1.458191 | K28: 71.479356 | L28: 62.225418 | M28: 4.2170987 | N28: 297.95157 | O28: 2.8700273 | P28: 63.226028 | Q28: DAV-Zählung Hegibachstr. 71 | R28: 277.4375 | S28: 41.75 | T28: 36 | U28: 39 | V28: =(100/N28*R28)-100 -> -6.8850345 | W28: =(100/P28*S28)-100 -> -33.967068 | X28: =R28-Y28 -> 265.73769 | Y28: =R28/100*M28 -> 11.699813 | Z28: =S28-AA28 -> 40.551764 | AA28: =S28/100*O28 -> 1.1982364 | AB28: DAVv
A29: Kalchbühlstrasse | B29: 1048_10 | C29: 169.7353 | D29: 18.708304 | E29: 25.554144 | F29: 3.8784684 | G29: 42 | H29: 42 | I29: 3.400078 | J29: 0.200039 | K29: 70.525099 | L29: 58.204123 | M29: 9.9277997 | N29: 188.44361 | O29: 13.177452 | P29: 29.432612 | Q29: DAV-Zählung, Kalchbühlstr. 58 | R29: 152.78571 | S29: 29.446429 | T29: 42 | U29: 42 | V29: =(100/N29*R29)-100 -> -18.922315 | W29: =(100/P29*S29)-100 -> 0.046941576 | X29: =R29-Y29 -> 137.61745 | Y29: =R29/100*M29 -> 15.16826 | Z29: =S29-AA29 -> 25.56614 | AA29: =S29/100*O29 -> 3.880289 | AB29: DAVv
A30: Kalchbühlstrasse | B30: 1048_20 | C30: 169.7353 | D30: 18.708304 | E30: 25.554144 | F30: 3.8784684 | G30: 42 | H30: 42 | I30: 3.351627 | J30: 0.1758135 | K30: 70.512724 | L30: 58.191749 | M30: 9.9277997 | N30: 188.44361 | O30: 13.177452 | P30: 29.432612 | X30: 137.61745 | Y30: 15.16826 | Z30: 25.56614 | AA30: 3.880289 | AB30: DAVv
A31: Kalchbühlstrasse | B31: 1048_30 | C31: 169.7353 | D31: 18.708304 | E31: 25.554144 | F31: 3.8784684 | G31: 42 | H31: 42 | I31: 3.335969 | J31: 0.1679845 | K31: 70.508732 | L31: 58.187757 | M31: 9.9277997 | N31: 188.44361 | O31: 13.177452 | P31: 29.432612 | X31: 137.61745 | Y31: 15.16826 | Z31: 25.56614 | AA31: 3.880289 | AB31: DAVv
A32: Kalchbühlstrasse | B32: 1048_40 | C32: 169.7353 | D32: 18.708304 | E32: 25.554144 | F32: 3.8784684 | G32: 42 | H32: 42 | I32: 3.317535 | J32: 0.1587675 | K32: 70.504037 | L32: 58.183062 | M32: 9.9277997 | N32: 188.44361 | O32: 13.177452 | P32: 29.432612 | X32: 137.61745 | Y32: 15.16826 | Z32: 25.56614 | AA32: 3.880289 | AB32: DAVv
A33: Kalchbühlstrasse | B33: 1048_50 | C33: 169.7353 | D33: 18.708304 | E33: 25.554144 | F33: 3.8784684 | G33: 42 | H33: 42 | I33: 2.912015 | J33: 0 | K33: 70.423927 | L33: 58.102952 | M33: 9.9277997 | N33: 188.44361 | O33: 13.177452 | P33: 29.432612 | X33: 137.61745 | Y33: 15.16826 | Z33: 25.56614 | AA33: 3.880289 | AB33: DAVv
A34: Kalchbühlstrasse | B34: 1048_55 | C34: 169.7353 | D34: 18.708304 | E34: 25.554144 | F34: 3.8784684 | G34: 42 | H34: 42 | I34: 2.6517098 | J34: 0 | K34: 70.423927 | L34: 58.102952 | M34: 9.9277997 | N34: 188.44361 | O34: 13.177452 | P34: 29.432612 | X34: 137.61745 | Y34: 15.16826 | Z34: 25.56614 | AA34: 3.880289 | AB34: DAVv
A35: Kalchbühlstrasse | B35: 1048_60 | C35: 169.7353 | D35: 18.708304 | E35: 25.554144 | F35: 3.8784684 | G35: 42 | H35: 42 | I35: 2.212222 | J35: 0 | K35: 70.423927 | L35: 58.102952 | M35: 9.9277997 | N35: 188.44361 | O35: 13.177452 | P35: 29.432612 | X35: 137.61745 | Y35: 15.16826 | Z35: 25.56614 | AA35: 3.880289 | AB35: DAVv
A36: Klosbachstrasse | B36: 1121_100 | C36: 289.79359 | D36: 7.9837711 | E36: 58.067886 | F36: 1.4875857 | G36: 42 | H36: 45 | I36: 10.957258 | J36: 3.978629 | K36: 72.50639 | L36: 63.187004 | M36: 2.6811209 | N36: 297.77736 | O36: 2.4978153 | P36: 59.555472 | Q36: DAV-Zählung, Klosbachstr. Geg. 105 | R36: 273.375 | S36: 44.375 | T36: 42 | U36: 45 | V36: =(100/N36*R36)-100 -> -8.1948338 | W36: =(100/P36*S36)-100 -> -25.489634 | X36: =R36-Y36 -> 266.04549 | Y36: =R36/100*M36 -> 7.3295143 | Z36: =S36-AA36 -> 43.266594 | AA36: =S36/100*O36 -> 1.1084055 | AB36: DAVv
A37: Klosbachstrasse | B37: 1121_75 | C37: 289.79359 | D37: 7.9837711 | E37: 58.067886 | F37: 1.4875857 | G37: 42 | H37: 45 | I37: 8.615723 | J37: 2.8078615 | K37: 71.703568 | L37: 62.384182 | M37: 2.6811209 | N37: 297.77736 | O37: 2.4978153 | P37: 59.555472 | X37: 266.04549 | Y37: 7.3295143 | Z37: 43.266594 | AA37: 1.1084055 | AB37: DAVv
A38: Klosbachstrasse | B38: 1121_80 | C38: 289.79359 | D38: 7.9837711 | E38: 58.067886 | F38: 1.4875857 | G38: 42 | H38: 45 | I38: 8.268468 | J38: 2.634234 | K38: 71.590415 | L38: 62.271029 | M38: 2.6811209 | N38: 297.77736 | O38: 2.4978153 | P38: 59.555472 | X38: 266.04549 | Y38: 7.3295143 | Z38: 43.266594 | AA38: 1.1084055 | AB38: DAVv
A39: Klosbachstrasse | B39: 1121_90 | C39: 289.79359 | D39: 7.9837711 | E39: 58.067886 | F39: 1.4875857 | G39: 42 | H39: 45 | I39: 7.003299 | J39: 2.0016495 | K39: 71.191698 | L39: 61.872312 | M39: 2.6811209 | N39: 297.77736 | O39: 2.4978153 | P39: 59.555472 | X39: 266.04549 | Y39: 7.3295143 | Z39: 43.266594 | AA39: 1.1084055 | AB39: DAVv
A40: Köschenrütistrasse | B40: 1150_10 | C40: 124.03171 | D40: 20.39364 | E40: 18.64873 | F40: 5.687394 | G40: 39 | H40: 39 | I40: -2.401647 | J40: 0 | K40: 70.204787 | L40: 59.017597 | M40: 14.12054 | N40: 144.42535 | O40: 23.370172 | P40: 24.336124 | Q40: DAV-Zählung, Köschenrütistr. 7 | R40: 162.9375 | S40: 43 | T40: 39 | U40: 39 | V40: =(100/N40*R40)-100 -> 12.817796 | W40: =(100/P40*S40)-100 -> 76.692062 | X40: =R40-Y40 -> 139.92985 | Y40: =R40/100*M40 -> 23.007655 | Z40: =S40-AA40 -> 32.950826 | AA40: =S40/100*O40 -> 10.049174 | AB40: DAVv
A41: Köschenrütistrasse | B41: 1150_15 | C41: 124.03171 | D41: 20.39364 | E41: 18.64873 | F41: 5.687394 | G41: 39 | H41: 39 | I41: -5.0151064 | J41: 1.0075532 | K41: 70.737717 | L41: 59.550527 | M41: 14.12054 | N41: 144.42535 | O41: 23.370172 | P41: 24.336124 | X41: 139.92985 | Y41: 23.007655 | Z41: 32.950826 | AA41: 10.049174 | AB41: DAVv
A42: Köschenrütistrasse | B42: 1150_20 | C42: 124.03171 | D42: 20.39364 | E42: 18.64873 | F42: 5.687394 | G42: 39 | H42: 39 | I42: -3.907023 | J42: 0.4535115 | K42: 70.43746 | L42: 59.25027 | M42: 14.12054 | N42: 144.42535 | O42: 23.370172 | P42: 24.336124 | X42: 139.92985 | Y42: 23.007655 | Z42: 32.950826 | AA42: 10.049174 | AB42: DAVv
A43: Köschenrütistrasse | B43: 1150_30 | C43: 124.03171 | D43: 20.39364 | E43: 18.64873 | F43: 5.687394 | G43: 39 | H43: 39 | I43: -3.170297 | J43: 0.0851485 | K43: 70.24757 | L43: 59.06038 | M43: 14.12054 | N43: 144.42535 | O43: 23.370172 | P43: 24.336124 | X43: 139.92985 | Y43: 23.007655 | Z43: 32.950826 | AA43: 10.049174 | AB43: DAVv
A44: Lenggstrasse | B44: 1237_10 | C44: 203.51928 | D44: 14.476267 | E44: 40.97341 | F44: 3.3078429 | G44: 38 | H44: 39 | I44: -0.202859 | J44: 0 | K44: 70.14885 | L44: 59.936329 | M44: 6.6406251 | N44: 217.99555 | O44: 7.4700752 | P44: 44.281252 | Q44: Berechnung aus Zählung | R44: =N44*(1+(V11/100)) -> 178.85365 | S44: =P44*(1+(W11/100)) -> 23.641662 | X44: =R44-Y44 -> 166.97665 | Y44: =R44/100*M44 -> 11.877 | Z44: =S44-AA44 -> 21.875612 | AA44: =S44/100*O44 -> 1.7660499 | AB44: DAVv
A45: Nordstrasse | B45: 1462_100 | C45: 123.37931 | D45: 6.7128139 | E45: 31.372974 | F45: 1.3263958 | G45: 40 | H45: 42 | I45: 0.269758 | J45: 0 | K45: 67.426552 | L45: 56.178691 | M45: 5.1600465 | N45: 130.09212 | O45: 4.0563345 | P45: 32.699369 | Q45: DAV-Zählung, Nordstr. 88 | R45: 119.8125 | S45: 37.125 | T45: 30 | U45: 32 | V45: =(100/N45*R45)-100 -> -7.9018012 | W45: =(100/P45*S45)-100 -> 13.534299 | X45: =R45-Y45 -> 113.63012 | Y45: =R45/100*M45 -> 6.1823807 | Z45: =S45-AA45 -> 35.619086 | AA45: =S45/100*O45 -> 1.5059142 | AB45: DAVv
A46: Nordstrasse | B46: 1462_110 | C46: 123.37931 | D46: 6.7128139 | E46: 31.372974 | F46: 1.3263958 | G46: 40 | H46: 42 | I46: 0.303534 | J46: 0 | K46: 67.426552 | L46: 56.178691 | M46: 5.1600465 | N46: 130.09212 | O46: 4.0563345 | P46: 32.699369 | X46: 113.63012 | Y46: 6.1823807 | Z46: 35.619086 | AA46: 1.5059142 | AB46: DAVv
A47: Nordstrasse | B47: 1462_120 | C47: 123.37931 | D47: 6.7128139 | E47: 31.372974 | F47: 1.3263958 | G47: 40 | H47: 42 | I47: 0.172615 | J47: 0 | K47: 67.426552 | L47: 56.178691 | M47: 5.1600465 | N47: 130.09212 | O47: 4.0563345 | P47: 32.699369 | X47: 113.63012 | Y47: 6.1823807 | Z47: 35.619086 | AA47: 1.5059142 | AB47: DAVv
A48: Nordstrasse | B48: 1462_130 | C48: 123.37931 | D48: 6.7128139 | E48: 31.372974 | F48: 1.3263958 | G48: 40 | H48: 42 | I48: 0.334791 | J48: 0 | K48: 67.426552 | L48: 56.178691 | M48: 5.1600465 | N48: 130.09212 | O48: 4.0563345 | P48: 32.699369 | X48: 113.63012 | Y48: 6.1823807 | Z48: 35.619086 | AA48: 1.5059142 | AB48: DAVv
A49: Nordstrasse | B49: 1462_140 | C49: 123.37931 | D49: 6.7128139 | E49: 31.372974 | F49: 1.3263958 | G49: 40 | H49: 42 | I49: 0.579559 | J49: 0 | K49: 67.426552 | L49: 56.178691 | M49: 5.1600465 | N49: 130.09212 | O49: 4.0563345 | P49: 32.699369 | X49: 113.63012 | Y49: 6.1823807 | Z49: 35.619086 | AA49: 1.5059142 | AB49: DAVv
A50: Nordstrasse | B50: 1462_30 | C50: 52.207845 | D50: 2.3159384 | E50: 13.25015 | F50: 0.55713548 | G50: 40 | H50: 42 | I50: 2.031449 | J50: 0 | K50: 60.690895 | L50: 52.281014 | M50: 4.2475746 | N50: 54.523783 | O50: 4.0350835 | P50: 13.807285 | Q50: DAV-Zählung, Nordstr. 46 | R50: 81.375 | S50: 26 | T50: 40 | U50: 42 | V50: =(100/N50*R50)-100 -> 49.246797 | W50: =(100/P50*S50)-100 -> 88.306389 | X50: =R50-Y50 -> 77.918536 | Y50: =R50/100*M50 -> 3.4564638 | Z50: =S50-AA50 -> 24.950878 | AA50: =S50/100*O50 -> 1.0491217 | AB50: DAVv
A51: Nordstrasse | B51: 1462_40 | C51: 52.207845 | D51: 2.3159384 | E51: 13.25015 | F51: 0.55713548 | G51: 40 | H51: 42 | I51: 1.780272 | J51: 0 | K51: 60.690895 | L51: 52.281014 | M51: 4.2475746 | N51: 54.523783 | O51: 4.0350835 | P51: 13.807285 | X51: 77.918536 | Y51: 3.4564638 | Z51: 24.950878 | AA51: 1.0491217 | AB51: DAVv
A52: Nordstrasse | B52: 1462_50 | C52: 52.207845 | D52: 2.3159384 | E52: 13.25015 | F52: 0.55713548 | G52: 40 | H52: 42 | I52: 1.380724 | J52: 0 | K52: 60.690895 | L52: 52.281014 | M52: 4.2475746 | N52: 54.523783 | O52: 4.0350835 | P52: 13.807285 | X52: 77.918536 | Y52: 3.4564638 | Z52: 24.950878 | AA52: 1.0491217 | AB52: DAVv
A53: Nordstrasse | B53: 1462_60 | C53: 52.207845 | D53: 2.3159384 | E53: 13.25015 | F53: 0.55713548 | G53: 40 | H53: 42 | I53: 0.264335 | J53: 0 | K53: 60.690895 | L53: 52.281014 | M53: 4.2475746 | N53: 54.523783 | O53: 4.0350835 | P53: 13.807285 | X53: 77.918536 | Y53: 3.4564638 | Z53: 24.950878 | AA53: 1.0491217 | AB53: DAVv
A54: Nordstrasse | B54: 1462_80 | C54: 123.37931 | D54: 6.7128139 | E54: 31.372974 | F54: 1.3263958 | G54: 40 | H54: 42 | I54: -0.504092 | J54: 0 | K54: 67.426552 | L54: 56.178691 | M54: 5.1600465 | N54: 130.09212 | O54: 4.0563345 | P54: 32.699369 | X54: 113.63012 | Y54: 6.1823807 | Z54: 35.619086 | AA54: 1.5059142 | AB54: DAVv
A55: Nordstrasse | B55: 1462_90 | C55: 123.37931 | D55: 6.7128139 | E55: 31.372974 | F55: 1.3263958 | G55: 40 | H55: 42 | I55: 0.577126 | J55: 0 | K55: 67.426552 | L55: 56.178691 | M55: 5.1600465 | N55: 130.09212 | O55: 4.0563345 | P55: 32.699369 | X55: 113.63012 | Y55: 6.1823807 | Z55: 35.619086 | AA55: 1.5059142 | AB55: DAVv
A56: Rousseaustrasse | B56: 1673_100 | C56: 100.98958 | D56: 4.5151818 | E56: 21.114576 | F56: 0.60055274 | G56: 41 | H56: 41 | I56: 1.981074 | J56: 0 | K56: 66.203716 | L56: 53.741179 | M56: 4.2796 | N56: 105.50476 | O56: 2.765596 | P56: 21.715129 | X56: 78.185597 | Y56: 3.8144033 | Z56: 21.460536 | AA56: 0.66446377 | AB56: DAVv
A57: Rousseaustrasse | B57: 1673_30 | C57: 100.98958 | D57: 4.5151818 | E57: 21.114576 | F57: 0.60055274 | G57: 41 | H57: 41 | I57: 2.138046 | J57: 0 | K57: 66.203716 | L57: 53.741179 | M57: 4.2796 | N57: 105.50476 | O57: 2.765596 | P57: 21.715129 | Q57: Berechnung aus Zählung | R57: =N57*(1+(V63/100)) -> 89.129901 | S57: =P57*(1+(W63/100)) -> 24.026061 | X57: =R57-Y57 -> 85.315498 | Y57: =R57/100*M57 -> 3.8144033 | Z57: =S57-AA57 -> 23.361597 | AA57: =S57/100*O57 -> 0.66446377 | AB57: DAVv
A58: Rousseaustrasse | B58: 1673_40 | C58: 100.98958 | D58: 4.5151818 | E58: 21.114576 | F58: 0.60055274 | G58: 41 | H58: 41 | I58: 3.844693 | J58: 0.4223465 | K58: 66.203716 | L58: 53.741179 | M58: 4.2796 | N58: 105.50476 | O58: 2.765596 | P58: 21.715129 | X58: 85.315498 | Y58: 3.8144033 | Z58: 23.361597 | AA58: 0.66446377 | AB58: DAVv
A59: Rousseaustrasse | B59: 1673_50 | C59: 92.549779 | D59: 4.5151818 | E59: 19.396368 | F59: 0.60055274 | G59: 41 | H59: 41 | I59: 0.788077 | J59: 0 | K59: 65.847314 | L59: 53.482573 | M59: 4.6517113 | N59: 97.064961 | O59: 3.0032261 | P59: 19.996921 | X59: 78.185597 | Y59: 3.8144033 | Z59: 21.460536 | AA59: 0.66446377 | AB59: DAVv
A60: Rousseaustrasse | B60: 1673_60 | C60: 92.549779 | D60: 4.5151818 | E60: 19.396368 | F60: 0.60055274 | G60: 41 | H60: 41 | I60: 0.986316 | J60: 0 | K60: 65.847314 | L60: 53.482573 | M60: 4.6517113 | N60: 97.064961 | O60: 3.0032261 | P60: 19.996921 | X60: 78.185597 | Y60: 3.8144033 | Z60: 21.460536 | AA60: 0.66446377 | AB60: DAVv
A61: Rousseaustrasse | B61: 1673_70 | C61: 92.549779 | D61: 4.5151818 | E61: 19.396368 | F61: 0.60055274 | G61: 41 | H61: 41 | I61: 1.085869 | J61: 0 | K61: 65.847314 | L61: 53.482573 | M61: 4.6517113 | N61: 97.064961 | O61: 3.0032261 | P61: 19.996921 | X61: 78.185597 | Y61: 3.8144033 | Z61: 21.460536 | AA61: 0.66446377 | AB61: DAVv
A62: Rousseaustrasse | B62: 1673_80 | C62: 92.549779 | D62: 4.5151818 | E62: 19.396368 | F62: 0.60055274 | G62: 41 | H62: 41 | I62: 0.560971 | J62: 0 | K62: 65.847314 | L62: 53.482573 | M62: 4.6517113 | N62: 97.064961 | O62: 3.0032261 | P62: 19.996921 | X62: 78.185597 | Y62: 3.8144033 | Z62: 21.460536 | AA62: 0.66446377 | AB62: DAVv
A63: Rousseaustrasse | B63: 1673_90 | C63: 92.549779 | D63: 4.5151818 | E63: 19.396368 | F63: 0.60055274 | G63: 41 | H63: 41 | I63: 0.388826 | J63: 0 | K63: 65.847314 | L63: 53.482573 | M63: 4.6517113 | N63: 97.064961 | O63: 3.0032261 | P63: 19.996921 | Q63: DAV-Zählung, Rousseaustr. 89 | R63: 82 | S63: 22.125 | T63: 36 | U63: 36 | V63: =(100/N63*R63)-100 -> -15.520494 | W63: =(100/P63*S63)-100 -> 10.642034 | X63: =R63-Y63 -> 78.185597 | Y63: =R63/100*M63 -> 3.8144033 | Z63: =S63-AA63 -> 21.460536 | AA63: =S63/100*O63 -> 0.66446377 | AB63: DAVv
A64: Saatlenstrasse | B64: 1699_100 | C64: 172.28322 | D64: 16.797257 | E64: 34.895416 | F64: 3.4992512 | G64: 41 | H64: 41 | I64: -0.110321 | J64: 0 | K64: 70.170263 | L64: 59.149826 | M64: 8.8836546 | N64: 189.08048 | O64: 9.1138989 | P64: 38.394667 | X64: 130.8089 | Y64: 12.753597 | Z64: 34.536718 | AA64: 3.4632816 | AB64: DAVv
A65: Saatlenstrasse | B65: 1699_105 | C65: 172.28322 | D65: 16.797257 | E65: 34.895416 | F65: 3.4992512 | G65: 41 | H65: 41 | I65: -0.07121958 | J65: 0 | K65: 70.170263 | L65: 59.149826 | M65: 8.8836546 | N65: 189.08048 | O65: 9.1138989 | P65: 38.394667 | X65: 130.8089 | Y65: 12.753597 | Z65: 34.536718 | AA65: 3.4632816 | AB65: DAVv
A66: Saatlenstrasse | B66: 1699_110 | C66: 172.28322 | D66: 16.797257 | E66: 34.895416 | F66: 3.4992512 | G66: 41 | H66: 41 | I66: -0.075309 | J66: 0 | K66: 70.170263 | L66: 59.149826 | M66: 8.8836546 | N66: 189.08048 | O66: 9.1138989 | P66: 38.394667 | X66: 130.8089 | Y66: 12.753597 | Z66: 34.536718 | AA66: 3.4632816 | AB66: DAVv
A67: Saatlenstrasse | B67: 1699_40 | C67: 152.65556 | D67: 17.001577 | E67: 30.815066 | F67: 3.6949327 | G67: 41 | H67: 41 | I67: -0.625175 | J67: 0 | K67: 69.991032 | L67: 58.62094 | M67: 10.021139 | N67: 169.65714 | O67: 10.706847 | P67: 34.509999 | X67: =C67 -> 152.65556 | Y67: =D67 -> 17.001577 | Z67: =E67 -> 30.815066 | AA67: =F67 -> 3.6949327 | AB67: KAT
