Workbook

Sheet Antriebsgeräusch
C11: vorgegeben
C12: eingebbar | S12: Hess | T12: Hess | Y12: Tram | Z12: Tram | AA12: Tram
C13: berechnet ungeprüft | M13: Man A40 | N13: Neoplan | O13: Merce- | P13: MAN | Q13: Volvo | R13: Swiss | S13: ligh Tram | T13: ligh Tram | U13: Batterie- | V13: Batterie- | W13: Tram | X13: Bus
C14: Berechnung mit Rechenbeispielen geprüft | L14: Citaro | M14: Lions | N14: Centro- | O14: des | P14: A 35 | Q14: 7900H | R14: Trolley | S14: 3 Longo | T14: 3 Longo 2 | U14: bus | V14: bus | W14: Zürich | X14: Caetano
C15: fixiert, aber eigentlich ursprüngilch eingebar | L15: O 350 | M15: City | N15: liner | O15: O 530 | P15: Midibus | R15: 3 | S15: Doppel- | T15: Doppel- | U15: SOR EBN 8 | V15: Volvo | W15: Cobra
A16: vref | B16: 70 | C16: km/h | L16: Gelenk- | M16: Gelenk- | N16: Gelenk- | O16: Stand- | P16: Stand- | R16: Gelenk- | S16: Gelenk- | T16: Gelenk- | V16: 7900 EH
L17: bus | M17: bus | N17: bus | O17: ardbus | P17: ardbus | Q17: Hybrid | R17: trolley | S17: trolley | T17: trolley
A18: v(c) | B18: cat 1 | C18: cat 2 | D18: cat 3 | E18: cat 4 | F18: cat 5 | G18: cat 6 | H18: cat 7 | I18: cat 8 | J18: cat 9 | K18: cat 10 | L18: Diesel | M18: Diesel | N18: Diesel | O18: Diesel | P18: Diesel | R18: Elektro | S18: Elektro | T18: Elektro | U18: Elektro | V18: Elektro | W18: Tram
A19: aufwärts [km/h] | B19: =Leq!C26 -> 50 | C19: =Leq!D26 -> 30 | D19: =Leq!E26 -> 39 | E19: =Leq!F26 -> 50 | F19: =Leq!G26 -> 50 | G19: =Leq!H26 -> 50 | H19: =Leq!I26 -> 50 | I19: =Leq!J26 -> 39 | ... AA19: =Leq!AB26 -> 50
A20: abwärts [km/h] | B20: =Leq!C26 -> 50 | C20: =Leq!D26 -> 30 | D20: =Leq!E26 -> 39 | E20: =Leq!F26 -> 50 | F20: =Leq!G26 -> 50 | G20: =Leq!H26 -> 50 | H20: =Leq!I26 -> 50 | I20: =Leq!J26 -> 39 | ... AA20: =Leq!AB26 -> 50
A23: Beschleunigungszuschlag
A24: ∆Lw,P,acc ( c) | B24: cat 1 | C24: cat 2 | D24: cat 3 | E24: cat 4 | F24: cat 5 | G24: cat 6 | H24: cat 7 | I24: cat 8 | J24: cat 9 | K24: cat 10
A25: aufwärts [dB] | B25: 0 | C25: 0 | D25: 0 | E25: 0 | F25: 0 | G25: 0 | H25: 0 | I25: 0 | J25: 0 | K25: 0 | L25: 0 | M25: 0 | N25: 0 | O25: 0 | P25: 0 | Q25: 0 | R25: 0 | S25: 0 | T25: 0 | U25: 0 | V25: 0 | W25: 0 | X25: 0 | Y25: 0 | Z25: 0 | AA25: 0
A26: abwärts [dB] | B26: 0 | C26: 0 | D26: 0 | E26: 0 | F26: 0 | G26: 0 | H26: 0 | I26: 0 | J26: 0 | K26: 0 | L26: 0 | M26: 0 | N26: 0 | O26: 0 | P26: 0 | Q26: 0 | R26: 0 | S26: 0 | T26: 0 | U26: 0 | V26: 0 | W26: 0 | X26: 0 | Y26: 0 | Z26: 0 | AA26: 0
A29: Steigungszuschlag
A30: ∆Lw,P,grad ( c) | B30: cat 1 | C30: cat 2 | D30: cat 3 | E30: cat 4 | F30: cat 5 | G30: cat 6 | H30: cat 7 | I30: cat 8 | J30: cat 9 | K30: cat 10
A31: aufwärts [dB] | B31: =IF(B34>0,(MIN(12,B34)/0.8)*(B19/100),IF(B34<-4,(((MIN(12,-B34)-4)/0.5)*((B19-10)/100)),0)) -> 0 | C31: 0 | D31: =IF(D34>2,(((MIN(12,D34)-2)/1.5)*(D19/100)),IF(D34<-6,((MIN(12,-D34)-6)/1),0)) -> 0 | E31: =IF(E34>2,(((MIN(12,E34)-2)/1.5)*(E19/100)),IF(E34<-6,((MIN(12,-E34)-6)/1),0)) -> 0 | F31: =IF(F34>2,(((MIN(12,F34)-2)/1.5)*(F19/100)),IF(F34<-6,((MIN(12,-F34)-6)/1),0)) -> 0 | G31: =IF(G34>2,(((MIN(12,G34)-2)/1.5)*(G19/100)),IF(G34<-6,((MIN(12,-G34)-6)/1),0)) -> 0 | H31: =IF(H34>2,(((MIN(12,H34)-2)/1.5)*(H19/100)),IF(H34<-6,((MIN(12,-H34)-6)/1),0)) -> 0 | I31: =IF(I34>0,(MIN(12,I34)/0.8)*(I19/100),IF(I34<-4,(((MIN(12,-I34)-4)/0.5)*((I19-10)/100)),0)) -> 0 | J31: =IF(J34>0,(MIN(12,J34)/0.8)*(J19/100),IF(J34<-4,(((MIN(12,-J34)-4)/0.5)*((J19-10)/100)),0)) -> 0 | K31: =IF(K34>0,(MIN(12,K34)/0.8)*(K19/100),IF(K34<-4,(((MIN(12,-K34)-4)/0.5)*((K19-10)/100)),0)) -> 0 | L31: =IF(L34>0,(MIN(12,L34)/0.8)*(L19/100),IF(L34<-4,(((MIN(12,-L34)-4)/0.5)*((L19-10)/100)),0)) -> 0 | M31: =IF(M34>0,(MIN(12,M34)/0.8)*(M19/100),IF(M34<-4,(((MIN(12,-M34)-4)/0.5)*((M19-10)/100)),0)) -> 0 | N31: =IF(N34>0,(MIN(12,N34)/0.8)*(N19/100),IF(N34<-4,(((MIN(12,-N34)-4)/0.5)*((N19-10)/100)),0)) -> 0 | O31: =IF(O34>0,(MIN(12,O34)/0.8)*(O19/100),IF(O34<-4,(((MIN(12,-O34)-4)/0.5)*((O19-10)/100)),0)) -> 0 | P31: =IF(P34>0,(MIN(12,P34)/0.8)*(P19/100),IF(P34<-4,(((MIN(12,-P34)-4)/0.5)*((P19-10)/100)),0)) -> 0 | ... AA31: =IF(AA34>0,(MIN(12,AA34)/0.8)*(AA19/100),IF(AA34<-4,(((MIN(12,-AA34)-4)/0.5)*((AA19-10)/100)),0)) -> 0
A32: abwärts [dB] | B32: =IF(B35>0,(MIN(12,B35)/0.8)*(B20/100),IF(B35<-4,(((MIN(12,-B35)-4)/0.5)*((B20-10)/100)),0)) -> 0.29535937 | C32: 0 | D32: =IF(D35>2,(((MIN(12,D35)-2)/1.5)*(D20/100)),IF(D35<-6,((MIN(12,-D35)-6)/1),0)) -> 0 | E32: =IF(E35>2,(((MIN(12,E35)-2)/1.5)*(E20/100)),IF(E35<-6,((MIN(12,-E35)-6)/1),0)) -> 0 | F32: =IF(F35>2,(((MIN(12,F35)-2)/1.5)*(F20/100)),IF(F35<-6,((MIN(12,-F35)-6)/1),0)) -> 0 | G32: =IF(G35>2,(((MIN(12,G35)-2)/1.5)*(G20/100)),IF(G35<-6,((MIN(12,-G35)-6)/1),0)) -> 0 | H32: =IF(H35>2,(((MIN(12,H35)-2)/1.5)*(H20/100)),IF(H35<-6,((MIN(12,-H35)-6)/1),0)) -> 0 | I32: =IF(I35>0,(MIN(12,I35)/0.8)*(I20/100),IF(I35<-4,(((MIN(12,-I35)-4)/0.5)*((I20-10)/100)),0)) -> 0.23038031 | J32: =IF(J35>0,(MIN(12,J35)/0.8)*(J20/100),IF(J35<-4,(((MIN(12,-J35)-4)/0.5)*((J20-10)/100)),0)) -> 0.29535937 | K32: =IF(K35>0,(MIN(12,K35)/0.8)*(K20/100),IF(K35<-4,(((MIN(12,-K35)-4)/0.5)*((K20-10)/100)),0)) -> 0.29535937 | L32: =IF(L35>0,(MIN(12,L35)/0.8)*(L20/100),IF(L35<-4,(((MIN(12,-L35)-4)/0.5)*((L20-10)/100)),0)) -> 0.29535937 | M32: =IF(M35>0,(MIN(12,M35)/0.8)*(M20/100),IF(M35<-4,(((MIN(12,-M35)-4)/0.5)*((M20-10)/100)),0)) -> 0.29535937 | N32: =IF(N35>0,(MIN(12,N35)/0.8)*(N20/100),IF(N35<-4,(((MIN(12,-N35)-4)/0.5)*((N20-10)/100)),0)) -> 0.29535937 | O32: =IF(O35>0,(MIN(12,O35)/0.8)*(O20/100),IF(O35<-4,(((MIN(12,-O35)-4)/0.5)*((O20-10)/100)),0)) -> 0.29535937 | P32: =IF(P35>0,(MIN(12,P35)/0.8)*(P20/100),IF(P35<-4,(((MIN(12,-P35)-4)/0.5)*((P20-10)/100)),0)) -> 0.29535937 | ... AA32: =IF(AA35>0,(MIN(12,AA35)/0.8)*(AA20/100),IF(AA35<-4,(((MIN(12,-AA35)-4)/0.5)*((AA20-10)/100)),0)) -> 0.29535937
AU33: Hess | AV33: Hess | BA33: Tram | BB33: Tram | BC33: Tram
A34: Steigung aufwärts (pos. Vorzeichen) | B34: =Emi_T50!I2 -> -0.472575 | C34: % | D34: =$B34 -> -0.472575 | E34: =$B34 -> -0.472575 | F34: =$B34 -> -0.472575 | G34: =$B34 -> -0.472575 | H34: =$B34 -> -0.472575 | I34: =$B34 -> -0.472575 | J34: =$B34 -> -0.472575 | K34: =$B34 -> -0.472575 | ... AA34: =$B34 -> -0.472575 | AO34: Man A40 | AP34: Neoplan | AQ34: Merce- | AR34: MAN | AS34: Volvo | AT34: Swiss | AU34: ligh Tram | AV34: ligh Tram | AW34: Batterie- | AX34: Batterie- | AY34: Tram | AZ34: Bus
A35: Steigung abwärts (neg. Vorzeichen) | B35: =B34*(-1) -> 0.472575 | C35: % | D35: =$B35 -> 0.472575 | E35: =$B35 -> 0.472575 | F35: =$B35 -> 0.472575 | G35: =$B35 -> 0.472575 | H35: =$B35 -> 0.472575 | I35: =$B35 -> 0.472575 | J35: =$B35 -> 0.472575 | K35: =$B35 -> 0.472575 | ... AA35: =$B35 -> 0.472575 | AN35: Citaro | AO35: Lions | AP35: Centro- | AQ35: des | AR35: A 35 | AS35: 7900H | AT35: Trolley | AU35: 3 Longo | AV35: 3 Longo 2 | AW35: bus | AX35: bus | AY35: Zürich | AZ35: Caetano
AN36: O 350 | AO36: City | AP36: liner | AQ36: O 530 | AR36: Midibus | AT36: 3 | AU36: Doppel- | AV36: Doppel- | AW36: SOR EBN 8 | AX36: Volvo | AY36: Cobra
AN37: Gelenk- | AO37: Gelenk- | AP37: Gelenk- | AQ37: Stand- | AR37: Stand- | AT37: Gelenk- | AU37: Gelenk- | AV37: Gelenk- | AX37: 7900 EH
A38: Konstanten | AN38: bus | AO38: bus | AP38: bus | AQ38: ardbus | AR38: ardbus | AS38: Hybrid | AT38: trolley | AU38: trolley | AV38: trolley
A39: AP | B39: cat 1 | C39: cat 2 | D39: cat 3 | E39: cat 4 | F39: cat 5 | G39: cat 6 | H39: cat 7 | I39: cat 8 | J39: cat 9 | K39: cat 10 | AC39: BP | AD39: cat 1 | AE39: cat 2 | AF39: cat 3 | AG39: cat 4 | AH39: cat 5 | AI39: cat 6 | AJ39: cat 7 | AK39: cat 8 | AL39: cat 9 | AM39: cat 10 | AN39: Diesel | AO39: Diesel | AP39: Diesel | AQ39: Diesel | AR39: Diesel | AT39: Elektro | AU39: Elektro | AV39: Elektro | AW39: Elektro | AX39: Elektro | AY39: Tram
A40: 50 | B40: 99.5 | C40: 99.1 | D40: 91 | E40: 91 | F40: 95.5 | G40: 92 | H40: 92 | I40: 100.6 | J40: 101.2 | K40: 99.7 | L40: 94.3 | M40: 99.6 | N40: 102.5 | O40: 94.3 | P40: 98.8 | Q40: 101.3 | R40: 60 | S40: 60 | T40: 60 | U40: 60 | V40: 89.9 | W40: 89.2 | X40: 86.1 | AC40: 50 | AD40: 0 | AE40: =C40/100 -> 0.991 | AF40: 0 | AG40: 0 | AH40: 0 | AI40: 0 | AJ40: 0 | AK40: =I40/100 -> 1.006 | AL40: =J40/100 -> 1.012 | AM40: =K40/100 -> 0.997 | AN40: 1 | AO40: 1 | AP40: 1 | AQ40: 1 | AR40: 8.8 | AS40: 1.8 | AT40: 9.6 | AU40: 9.6 | AV40: 9.6 | AW40: 9.9 | AX40: 10 | AY40: 1 | AZ40: 1
A41: 63 | B41: 98 | C41: 100.6 | D41: 87.5 | E41: 87.5 | F41: 96.5 | G41: 92 | H41: 92 | I41: 102.2 | J41: 106.6 | K41: 106.2 | L41: 83.9 | M41: 103.3 | N41: 97.3 | O41: 83.9 | P41: 93.6 | Q41: 81.7 | R41: 60 | S41: 60 | T41: 86.1 | U41: 80.1 | V41: 90.6 | W41: 95.6 | X41: 60 | AC41: 63 | AD41: 0 | AE41: 1.6 | AF41: 0 | AG41: 0 | AH41: 0 | AI41: 0 | AJ41: 0 | AK41: =I41/100 -> 1.022 | AL41: 1 | AM41: 1 | AN41: 9.3 | AO41: 9.9 | AP41: 9.9 | AQ41: 9.9 | AR41: 9.9 | AS41: 7.3 | AT41: 1 | AU41: 9.6 | AV41: 1 | AW41: 1 | AX41: 10 | AY41: 13.6 | AZ41: 9.9
A42: 80 | B42: 96 | C42: 102.2 | D42: 86.5 | E42: 86.5 | F42: 89.5 | G42: 92 | H42: 92 | I42: 99.7 | J42: 102.7 | K42: 101.2 | L42: 89.1 | M42: 89.1 | N42: 79.4 | O42: 88.4 | P42: 98.1 | Q42: 90.4 | R42: 79.6 | S42: 79.6 | T42: 92.6 | U42: 77.9 | V42: 86.9 | W42: 100.3 | X42: 60 | AC42: 80 | AD42: 0 | AE42: 3.5 | AF42: 0 | AG42: 0 | AH42: 0 | AI42: 0 | AJ42: 0 | AK42: =I42/100 -> 0.997 | AL42: =J42/100 -> 1.027 | AM42: =K42/100 -> 1.012 | AN42: 3 | AO42: 1 | AP42: 1 | AQ42: 1 | AR42: 1 | AS42: 1.8 | AT42: 9.6 | AU42: 2.2 | AV42: 1.8 | AW42: 9.9 | AX42: 1 | AY42: 19.9 | AZ42: 9.9
A43: 100 | B43: 94.5 | C43: 102.2 | D43: 84.5 | E43: 84.5 | F43: 86 | G43: 91.7 | H43: 91.7 | I43: 97.6 | J43: 97.5 | K43: 96.2 | L43: 91.3 | M43: 90.6 | N43: 98.1 | O43: 90.6 | P43: 84.6 | Q43: 88.3 | R43: 60 | S43: 60 | T43: 60 | U43: 60 | V43: 83.9 | W43: 97.7 | X43: 77.2 | AC43: 100 | AD43: 3 | AE43: 3.5 | AF43: 7.2 | AG43: 7.2 | AH43: 4.7 | AI43: 4.7 | AJ43: 4.7 | AK43: 3 | AL43: 3 | AM43: 3 | AN43: 1 | AO43: 1 | AP43: 1 | AQ43: 1.3 | AR43: 1.9 | AS43: 2.2 | AT43: 9.6 | AU43: 9.6 | AV43: 2.2 | AW43: 8.4 | AX43: 2 | AY43: 10.6 | AZ43: 1
A44: 125 | B44: 99 | C44: 103.8 | D44: 83 | E44: 83 | F44: 85 | G44: 91.7 | H44: 91.7 | I44: 97 | J44: 99.2 | K44: 98 | L44: 94.3 | M44: 88.4 | N44: 93.6 | O44: 92.8 | P44: 98.8 | Q44: 90.4 | R44: 83.9 | S44: 86.1 | T44: 60 | U44: 60 | V44: 87.6 | W44: 102.3 | X44: 67.5 | AC44: 125 | AD44: 3 | AE44: 3.5 | AF44: 7.2 | AG44: 7.2 | AH44: 4.7 | AI44: 4.7 | AJ44: 4.7 | AK44: 3 | AL44: 3 | AM44: 3 | AN44: 9.9 | AO44: 1 | AP44: 9.9 | AQ44: 1.7 | AR44: 1 | AS44: 6.9 | AT44: 9.6 | AU44: 1 | AV44: 9.6 | AW44: 8.4 | AX44: 1.5 | AY44: 17.4 | AZ44: 1
A45: 160 | B45: 90 | C45: 100.6 | D45: 83.5 | E45: 83.5 | F45: 86 | G45: 91.7 | H45: 91.7 | I45: 95.9 | J45: 95.7 | K45: 95.7 | L45: 94.3 | M45: 86.9 | N45: 86.1 | O45: 89.9 | P45: 95.8 | Q45: 83.9 | R45: 88.3 | S45: 88.3 | T45: 88.3 | U45: 80.1 | V45: 84.6 | W45: 102.1 | X45: 71.2 | AC45: 160 | AD45: 3 | AE45: 7.8 | AF45: 7.2 | AG45: 7.2 | AH45: 4.7 | AI45: 4.7 | AJ45: 4.7 | AK45: 3 | AL45: 3 | AM45: 3 | AN45: 7.9 | AO45: 1 | AP45: 1 | AQ45: 1 | AR45: 1.3 | AS45: 3 | AT45: 1.8 | AU45: 1.8 | AV45: 1.8 | AW45: 5.3 | AX45: 1 | AY45: 19.7 | AZ45: 1
A46: 200 | B46: 86.5 | C46: 95.9 | D46: 82.5 | E46: 82.5 | F46: 85 | G46: 91 | H46: 91 | I46: 93.9 | J46: 93.7 | K46: 91.4 | L46: 89.9 | M46: 91.3 | N46: 91.3 | O46: 92.8 | P46: 83.9 | Q46: 83.9 | R46: 90.4 | S46: 92.6 | T46: 92.6 | U46: 79.4 | V46: 85.4 | W46: 97.8 | X46: 81.6 | AC46: 200 | AD46: 4.6 | AE46: 9.7 | AF46: 7.7 | AG46: 7.7 | AH46: 6.4 | AI46: 6.4 | AJ46: 6.4 | AK46: 4.6 | AL46: 4.6 | AM46: 4.6 | AN46: 1 | AO46: 1 | AP46: 9.9 | AQ46: 1 | AR46: 1.9 | AS46: 1.4 | AT46: 1 | AU46: 1 | AV46: 1 | AW46: 9.9 | AX46: 1 | AY46: 16.2 | AZ46: 1
A47: 250 | B47: 95.5 | C47: 89.7 | D47: 83 | E47: 83 | F47: 85 | G47: 91 | H47: 91 | I47: 96 | J47: 96 | K47: 93.8 | L47: 89.9 | M47: 88.4 | N47: 89.9 | O47: 92.8 | P47: 95.1 | Q47: 83.9 | R47: 92.6 | S47: 92.6 | T47: 90.4 | U47: 82.4 | V47: 81.6 | W47: 95.2 | X47: 75.7 | AC47: 250 | AD47: 4.6 | AE47: 9 | AF47: 7.7 | AG47: 7.7 | AH47: 6.4 | AI47: 6.4 | AJ47: 6.4 | AK47: 4.6 | AL47: 4.6 | AM47: 4.6 | AN47: 9.5 | AO47: 1 | AP47: 9.9 | AQ47: 1 | AR47: 2.3 | AS47: 6.1 | AT47: 1.4 | AU47: 1 | AV47: 8 | AW47: 1.3 | AX47: 1.3 | AY47: 15.9 | AZ47: 4.1
A48: 315 | B48: 95 | C48: 85 | D48: 82.5 | E48: 82.5 | F48: 85 | G48: 91 | H48: 91 | I48: 97.6 | J48: 97.6 | K48: 96.5 | L48: 94.3 | M48: 92.1 | N48: 85.4 | O48: 89.1 | P48: 92.8 | Q48: 86.1 | R48: 97 | S48: 60 | T48: 60 | U48: 81.6 | V48: 83.1 | W48: 96.5 | X48: 60 | AC48: 315 | AD48: 4.6 | AE48: 9 | AF48: 7.7 | AG48: 7.7 | AH48: 6.4 | AI48: 6.4 | AJ48: 6.4 | AK48: 4.6 | AL48: 4.6 | AM48: 4.6 | AN48: 9.9 | AO48: 9.9 | AP48: 9.9 | AQ48: 9.9 | AR48: 9.9 | AS48: 1 | AT48: 8.8 | AU48: 9.6 | AV48: 9.6 | AW48: 1.3 | AX48: 1 | AY48: 20.8 | AZ48: 9.9
A49: 400 | B49: 96.5 | C49: 86.6 | D49: 81 | E49: 81 | F49: 85 | G49: 91 | H49: 91 | I49: 96 | J49: 96 | K49: 97.4 | L49: 95.1 | M49: 96.6 | N49: 88.4 | O49: 90.6 | P49: 88.4 | Q49: 88.3 | R49: 64.3 | S49: 60 | T49: 88.3 | U49: 60 | V49: 82.4 | W49: 100.9 | X49: 80.1 | AC49: 400 | AD49: 5 | AE49: 9 | AF49: 8 | AG49: 8 | AH49: 6.5 | AI49: 6.5 | AJ49: 6.5 | AK49: 5 | AL49: 5 | AM49: 5 | AN49: 1.3 | AO49: 9.9 | AP49: 1.4 | AQ49: 9.9 | AR49: 9.9 | AS49: 1 | AT49: 2.6 | AU49: 9.6 | AV49: 9.6 | AW49: 9.9 | AX49: 1 | AY49: 21.4 | AZ49: 1.4
A50: 500 | B50: 92 | C50: 86.6 | D50: 81 | E50: 81 | F50: 83.5 | G50: 91 | H50: 91 | I50: 98 | J50: 98 | K50: 99.1 | L50: 80.9 | M50: 91.3 | N50: 88.4 | O50: 92.8 | P50: 88.4 | Q50: 60 | R50: 60 | S50: 60 | T50: 90.4 | U50: 60 | V50: 81.6 | W50: 102.6 | X50: 60 | AC50: 500 | AD50: 5 | AE50: 7.8 | AF50: 8 | AG50: 8 | AH50: 6.5 | AI50: 6.5 | AJ50: 6.5 | AK50: 5 | AL50: 5 | AM50: 5 | AN50: 2.9 | AO50: 9.9 | AP50: 9.9 | AQ50: 9.9 | AR50: 9.9 | AS50: 9.6 | AT50: 9.6 | AU50: 9.6 | AV50: 9.6 | AW50: 8.4 | AX50: 5.9 | AY50: 22.5 | AZ50: 9.9
A51: 630 | B51: 91 | C51: 88.1 | D51: 83.5 | E51: 83.5 | F51: 82.5 | G51: 91 | H51: 91 | I51: 97.4 | J51: 97.4 | K51: 96.2 | L51: 90.6 | M51: 90.6 | N51: 91.3 | O51: 86.9 | P51: 89.1 | Q51: 60 | R51: 60 | S51: 77.4 | T51: 75.2 | U51: 78.7 | V51: 77 | W51: 104.6 | X51: 60 | AC51: 630 | AD51: 5 | AE51: 8.3 | AF51: 8 | AG51: 8 | AH51: 6.5 | AI51: 6.5 | AJ51: 6.5 | AK51: 5 | AL51: 5 | AM51: 5 | AN51: 9.9 | AO51: 9.9 | AP51: 9.9 | AQ51: 9.9 | AR51: 9.9 | AS51: 9.6 | AT51: 9.6 | AU51: 1 | AV51: 9.6 | AW51: 1 | AX51: 10 | AY51: 26.7 | AZ51: 9.9
A52: 800 | B52: 92 | C52: 88.1 | D52: 82.5 | E52: 82.5 | F52: 89 | G52: 93.8 | H52: 93.8 | I52: 95.6 | J52: 95.6 | K52: 95.9 | L52: 82.4 | M52: 82.4 | N52: 87.6 | O52: 86.1 | P52: 84.6 | Q52: 79.6 | R52: 60 | S52: 83.9 | T52: 90.4 | U52: 60 | V52: 74.9 | W52: 106.7 | X52: 60 | AC52: 800 | AD52: 5 | AE52: 9.7 | AF52: 8 | AG52: 8 | AH52: 6.5 | AI52: 6.5 | AJ52: 6.5 | AK52: 5 | AL52: 5 | AM52: 5 | AN52: 1 | AO52: 1 | AP52: 2.5 | AQ52: 1 | AR52: 1 | AS52: 1 | AT52: 9.6 | AU52: 3.3 | AV52: 9.6 | AW52: 9.9 | AX52: 1 | AY52: 29.6 | AZ52: 9.9
A53: 1000 | B53: 93.5 | C53: 85 | D53: 79 | E53: 79 | F53: 85 | G53: 93.8 | H53: 93.8 | I53: 89.1 | J53: 89.1 | K53: 92 | L53: 87.6 | M53: 89.9 | N53: 90.6 | O53: 91.3 | P53: 87.6 | Q53: 83.9 | R53: 60 | S53: 79.6 | T53: 90.4 | U53: 60 | V53: 75.7 | W53: 104.9 | X53: 78.7 | AC53: 1000 | AD53: 5 | AE53: 9.7 | AF53: 8 | AG53: 8 | AH53: 6.5 | AI53: 6.5 | AJ53: 6.5 | AK53: 5 | AL53: 5 | AM53: 5 | AN53: 1 | AO53: 9.9 | AP53: 9.9 | AQ53: 1 | AR53: 9.9 | AS53: 1 | AT53: 9.6 | AU53: 1 | AV53: 9.6 | AW53: 9.9 | AX53: 1 | AY53: 30.5 | AZ53: 1.1
A54: 1250 | B54: 87.5 | C54: 85 | D54: 74 | E54: 74 | F54: 80.5 | G54: 93.8 | H54: 93.8 | I54: 86 | J54: 86 | K54: 90 | L54: 95.8 | M54: 86.9 | N54: 88.4 | O54: 93.6 | P54: 89.9 | Q54: 79.6 | R54: 92.6 | S54: 73 | T54: 92.6 | U54: 60 | V54: 80.1 | W54: 107.2 | X54: 73.4 | AC54: 1250 | AD54: 5 | AE54: 9.4 | AF54: 8 | AG54: 8 | AH54: 6.5 | AI54: 6.5 | AJ54: 6.5 | AK54: 5 | AL54: 5 | AM54: 5 | AN54: 9.9 | AO54: 9.9 | AP54: 6.9 | AQ54: 9.9 | AR54: 9.9 | AS54: 2.2 | AT54: 8.8 | AU54: 9.6 | AV54: 7.7 | AW54: 8.4 | AX54: 6.1 | AY54: 29 | AZ54: 9.9
...

Sheet Rollgeräusch
C11: vorgegeben
C12: eingebbar | S12: Hess | T12: Hess | Y12: Tram | Z12: Tram | AA12: Tram
C13: berechnet | M13: Man A40 | N13: Neoplan | O13: Merce- | P13: MAN | Q13: Volvo | R13: Swiss | S13: ligh Tram | T13: ligh Tram | U13: Batterie- | V13: Batterie- | W13: Tram | X13: Bus
C14: Berechnung mit Rechenbeispielen geprüft | L14: Citaro | M14: Lions | N14: Centro- | O14: des | P14: A 35 | Q14: 7900H | R14: Trolley | S14: 3 Longo | T14: 3 Longo 2 | U14: bus | V14: bus | W14: Zürich | X14: Caetano
L15: O 350 | M15: City | N15: liner | O15: O 530 | P15: Midibus | R15: 3 | S15: Doppel- | T15: Doppel- | U15: SOR EBN 8 | V15: Volvo | W15: Cobra
A16: vref | B16: 70 | C16: km/h | L16: Gelenk- | M16: Gelenk- | N16: Gelenk- | O16: Stand- | P16: Stand- | R16: Gelenk- | S16: Gelenk- | T16: Gelenk- | V16: 7900 EH
L17: bus | M17: bus | N17: bus | O17: ardbus | P17: ardbus | Q17: Hybrid | R17: trolley | S17: trolley | T17: trolley
A18: v(c) | B18: cat 1 | C18: cat 2 | D18: cat 3 | E18: cat 4 | F18: cat 5 | G18: cat 6 | H18: cat 7 | I18: cat 8 | J18: cat 9 | K18: cat 10 | L18: Diesel | M18: Diesel | N18: Diesel | O18: Diesel | P18: Diesel | R18: Elektro | S18: Elektro | T18: Elektro | U18: Elektro | V18: Elektro | W18: Tram
A19: aufwärts [km/h] | B19: =Antriebsgeräusch!B19 -> 50 | C19: =Antriebsgeräusch!C19 -> 30 | D19: =Antriebsgeräusch!D19 -> 39 | E19: =Antriebsgeräusch!E19 -> 50 | F19: =Antriebsgeräusch!F19 -> 50 | G19: =Antriebsgeräusch!G19 -> 50 | H19: =Antriebsgeräusch!H19 -> 50 | I19: =Antriebsgeräusch!I19 -> 39 | ... V19: =Antriebsgeräusch!V19 -> 50 | W19: 50 | X19: =Antriebsgeräusch!X19 -> 50 | Y19: =Antriebsgeräusch!Y19 -> 50 | Z19: =Antriebsgeräusch!Z19 -> 50 | AA19: =Antriebsgeräusch!AA19 -> 50
A20: abwärts [km/h] | B20: =Antriebsgeräusch!B20 -> 50 | C20: =Antriebsgeräusch!C20 -> 30 | D20: =Antriebsgeräusch!D20 -> 39 | E20: =Antriebsgeräusch!E20 -> 50 | F20: =Antriebsgeräusch!F20 -> 50 | G20: =Antriebsgeräusch!G20 -> 50 | H20: =Antriebsgeräusch!H20 -> 50 | I20: =Antriebsgeräusch!I20 -> 39 | ... V20: =Antriebsgeräusch!V20 -> 50 | W20: 50 | X20: =Antriebsgeräusch!X20 -> 50 | Y20: =Antriebsgeräusch!Y20 -> 50 | Z20: =Antriebsgeräusch!Z20 -> 50 | AA20: =Antriebsgeräusch!AA20 -> 50
A23: Belagszuschlag
AH24: selbst
A25: Belagstyp | B25: Test | AC25: Konstanten | AH25: wählbar
A26: ∆Lw,R,road ( i) | C26: cat 2 | D26: cat 3 | E26: cat 4 | F26: cat 5 | G26: cat 6 | H26: cat 7 | I26: cat 8 | J26: cat 9 | K26: cat 10 | AC26: ACMR8 | AD26: SDA4 | AE26: AB11 | AF26: PMA | AG26: Beton | AH26: Test | AI26: Kb50 0 | AJ26: Kb50+1 | AK26: Kb50-3 | AL26: Kb50-5 | AN26: Kb50+2
A27: 50 | B27: =IF($B$25="ACMR8",$AC27,IF($B$25="SDA4",$AD27,IF($B$25="AB11",$AE27,IF($B$25="PMA",$AF27,IF($B$25="Beton",$AG27,IF($B$25="Test",$AH27,999)))))) -> 1.8 | C27: =$B27 -> 1.8 | D27: =$B27 -> 1.8 | E27: =$B27 -> 1.8 | F27: =$B27 -> 1.8 | G27: =$B27 -> 1.8 | H27: =$B27 -> 1.8 | I27: =$B27 -> 1.8 | J27: =$B27 -> 1.8 | ... AA27: =$B27 -> 1.8 | AC27: 0 | AD27: -3 | AE27: 1 | AF27: 1 | AG27: 9 | AH27: 1.8 | AI27: 1 | AJ27: 1.8 | AK27: -1.5 | AL27: -3.1 | AN27: 3.3
A28: 63 | B28: =IF($B$25="ACMR8",$AC28,IF($B$25="SDA4",$AD28,IF($B$25="AB11",$AE28,IF($B$25="PMA",$AF28,IF($B$25="Beton",$AG28,IF($B$25="Test",$AH28,999)))))) -> 1.8 | C28: =$B28 -> 1.8 | D28: =$B28 -> 1.8 | E28: =$B28 -> 1.8 | F28: =$B28 -> 1.8 | G28: =$B28 -> 1.8 | H28: =$B28 -> 1.8 | I28: =$B28 -> 1.8 | J28: =$B28 -> 1.8 | ... AA28: =$B28 -> 1.8 | AC28: 0 | AD28: -3 | AE28: =$B$24 -> 0 | AF28: =$B$24 -> 0 | AG28: 9 | AH28: 1.8 | AI28: 1 | AJ28: 1.8 | AK28: -1.5 | AL28: -3.1 | AN28: 3.3
A29: 80 | B29: =IF($B$25="ACMR8",$AC29,IF($B$25="SDA4",$AD29,IF($B$25="AB11",$AE29,IF($B$25="PMA",$AF29,IF($B$25="Beton",$AG29,IF($B$25="Test",$AH29,999)))))) -> 1.8 | C29: =$B29 -> 1.8 | D29: =$B29 -> 1.8 | E29: =$B29 -> 1.8 | F29: =$B29 -> 1.8 | G29: =$B29 -> 1.8 | H29: =$B29 -> 1.8 | I29: =$B29 -> 1.8 | J29: =$B29 -> 1.8 | ... AA29: =$B29 -> 1.8 | AC29: 0 | AD29: -3 | AE29: =$B$24 -> 0 | AF29: =$B$24 -> 0 | AG29: 9 | AH29: 1.8 | AI29: 1 | AJ29: 1.8 | AK29: -1.5 | AL29: -3.1 | AN29: 3.3
A30: 100 | B30: =IF($B$25="ACMR8",$AC30,IF($B$25="SDA4",$AD30,IF($B$25="AB11",$AE30,IF($B$25="PMA",$AF30,IF($B$25="Beton",$AG30,IF($B$25="Test",$AH30,999)))))) -> 1.8 | C30: =$B30 -> 1.8 | D30: =$B30 -> 1.8 | E30: =$B30 -> 1.8 | F30: =$B30 -> 1.8 | G30: =$B30 -> 1.8 | H30: =$B30 -> 1.8 | I30: =$B30 -> 1.8 | J30: =$B30 -> 1.8 | ... AA30: =$B30 -> 1.8 | AC30: 0 | AD30: -2.9 | AE30: 1.1 | AF30: 1.1 | AG30: 9.1 | AH30: 1.8 | AI30: 1 | AJ30: 1.8 | AK30: -1.5 | AL30: -3.1 | AN30: 3.3
A31: 125 | B31: =IF($B$25="ACMR8",$AC31,IF($B$25="SDA4",$AD31,IF($B$25="AB11",$AE31,IF($B$25="PMA",$AF31,IF($B$25="Beton",$AG31,IF($B$25="Test",$AH31,999)))))) -> 1.8 | C31: =$B31 -> 1.8 | D31: =$B31 -> 1.8 | E31: =$B31 -> 1.8 | F31: =$B31 -> 1.8 | G31: =$B31 -> 1.8 | H31: =$B31 -> 1.8 | I31: =$B31 -> 1.8 | J31: =$B31 -> 1.8 | ... AA31: =$B31 -> 1.8 | AC31: 0 | AD31: -3.6 | AE31: =$B$24 -> 0 | AF31: 0.6 | AG31: 8.7 | AH31: 1.8 | AI31: 1 | AJ31: 1.8 | AK31: -1.5 | AL31: -3.1 | AN31: 3.3
A32: 160 | B32: =IF($B$25="ACMR8",$AC32,IF($B$25="SDA4",$AD32,IF($B$25="AB11",$AE32,IF($B$25="PMA",$AF32,IF($B$25="Beton",$AG32,IF($B$25="Test",$AH32,999)))))) -> 1.8 | C32: =$B32 -> 1.8 | D32: =$B32 -> 1.8 | E32: =$B32 -> 1.8 | F32: =$B32 -> 1.8 | G32: =$B32 -> 1.8 | H32: =$B32 -> 1.8 | I32: =$B32 -> 1.8 | J32: =$B32 -> 1.8 | ... AA32: =$B32 -> 1.8 | AC32: 0 | AD32: -4.3 | AE32: 1.1 | AF32: 0 | AG32: 8.9 | AH32: 1.8 | AI32: 1 | AJ32: 1.8 | AK32: -1.5 | AL32: -3.1 | AN32: 3.3
A33: 200 | B33: =IF($B$25="ACMR8",$AC33,IF($B$25="SDA4",$AD33,IF($B$25="AB11",$AE33,IF($B$25="PMA",$AF33,IF($B$25="Beton",$AG33,IF($B$25="Test",$AH33,999)))))) -> 1.8 | C33: =$B33 -> 1.8 | D33: =$B33 -> 1.8 | E33: =$B33 -> 1.8 | F33: =$B33 -> 1.8 | G33: =$B33 -> 1.8 | H33: =$B33 -> 1.8 | I33: =$B33 -> 1.8 | J33: =$B33 -> 1.8 | ... AA33: =$B33 -> 1.8 | AC33: 0 | AD33: -4.3 | AE33: 1.2 | AF33: 0.3 | AG33: 8.9 | AH33: 1.8 | AI33: 1 | AJ33: 1.8 | AK33: -1.5 | AL33: -3.1 | AN33: 3.3
A34: 250 | B34: =IF($B$25="ACMR8",$AC34,IF($B$25="SDA4",$AD34,IF($B$25="AB11",$AE34,IF($B$25="PMA",$AF34,IF($B$25="Beton",$AG34,IF($B$25="Test",$AH34,999)))))) -> 1.8 | C34: =$B34 -> 1.8 | D34: =$B34 -> 1.8 | E34: =$B34 -> 1.8 | F34: =$B34 -> 1.8 | G34: =$B34 -> 1.8 | H34: =$B34 -> 1.8 | I34: =$B34 -> 1.8 | J34: =$B34 -> 1.8 | ... AA34: =$B34 -> 1.8 | AC34: 0 | AD34: -5.1 | AE34: 1.2 | AF34: -1.1 | AG34: 8.5 | AH34: 1.8 | AI34: 1 | AJ34: 1.8 | AK34: -1.5 | AL34: -3.1 | AN34: 3.3
A35: 315 | B35: =IF($B$25="ACMR8",$AC35,IF($B$25="SDA4",$AD35,IF($B$25="AB11",$AE35,IF($B$25="PMA",$AF35,IF($B$25="Beton",$AG35,IF($B$25="Test",$AH35,999)))))) -> 1.8 | C35: =$B35 -> 1.8 | D35: =$B35 -> 1.8 | E35: =$B35 -> 1.8 | F35: =$B35 -> 1.8 | G35: =$B35 -> 1.8 | H35: =$B35 -> 1.8 | I35: =$B35 -> 1.8 | J35: =$B35 -> 1.8 | ... AA35: =$B35 -> 1.8 | AC35: 0 | AD35: -5.8 | AE35: 1.4 | AF35: -1.5 | AG35: 8.1 | AH35: 1.8 | AI35: 1 | AJ35: 1.8 | AK35: -1.5 | AL35: -3.1 | AN35: 3.3
A36: 400 | B36: =IF($B$25="ACMR8",$AC36,IF($B$25="SDA4",$AD36,IF($B$25="AB11",$AE36,IF($B$25="PMA",$AF36,IF($B$25="Beton",$AG36,IF($B$25="Test",$AH36,999)))))) -> 1.2 | C36: =$B36 -> 1.2 | D36: =$B36 -> 1.2 | E36: =$B36 -> 1.2 | F36: =$B36 -> 1.2 | G36: =$B36 -> 1.2 | H36: =$B36 -> 1.2 | I36: =$B36 -> 1.2 | J36: =$B36 -> 1.2 | ... AA36: =$B36 -> 1.2 | AC36: 0 | AD36: -6.1 | AE36: 1.3 | AF36: -1.4 | AG36: 7.4 | AH36: 1.2 | AI36: 0.5 | AJ36: 1.2 | AK36: -0.1 | AL36: -0.2 | AN36: 2.3
A37: 500 | B37: =IF($B$25="ACMR8",$AC37,IF($B$25="SDA4",$AD37,IF($B$25="AB11",$AE37,IF($B$25="PMA",$AF37,IF($B$25="Beton",$AG37,IF($B$25="Test",$AH37,999)))))) -> 0 | C37: =$B37 -> 0 | D37: =$B37 -> 0 | E37: =$B37 -> 0 | F37: =$B37 -> 0 | G37: =$B37 -> 0 | H37: =$B37 -> 0 | I37: =$B37 -> 0 | J37: =$B37 -> 0 | ... AA37: =$B37 -> 0 | AC37: 0 | AD37: -7.8 | AE37: 1.2 | AF37: -1.7 | AG37: 6.5 | AH37: 0 | AI37: 0 | AJ37: 0 | AK37: 0 | AL37: 0 | AN37: 1.2
A38: 630 | B38: =IF($B$25="ACMR8",$AC38,IF($B$25="SDA4",$AD38,IF($B$25="AB11",$AE38,IF($B$25="PMA",$AF38,IF($B$25="Beton",$AG38,IF($B$25="Test",$AH38,999)))))) -> 3 | C38: =$B38 -> 3 | D38: =$B38 -> 3 | E38: =$B38 -> 3 | F38: =$B38 -> 3 | G38: =$B38 -> 3 | H38: =$B38 -> 3 | I38: =$B38 -> 3 | J38: =$B38 -> 3 | ... AA38: =$B38 -> 3 | AC38: 0 | AD38: -8.7 | AE38: 1.2 | AF38: -1.3 | AG38: 5.8 | AH38: 3 | AI38: 1.9 | AJ38: 3 | AK38: -0.6 | AL38: -1 | AN38: 4.3
A39: 800 | B39: =IF($B$25="ACMR8",$AC39,IF($B$25="SDA4",$AD39,IF($B$25="AB11",$AE39,IF($B$25="PMA",$AF39,IF($B$25="Beton",$AG39,IF($B$25="Test",$AH39,999)))))) -> 1.9 | C39: =$B39 -> 1.9 | D39: =$B39 -> 1.9 | E39: =$B39 -> 1.9 | F39: =$B39 -> 1.9 | G39: =$B39 -> 1.9 | H39: =$B39 -> 1.9 | I39: =$B39 -> 1.9 | J39: =$B39 -> 1.9 | ... AA39: =$B39 -> 1.9 | AC39: 0 | AD39: -10.7 | AE39: 0.8 | AF39: -1.3 | AG39: 5 | AH39: 1.9 | AI39: 1.1 | AJ39: 1.9 | AK39: -1.5 | AL39: -4 | AN39: 3
A40: 1000 | B40: =IF($B$25="ACMR8",$AC40,IF($B$25="SDA4",$AD40,IF($B$25="AB11",$AE40,IF($B$25="PMA",$AF40,IF($B$25="Beton",$AG40,IF($B$25="Test",$AH40,999)))))) -> 3.3 | C40: =$B40 -> 3.3 | D40: =$B40 -> 3.3 | E40: =$B40 -> 3.3 | F40: =$B40 -> 3.3 | G40: =$B40 -> 3.3 | H40: =$B40 -> 3.3 | I40: =$B40 -> 3.3 | J40: =$B40 -> 3.3 | ... AA40: =$B40 -> 3.3 | AC40: 0 | AD40: -11.8 | AE40: 0.7 | AF40: -1.1 | AG40: 4.6 | AH40: 3.3 | AI40: 2.4 | AJ40: 3.3 | AK40: -0.7 | AL40: -4.7 | AN40: 4
A41: 1250 | B41: =IF($B$25="ACMR8",$AC41,IF($B$25="SDA4",$AD41,IF($B$25="AB11",$AE41,IF($B$25="PMA",$AF41,IF($B$25="Beton",$AG41,IF($B$25="Test",$AH41,999)))))) -> 3.6 | C41: =$B41 -> 3.6 | D41: =$B41 -> 3.6 | E41: =$B41 -> 3.6 | F41: =$B41 -> 3.6 | G41: =$B41 -> 3.6 | H41: =$B41 -> 3.6 | I41: =$B41 -> 3.6 | J41: =$B41 -> 3.6 | ... AA41: =$B41 -> 3.6 | AC41: 0 | AD41: -12.5 | AE41: 0.5 | AF41: 0.1 | AG41: 4.1 | AH41: 3.6 | AI41: 2.7 | AJ41: 3.6 | AK41: -0.7 | AL41: -4.3 | AN41: 4.4
A42: 1600 | B42: =IF($B$25="ACMR8",$AC42,IF($B$25="SDA4",$AD42,IF($B$25="AB11",$AE42,IF($B$25="PMA",$AF42,IF($B$25="Beton",$AG42,IF($B$25="Test",$AH42,999)))))) -> 2.1 | C42: =$B42 -> 2.1 | D42: =$B42 -> 2.1 | E42: =$B42 -> 2.1 | F42: =$B42 -> 2.1 | G42: =$B42 -> 2.1 | H42: =$B42 -> 2.1 | I42: =$B42 -> 2.1 | J42: =$B42 -> 2.1 | ... AA42: =$B42 -> 2.1 | AC42: 0 | AD42: -12.7 | AE42: 0.6 | AF42: 1 | AG42: 4 | AH42: 2.1 | AI42: 1.5 | AJ42: 2.1 | AK42: -0.1 | AL42: -4.3 | AN42: 2.4
A43: 2000 | B43: =IF($B$25="ACMR8",$AC43,IF($B$25="SDA4",$AD43,IF($B$25="AB11",$AE43,IF($B$25="PMA",$AF43,IF($B$25="Beton",$AG43,IF($B$25="Test",$AH43,999)))))) -> 1.4 | C43: =$B43 -> 1.4 | D43: =$B43 -> 1.4 | E43: =$B43 -> 1.4 | F43: =$B43 -> 1.4 | G43: =$B43 -> 1.4 | H43: =$B43 -> 1.4 | I43: =$B43 -> 1.4 | J43: =$B43 -> 1.4 | ... AA43: =$B43 -> 1.4 | AC43: 0 | AD43: -12.6 | AE43: 0.9 | AF43: 1.4 | AG43: 4.2 | AH43: 1.4 | AI43: 1.1 | AJ43: 1.4 | AK43: 0.1 | AL43: -4.6 | AN43: 1.6
... A50: 10000 | B50: =IF($B$25="ACMR8",$AC50,IF($B$25="SDA4",$AD50,IF($B$25="AB11",$AE50,IF($B$25="PMA",$AF50,IF($B$25="Beton",$AG50,IF($B$25="Test",$AH50,999)))))) -> 1.6 | C50: =$B50 -> 1.6 | D50: =$B50 -> 1.6 | E50: =$B50 -> 1.6 | F50: =$B50 -> 1.6 | G50: =$B50 -> 1.6 | H50: =$B50 -> 1.6 | I50: =$B50 -> 1.6 | J50: =$B50 -> 1.6 | ... AA50: =$B50 -> 1.6 | AC50: 0 | AD50: -5.7 | AE50: 5.1 | AF50: 3.5 | AG50: 7.1 | AH50: 1.6 | AI50: 0.9 | AJ50: 1.6 | AK50: -0.9 | AL50: -3.8 | AN50: 2
A53: Beschleunigungszuschlag
A54: ∆Lw,R,acc ( c) | B54: cat 1 | C54: cat 2 | D54: cat 3 | E54: cat 4 | F54: cat 5 | G54: cat 6 | H54: cat 7 | I54: cat 8 | J54: cat 9 | K54: cat 10
A55: aufwärts [dB] | B55: 0 | C55: 0 | D55: 0 | E55: 0 | F55: 0 | G55: 0 | H55: 0 | I55: 0 | J55: 0 | K55: 0 | L55: 0 | M55: 0 | N55: 0 | O55: 0 | P55: 0 | Q55: 0 | R55: 0 | S55: 0 | T55: 0 | U55: 0 | V55: 0 | W55: 0 | X55: 0 | Y55: 0 | Z55: 0 | AA55: 0
A56: abwärts [dB] | B56: 0 | C56: 0 | D56: 0 | E56: 0 | F56: 0 | G56: 0 | H56: 0 | I56: 0 | J56: 0 | K56: 0 | L56: 0 | M56: 0 | N56: 0 | O56: 0 | P56: 0 | Q56: 0 | R56: 0 | S56: 0 | T56: 0 | U56: 0 | V56: 0 | W56: 0 | X56: 0 | Y56: 0 | Z56: 0 | AA56: 0
A60: Temperaturkorrektur
B61: cat 1 | C61: cat 2 | D61: cat 3 | E61: cat 4 | F61: cat 5 | G61: cat 6 | H61: cat 7 | I61: cat 8 | J61: cat 9 | K61: cat 10
A62: Lufttemperatur T | B62: 10 | C62: =$B$62 -> 10 | D62: =$B$62 -> 10 | E62: =$B$62 -> 10 | F62: =$B$62 -> 10 | G62: =$B$62 -> 10 | H62: =$B$62 -> 10 | I62: =$B$62 -> 10 | J62: =$B$62 -> 10 | ... AA62: =$B$62 -> 10
A63: K( c) | B63: 0.04 | C63: 0 | D63: 0.08 | E63: 0.08 | F63: 0.08 | G63: 0.08 | H63: 0.08 | I63: 0.04 | J63: 0.04 | K63: 0.04 | L63: =$B$63 -> 0.04 | M63: =$B$63 -> 0.04 | N63: =$B$63 -> 0.04 | O63: =$B$63 -> 0.04 | P63: =$B$63 -> 0.04 | Q63: =$B$63 -> 0.04 | R63: =$B$63 -> 0.04 | S63: =$B$63 -> 0.04 | ... AA63: =$B$63 -> 0.04
...

Sheet Totalgeräusch
C18: vorgegeben
C19: eingebbar
C20: berechnet | S20: Hess | T20: Hess | Y20: Tram | Z20: Tram | AA20: Tram
C21: Berechnung mit Rechenbeispielen geprüft | M21: Man A40 | N21: Neoplan | O21: Merce- | P21: MAN | Q21: Volvo | R21: Swiss | S21: ligh Tram | T21: ligh Tram | U21: Batterie- | V21: Batterie- | W21: Tram | X21: Bus
L22: Citaro | M22: Lions | N22: Centro- | O22: des | P22: A 35 | Q22: 7900H | R22: Trolley | S22: 3 Longo | T22: 3 Longo 2 | U22: bus | V22: bus | W22: Zürich | X22: Caetano
A23: Abstrahlcharakteristik | L23: O 350 | M23: City | N23: liner | O23: O 530 | P23: Midibus | R23: 3 | S23: Doppel- | T23: Doppel- | U23: SOR EBN 8 | V23: Volvo | W23: Cobra
L24: Gelenk- | M24: Gelenk- | N24: Gelenk- | O24: Stand- | P24: Stand- | R24: Gelenk- | S24: Gelenk- | T24: Gelenk- | V24: 7900 EH
A25: θ [°] | B25: 0 | L25: bus | M25: bus | N25: bus | O25: ardbus | P25: ardbus | Q25: Hybrid | R25: trolley | S25: trolley | T25: trolley
B26: cat 1 | C26: cat 2 | D26: cat 3 | E26: cat 4 | F26: cat 5 | G26: cat 6 | H26: cat 7 | I26: cat 8 | J26: cat 9 | K26: cat 10 | L26: Diesel | M26: Diesel | N26: Diesel | O26: Diesel | P26: Diesel | R26: Elektro | S26: Elektro | T26: Elektro | U26: Elektro | V26: Elektro | W26: Tram
A27: D1 | B27: -0.04 | C27: 0 | D27: -0.11 | E27: -0.11 | F27: -0.11 | G27: -0.11 | H27: -0.11 | I27: -0.04 | J27: -0.04 | K27: -0.04 | L27: =$B$27 -> -0.04 | M27: =$B$27 -> -0.04 | N27: =$B$27 -> -0.04 | O27: =$B$27 -> -0.04 | P27: =$B$27 -> -0.04 | Q27: =$B$27 -> -0.04 | R27: =$B$27 -> -0.04 | S27: =$B$27 -> -0.04 | ... V27: =$B$27 -> -0.04 | W27: 0 | X27: =$B$27 -> -0.04
A28: D2 | B28: 1.6 | C28: 0 | D28: 0 | E28: 0 | F28: 0 | G28: 0 | H28: 0 | I28: 1.6 | J28: 1.6 | K28: 1.6 | L28: =$B$28 -> 1.6 | M28: =$B$28 -> 1.6 | N28: =$B$28 -> 1.6 | O28: =$B$28 -> 1.6 | P28: =$B$28 -> 1.6 | Q28: =$B$28 -> 1.6 | R28: =$B$28 -> 1.6 | S28: =$B$28 -> 1.6 | ... V28: =$B$28 -> 1.6 | W28: 0 | X28: =$B$28 -> 1.6
A30: ∆Lw,θ(c,f) [dB] | B30: cat 1 | C30: cat 2 | D30: cat 3 | E30: cat 4 | F30: cat 5 | G30: cat 6 | H30: cat 7 | I30: cat 8 | J30: cat 9 | K30: cat 10
A31: 50 | B31: =B$27*(SIN($B$25*PI()/180))^3*(LOG($A31)+B$28)^3 -> 0 | C31: =C$27*(SIN($B$25*PI()/180))^3*(LOG($A31)+C$28)^3 -> 0 | D31: =D$27*(SIN($B$25*PI()/180))^3*(LOG($A31)+D$28)^3 -> 0 | E31: =E$27*(SIN($B$25*PI()/180))^3*(LOG($A31)+E$28)^3 -> 0 | F31: =F$27*(SIN($B$25*PI()/180))^3*(LOG($A31)+F$28)^3 -> 0 | G31: =G$27*(SIN($B$25*PI()/180))^3*(LOG($A31)+G$28)^3 -> 0 | H31: =H$27*(SIN($B$25*PI()/180))^3*(LOG($A31)+H$28)^3 -> 0 | I31: =I$27*(SIN($B$25*PI()/180))^3*(LOG($A31)+I$28)^3 -> 0 | ... AA31: =AA$27*(SIN($B$25*PI()/180))^3*(LOG($A31)+AA$28)^3 -> 0
A32: 63 | B32: =B$27*(SIN($B$25*PI()/180))^3*(LOG($A32)+B$28)^3 -> 0 | C32: =C$27*(SIN($B$25*PI()/180))^3*(LOG($A32)+C$28)^3 -> 0 | D32: =D$27*(SIN($B$25*PI()/180))^3*(LOG($A32)+D$28)^3 -> 0 | E32: =E$27*(SIN($B$25*PI()/180))^3*(LOG($A32)+E$28)^3 -> 0 | F32: =F$27*(SIN($B$25*PI()/180))^3*(LOG($A32)+F$28)^3 -> 0 | G32: =G$27*(SIN($B$25*PI()/180))^3*(LOG($A32)+G$28)^3 -> 0 | H32: =H$27*(SIN($B$25*PI()/180))^3*(LOG($A32)+H$28)^3 -> 0 | I32: =I$27*(SIN($B$25*PI()/180))^3*(LOG($A32)+I$28)^3 -> 0 | ... AA32: =AA$27*(SIN($B$25*PI()/180))^3*(LOG($A32)+AA$28)^3 -> 0
A33: 80 | B33: =B$27*(SIN($B$25*PI()/180))^3*(LOG($A33)+B$28)^3 -> 0 | C33: =C$27*(SIN($B$25*PI()/180))^3*(LOG($A33)+C$28)^3 -> 0 | D33: =D$27*(SIN($B$25*PI()/180))^3*(LOG($A33)+D$28)^3 -> 0 | E33: =E$27*(SIN($B$25*PI()/180))^3*(LOG($A33)+E$28)^3 -> 0 | F33: =F$27*(SIN($B$25*PI()/180))^3*(LOG($A33)+F$28)^3 -> 0 | G33: =G$27*(SIN($B$25*PI()/180))^3*(LOG($A33)+G$28)^3 -> 0 | H33: =H$27*(SIN($B$25*PI()/180))^3*(LOG($A33)+H$28)^3 -> 0 | I33: =I$27*(SIN($B$25*PI()/180))^3*(LOG($A33)+I$28)^3 -> 0 | ... AA33: =AA$27*(SIN($B$25*PI()/180))^3*(LOG($A33)+AA$28)^3 -> 0
A34: 100 | B34: =B$27*(SIN($B$25*PI()/180))^3*(LOG($A34)+B$28)^3 -> 0 | C34: =C$27*(SIN($B$25*PI()/180))^3*(LOG($A34)+C$28)^3 -> 0 | D34: =D$27*(SIN($B$25*PI()/180))^3*(LOG($A34)+D$28)^3 -> 0 | E34: =E$27*(SIN($B$25*PI()/180))^3*(LOG($A34)+E$28)^3 -> 0 | F34: =F$27*(SIN($B$25*PI()/180))^3*(LOG($A34)+F$28)^3 -> 0 | G34: =G$27*(SIN($B$25*PI()/180))^3*(LOG($A34)+G$28)^3 -> 0 | H34: =H$27*(SIN($B$25*PI()/180))^3*(LOG($A34)+H$28)^3 -> 0 | I34: =I$27*(SIN($B$25*PI()/180))^3*(LOG($A34)+I$28)^3 -> 0 | ... AA34: =AA$27*(SIN($B$25*PI()/180))^3*(LOG($A34)+AA$28)^3 -> 0
A35: 125 | B35: =B$27*(SIN($B$25*PI()/180))^3*(LOG($A35)+B$28)^3 -> 0 | C35: =C$27*(SIN($B$25*PI()/180))^3*(LOG($A35)+C$28)^3 -> 0 | D35: =D$27*(SIN($B$25*PI()/180))^3*(LOG($A35)+D$28)^3 -> 0 | E35: =E$27*(SIN($B$25*PI()/180))^3*(LOG($A35)+E$28)^3 -> 0 | F35: =F$27*(SIN($B$25*PI()/180))^3*(LOG($A35)+F$28)^3 -> 0 | G35: =G$27*(SIN($B$25*PI()/180))^3*(LOG($A35)+G$28)^3 -> 0 | H35: =H$27*(SIN($B$25*PI()/180))^3*(LOG($A35)+H$28)^3 -> 0 | I35: =I$27*(SIN($B$25*PI()/180))^3*(LOG($A35)+I$28)^3 -> 0 | ... AA35: =AA$27*(SIN($B$25*PI()/180))^3*(LOG($A35)+AA$28)^3 -> 0
A36: 160 | B36: =B$27*(SIN($B$25*PI()/180))^3*(LOG($A36)+B$28)^3 -> 0 | C36: =C$27*(SIN($B$25*PI()/180))^3*(LOG($A36)+C$28)^3 -> 0 | D36: =D$27*(SIN($B$25*PI()/180))^3*(LOG($A36)+D$28)^3 -> 0 | E36: =E$27*(SIN($B$25*PI()/180))^3*(LOG($A36)+E$28)^3 -> 0 | F36: =F$27*(SIN($B$25*PI()/180))^3*(LOG($A36)+F$28)^3 -> 0 | G36: =G$27*(SIN($B$25*PI()/180))^3*(LOG($A36)+G$28)^3 -> 0 | H36: =H$27*(SIN($B$25*PI()/180))^3*(LOG($A36)+H$28)^3 -> 0 | I36: =I$27*(SIN($B$25*PI()/180))^3*(LOG($A36)+I$28)^3 -> 0 | ... AA36: =AA$27*(SIN($B$25*PI()/180))^3*(LOG($A36)+AA$28)^3 -> 0
A37: 200 | B37: =B$27*(SIN($B$25*PI()/180))^3*(LOG($A37)+B$28)^3 -> 0 | C37: =C$27*(SIN($B$25*PI()/180))^3*(LOG($A37)+C$28)^3 -> 0 | D37: =D$27*(SIN($B$25*PI()/180))^3*(LOG($A37)+D$28)^3 -> 0 | E37: =E$27*(SIN($B$25*PI()/180))^3*(LOG($A37)+E$28)^3 -> 0 | F37: =F$27*(SIN($B$25*PI()/180))^3*(LOG($A37)+F$28)^3 -> 0 | G37: =G$27*(SIN($B$25*PI()/180))^3*(LOG($A37)+G$28)^3 -> 0 | H37: =H$27*(SIN($B$25*PI()/180))^3*(LOG($A37)+H$28)^3 -> 0 | I37: =I$27*(SIN($B$25*PI()/180))^3*(LOG($A37)+I$28)^3 -> 0 | ... AA37: =AA$27*(SIN($B$25*PI()/180))^3*(LOG($A37)+AA$28)^3 -> 0
A38: 250 | B38: =B$27*(SIN($B$25*PI()/180))^3*(LOG($A38)+B$28)^3 -> 0 | C38: =C$27*(SIN($B$25*PI()/180))^3*(LOG($A38)+C$28)^3 -> 0 | D38: =D$27*(SIN($B$25*PI()/180))^3*(LOG($A38)+D$28)^3 -> 0 | E38: =E$27*(SIN($B$25*PI()/180))^3*(LOG($A38)+E$28)^3 -> 0 | F38: =F$27*(SIN($B$25*PI()/180))^3*(LOG($A38)+F$28)^3 -> 0 | G38: =G$27*(SIN($B$25*PI()/180))^3*(LOG($A38)+G$28)^3 -> 0 | H38: =H$27*(SIN($B$25*PI()/180))^3*(LOG($A38)+H$28)^3 -> 0 | I38: =I$27*(SIN($B$25*PI()/180))^3*(LOG($A38)+I$28)^3 -> 0 | ... AA38: =AA$27*(SIN($B$25*PI()/180))^3*(LOG($A38)+AA$28)^3 -> 0
A39: 315 | B39: =B$27*(SIN($B$25*PI()/180))^3*(LOG($A39)+B$28)^3 -> 0 | C39: =C$27*(SIN($B$25*PI()/180))^3*(LOG($A39)+C$28)^3 -> 0 | D39: =D$27*(SIN($B$25*PI()/180))^3*(LOG($A39)+D$28)^3 -> 0 | E39: =E$27*(SIN($B$25*PI()/180))^3*(LOG($A39)+E$28)^3 -> 0 | F39: =F$27*(SIN($B$25*PI()/180))^3*(LOG($A39)+F$28)^3 -> 0 | G39: =G$27*(SIN($B$25*PI()/180))^3*(LOG($A39)+G$28)^3 -> 0 | H39: =H$27*(SIN($B$25*PI()/180))^3*(LOG($A39)+H$28)^3 -> 0 | I39: =I$27*(SIN($B$25*PI()/180))^3*(LOG($A39)+I$28)^3 -> 0 | ... AA39: =AA$27*(SIN($B$25*PI()/180))^3*(LOG($A39)+AA$28)^3 -> 0
A40: 400 | B40: =B$27*(SIN($B$25*PI()/180))^3*(LOG($A40)+B$28)^3 -> 0 | C40: =C$27*(SIN($B$25*PI()/180))^3*(LOG($A40)+C$28)^3 -> 0 | D40: =D$27*(SIN($B$25*PI()/180))^3*(LOG($A40)+D$28)^3 -> 0 | E40: =E$27*(SIN($B$25*PI()/180))^3*(LOG($A40)+E$28)^3 -> 0 | F40: =F$27*(SIN($B$25*PI()/180))^3*(LOG($A40)+F$28)^3 -> 0 | G40: =G$27*(SIN($B$25*PI()/180))^3*(LOG($A40)+G$28)^3 -> 0 | H40: =H$27*(SIN($B$25*PI()/180))^3*(LOG($A40)+H$28)^3 -> 0 | I40: =I$27*(SIN($B$25*PI()/180))^3*(LOG($A40)+I$28)^3 -> 0 | ... AA40: =AA$27*(SIN($B$25*PI()/180))^3*(LOG($A40)+AA$28)^3 -> 0
A41: 500 | B41: =B$27*(SIN($B$25*PI()/180))^3*(LOG($A41)+B$28)^3 -> 0 | C41: =C$27*(SIN($B$25*PI()/180))^3*(LOG($A41)+C$28)^3 -> 0 | D41: =D$27*(SIN($B$25*PI()/180))^3*(LOG($A41)+D$28)^3 -> 0 | E41: =E$27*(SIN($B$25*PI()/180))^3*(LOG($A41)+E$28)^3 -> 0 | F41: =F$27*(SIN($B$25*PI()/180))^3*(LOG($A41)+F$28)^3 -> 0 | G41: =G$27*(SIN($B$25*PI()/180))^3*(LOG($A41)+G$28)^3 -> 0 | H41: =H$27*(SIN($B$25*PI()/180))^3*(LOG($A41)+H$28)^3 -> 0 | I41: =I$27*(SIN($B$25*PI()/180))^3*(LOG($A41)+I$28)^3 -> 0 | ... AA41: =AA$27*(SIN($B$25*PI()/180))^3*(LOG($A41)+AA$28)^3 -> 0
A42: 630 | B42: =B$27*(SIN($B$25*PI()/180))^3*(LOG($A42)+B$28)^3 -> 0 | C42: =C$27*(SIN($B$25*PI()/180))^3*(LOG($A42)+C$28)^3 -> 0 | D42: =D$27*(SIN($B$25*PI()/180))^3*(LOG($A42)+D$28)^3 -> 0 | E42: =E$27*(SIN($B$25*PI()/180))^3*(LOG($A42)+E$28)^3 -> 0 | F42: =F$27*(SIN($B$25*PI()/180))^3*(LOG($A42)+F$28)^3 -> 0 | G42: =G$27*(SIN($B$25*PI()/180))^3*(LOG($A42)+G$28)^3 -> 0 | H42: =H$27*(SIN($B$25*PI()/180))^3*(LOG($A42)+H$28)^3 -> 0 | I42: =I$27*(SIN($B$25*PI()/180))^3*(LOG($A42)+I$28)^3 -> 0 | ... AA42: =AA$27*(SIN($B$25*PI()/180))^3*(LOG($A42)+AA$28)^3 -> 0
... A54: 10000 | B54: =B$27*(SIN($B$25*PI()/180))^3*(LOG($A54)+B$28)^3 -> 0 | C54: =C$27*(SIN($B$25*PI()/180))^3*(LOG($A54)+C$28)^3 -> 0 | D54: =D$27*(SIN($B$25*PI()/180))^3*(LOG($A54)+D$28)^3 -> 0 | E54: =E$27*(SIN($B$25*PI()/180))^3*(LOG($A54)+E$28)^3 -> 0 | F54: =F$27*(SIN($B$25*PI()/180))^3*(LOG($A54)+F$28)^3 -> 0 | G54: =G$27*(SIN($B$25*PI()/180))^3*(LOG($A54)+G$28)^3 -> 0 | H54: =H$27*(SIN($B$25*PI()/180))^3*(LOG($A54)+H$28)^3 -> 0 | I54: =I$27*(SIN($B$25*PI()/180))^3*(LOG($A54)+I$28)^3 -> 0 | ... AA54: =AA$27*(SIN($B$25*PI()/180))^3*(LOG($A54)+AA$28)^3 -> 0
A58: Totalgeräusch Schallleistung von einem Fahrzeug für einen bestimmten Elevationswinkel
A60: Lw(c,i) | B60: cat 1 | C60: cat 2 | D60: cat 3 | E60: cat 4 | F60: cat 5 | G60: cat 6 | H60: cat 7 | I60: cat 8 | J60: cat 9 | K60: cat 10
A61: 50 | B61: =10*LOG(10^(Antriebsgeräusch!B97/10)+10^(Rollgeräusch!B132/10))+B31 -> 99.724956 | C61: =10*LOG(10^(Antriebsgeräusch!C97/10)+10^(Rollgeräusch!C132/10))+C31 -> 98.561453 | D61: =10*LOG(10^(Antriebsgeräusch!D97/10)+10^(Rollgeräusch!D132/10))+D31 -> 91.40933 | E61: =10*LOG(10^(Antriebsgeräusch!E97/10)+10^(Rollgeräusch!E132/10))+E31 -> 92.813913 | F61: =10*LOG(10^(Antriebsgeräusch!F97/10)+10^(Rollgeräusch!F132/10))+F31 -> 95.882979 | G61: =10*LOG(10^(Antriebsgeräusch!G97/10)+10^(Rollgeräusch!G132/10))+G31 -> 94.428747 | H61: =10*LOG(10^(Antriebsgeräusch!H97/10)+10^(Rollgeräusch!H132/10))+H31 -> 94.983781 | I61: =10*LOG(10^(Antriebsgeräusch!I97/10)+10^(Rollgeräusch!I132/10))+I31 -> 100.35657 | ... AA61: =10*LOG(10^(Antriebsgeräusch!AA97/10)+10^(Rollgeräusch!AA132/10))+AA31 -> 4.0028947
A62: 63 | B62: =10*LOG(10^(Antriebsgeräusch!B98/10)+10^(Rollgeräusch!B133/10))+B32 -> 99.413026 | C62: =10*LOG(10^(Antriebsgeräusch!C98/10)+10^(Rollgeräusch!C133/10))+C32 -> 99.867742 | D62: =10*LOG(10^(Antriebsgeräusch!D98/10)+10^(Rollgeräusch!D133/10))+D32 -> 89.803741 | E62: =10*LOG(10^(Antriebsgeräusch!E98/10)+10^(Rollgeräusch!E133/10))+E32 -> 94.83394 | F62: =10*LOG(10^(Antriebsgeräusch!F98/10)+10^(Rollgeräusch!F133/10))+F32 -> 96.976873 | G62: =10*LOG(10^(Antriebsgeräusch!G98/10)+10^(Rollgeräusch!G133/10))+G32 -> 96.467772 | H62: =10*LOG(10^(Antriebsgeräusch!H98/10)+10^(Rollgeräusch!H133/10))+H32 -> 100.67935 | I62: =10*LOG(10^(Antriebsgeräusch!I98/10)+10^(Rollgeräusch!I133/10))+I32 -> 101.90516 | ... AA62: =10*LOG(10^(Antriebsgeräusch!AA98/10)+10^(Rollgeräusch!AA133/10))+AA32 -> 4.0028947
A63: 80 | B63: =10*LOG(10^(Antriebsgeräusch!B99/10)+10^(Rollgeräusch!B134/10))+B33 -> 97.818162 | C63: =10*LOG(10^(Antriebsgeräusch!C99/10)+10^(Rollgeräusch!C134/10))+C33 -> 100.36207 | D63: =10*LOG(10^(Antriebsgeräusch!D99/10)+10^(Rollgeräusch!D134/10))+D33 -> 88.979724 | E63: =10*LOG(10^(Antriebsgeräusch!E99/10)+10^(Rollgeräusch!E134/10))+E33 -> 92.550253 | F63: =10*LOG(10^(Antriebsgeräusch!F99/10)+10^(Rollgeräusch!F134/10))+F33 -> 92.43818 | G63: =10*LOG(10^(Antriebsgeräusch!G99/10)+10^(Rollgeräusch!G134/10))+G33 -> 95.403938 | H63: =10*LOG(10^(Antriebsgeräusch!H99/10)+10^(Rollgeräusch!H134/10))+H33 -> 98.542911 | I63: =10*LOG(10^(Antriebsgeräusch!I99/10)+10^(Rollgeräusch!I134/10))+I33 -> 99.447716 | ... AA63: =10*LOG(10^(Antriebsgeräusch!AA99/10)+10^(Rollgeräusch!AA134/10))+AA33 -> 4.0028947
A64: 100 | B64: =10*LOG(10^(Antriebsgeräusch!B100/10)+10^(Rollgeräusch!B135/10))+B34 -> 95.385033 | C64: =10*LOG(10^(Antriebsgeräusch!C100/10)+10^(Rollgeräusch!C135/10))+C34 -> 100.27833 | D64: =10*LOG(10^(Antriebsgeräusch!D100/10)+10^(Rollgeräusch!D135/10))+D34 -> 85.07476 | E64: =10*LOG(10^(Antriebsgeräusch!E100/10)+10^(Rollgeräusch!E135/10))+E34 -> 89.53346 | F64: =10*LOG(10^(Antriebsgeräusch!F100/10)+10^(Rollgeräusch!F135/10))+F34 -> 88.714246 | G64: =10*LOG(10^(Antriebsgeräusch!G100/10)+10^(Rollgeräusch!G135/10))+G34 -> 92.93608 | H64: =10*LOG(10^(Antriebsgeräusch!H100/10)+10^(Rollgeräusch!H135/10))+H34 -> 94.234602 | I64: =10*LOG(10^(Antriebsgeräusch!I100/10)+10^(Rollgeräusch!I135/10))+I34 -> 96.717246 | ... AA64: =10*LOG(10^(Antriebsgeräusch!AA100/10)+10^(Rollgeräusch!AA135/10))+AA34 -> 4.0028947
A65: 125 | B65: =10*LOG(10^(Antriebsgeräusch!B101/10)+10^(Rollgeräusch!B136/10))+B35 -> 98.36378 | C65: =10*LOG(10^(Antriebsgeräusch!C101/10)+10^(Rollgeräusch!C136/10))+C35 -> 101.83695 | D65: =10*LOG(10^(Antriebsgeräusch!D101/10)+10^(Rollgeräusch!D136/10))+D35 -> 82.447556 | E65: =10*LOG(10^(Antriebsgeräusch!E101/10)+10^(Rollgeräusch!E136/10))+E35 -> 87.855027 | F65: =10*LOG(10^(Antriebsgeräusch!F101/10)+10^(Rollgeräusch!F136/10))+F35 -> 88.941556 | G65: =10*LOG(10^(Antriebsgeräusch!G101/10)+10^(Rollgeräusch!G136/10))+G35 -> 91.948265 | H65: =10*LOG(10^(Antriebsgeräusch!H101/10)+10^(Rollgeräusch!H136/10))+H35 -> 94.395671 | I65: =10*LOG(10^(Antriebsgeräusch!I101/10)+10^(Rollgeräusch!I136/10))+I35 -> 96.207656 | ... AA65: =10*LOG(10^(Antriebsgeräusch!AA101/10)+10^(Rollgeräusch!AA136/10))+AA35 -> 4.0028947
A66: 160 | B66: =10*LOG(10^(Antriebsgeräusch!B102/10)+10^(Rollgeräusch!B137/10))+B36 -> 93.194881 | C66: =10*LOG(10^(Antriebsgeräusch!C102/10)+10^(Rollgeräusch!C137/10))+C36 -> 96.210492 | D66: =10*LOG(10^(Antriebsgeräusch!D102/10)+10^(Rollgeräusch!D137/10))+D36 -> 82.12362 | E66: =10*LOG(10^(Antriebsgeräusch!E102/10)+10^(Rollgeräusch!E137/10))+E36 -> 86.572952 | F66: =10*LOG(10^(Antriebsgeräusch!F102/10)+10^(Rollgeräusch!F137/10))+F36 -> 89.063776 | G66: =10*LOG(10^(Antriebsgeräusch!G102/10)+10^(Rollgeräusch!G137/10))+G36 -> 91.155811 | H66: =10*LOG(10^(Antriebsgeräusch!H102/10)+10^(Rollgeräusch!H137/10))+H36 -> 93.759304 | I66: =10*LOG(10^(Antriebsgeräusch!I102/10)+10^(Rollgeräusch!I137/10))+I36 -> 95.378264 | ... AA66: =10*LOG(10^(Antriebsgeräusch!AA102/10)+10^(Rollgeräusch!AA137/10))+AA36 -> 4.0028947
A67: 200 | B67: =10*LOG(10^(Antriebsgeräusch!B103/10)+10^(Rollgeräusch!B138/10))+B37 -> 97.236616 | C67: =10*LOG(10^(Antriebsgeräusch!C103/10)+10^(Rollgeräusch!C138/10))+C37 -> 91.661196 | D67: =10*LOG(10^(Antriebsgeräusch!D103/10)+10^(Rollgeräusch!D138/10))+D37 -> 82.041173 | E67: =10*LOG(10^(Antriebsgeräusch!E103/10)+10^(Rollgeräusch!E138/10))+E37 -> 86.819082 | F67: =10*LOG(10^(Antriebsgeräusch!F103/10)+10^(Rollgeräusch!F138/10))+F37 -> 88.467358 | G67: =10*LOG(10^(Antriebsgeräusch!G103/10)+10^(Rollgeräusch!G138/10))+G37 -> 90.358834 | H67: =10*LOG(10^(Antriebsgeräusch!H103/10)+10^(Rollgeräusch!H138/10))+H37 -> 93.65758 | I67: =10*LOG(10^(Antriebsgeräusch!I103/10)+10^(Rollgeräusch!I138/10))+I37 -> 93.543461 | ... AA67: =10*LOG(10^(Antriebsgeräusch!AA103/10)+10^(Rollgeräusch!AA138/10))+AA37 -> 4.0028947
A68: 250 | B68: =10*LOG(10^(Antriebsgeräusch!B104/10)+10^(Rollgeräusch!B139/10))+B38 -> 95.710928 | C68: =10*LOG(10^(Antriebsgeräusch!C104/10)+10^(Rollgeräusch!C139/10))+C38 -> 86.306228 | D68: =10*LOG(10^(Antriebsgeräusch!D104/10)+10^(Rollgeräusch!D139/10))+D38 -> 83.628617 | E68: =10*LOG(10^(Antriebsgeräusch!E104/10)+10^(Rollgeräusch!E139/10))+E38 -> 88.796805 | F68: =10*LOG(10^(Antriebsgeräusch!F104/10)+10^(Rollgeräusch!F139/10))+F38 -> 88.609231 | G68: =10*LOG(10^(Antriebsgeräusch!G104/10)+10^(Rollgeräusch!G139/10))+G38 -> 90.382967 | H68: =10*LOG(10^(Antriebsgeräusch!H104/10)+10^(Rollgeräusch!H139/10))+H38 -> 94.680875 | I68: =10*LOG(10^(Antriebsgeräusch!I104/10)+10^(Rollgeräusch!I139/10))+I38 -> 94.581649 | ... AA68: =10*LOG(10^(Antriebsgeräusch!AA104/10)+10^(Rollgeräusch!AA139/10))+AA38 -> 4.0028947
A69: 315 | B69: =10*LOG(10^(Antriebsgeräusch!B105/10)+10^(Rollgeräusch!B140/10))+B39 -> 94.134223 | C69: =10*LOG(10^(Antriebsgeräusch!C105/10)+10^(Rollgeräusch!C140/10))+C39 -> 82.802994 | D69: =10*LOG(10^(Antriebsgeräusch!D105/10)+10^(Rollgeräusch!D140/10))+D39 -> 83.438143 | E69: =10*LOG(10^(Antriebsgeräusch!E105/10)+10^(Rollgeräusch!E140/10))+E39 -> 88.550584 | F69: =10*LOG(10^(Antriebsgeräusch!F105/10)+10^(Rollgeräusch!F140/10))+F39 -> 87.548921 | G69: =10*LOG(10^(Antriebsgeräusch!G105/10)+10^(Rollgeräusch!G140/10))+G39 -> 91.259529 | H69: =10*LOG(10^(Antriebsgeräusch!H105/10)+10^(Rollgeräusch!H140/10))+H39 -> 99.499506 | I69: =10*LOG(10^(Antriebsgeräusch!I105/10)+10^(Rollgeräusch!I140/10))+I39 -> 96.567804 | ... AA69: =10*LOG(10^(Antriebsgeräusch!AA105/10)+10^(Rollgeräusch!AA140/10))+AA39 -> 4.0028947
A70: 400 | B70: =10*LOG(10^(Antriebsgeräusch!B106/10)+10^(Rollgeräusch!B141/10))+B40 -> 95.666921 | C70: =10*LOG(10^(Antriebsgeräusch!C106/10)+10^(Rollgeräusch!C141/10))+C40 -> 82.947911 | D70: =10*LOG(10^(Antriebsgeräusch!D106/10)+10^(Rollgeräusch!D141/10))+D40 -> 82.852498 | E70: =10*LOG(10^(Antriebsgeräusch!E106/10)+10^(Rollgeräusch!E141/10))+E40 -> 88.219198 | F70: =10*LOG(10^(Antriebsgeräusch!F106/10)+10^(Rollgeräusch!F141/10))+F40 -> 87.260744 | G70: =10*LOG(10^(Antriebsgeräusch!G106/10)+10^(Rollgeräusch!G141/10))+G40 -> 92.45781 | H70: =10*LOG(10^(Antriebsgeräusch!H106/10)+10^(Rollgeräusch!H141/10))+H40 -> 98.826391 | I70: =10*LOG(10^(Antriebsgeräusch!I106/10)+10^(Rollgeräusch!I141/10))+I40 -> 95.426421 | ... AA70: =10*LOG(10^(Antriebsgeräusch!AA106/10)+10^(Rollgeräusch!AA141/10))+AA40 -> 3.6516153
A71: 500 | B71: =10*LOG(10^(Antriebsgeräusch!B107/10)+10^(Rollgeräusch!B142/10))+B41 -> 93.504816 | C71: =10*LOG(10^(Antriebsgeräusch!C107/10)+10^(Rollgeräusch!C142/10))+C41 -> 83.070408 | D71: =10*LOG(10^(Antriebsgeräusch!D107/10)+10^(Rollgeräusch!D142/10))+D41 -> 82.211883 | E71: =10*LOG(10^(Antriebsgeräusch!E107/10)+10^(Rollgeräusch!E142/10))+E41 -> 87.612242 | F71: =10*LOG(10^(Antriebsgeräusch!F107/10)+10^(Rollgeräusch!F142/10))+F41 -> 87.390957 | G71: =10*LOG(10^(Antriebsgeräusch!G107/10)+10^(Rollgeräusch!G142/10))+G41 -> 92.796714 | H71: =10*LOG(10^(Antriebsgeräusch!H107/10)+10^(Rollgeräusch!H142/10))+H41 -> 98.572615 | I71: =10*LOG(10^(Antriebsgeräusch!I107/10)+10^(Rollgeräusch!I142/10))+I41 -> 96.574439 | ... AA71: =10*LOG(10^(Antriebsgeräusch!AA107/10)+10^(Rollgeräusch!AA142/10))+AA41 -> 3.0103
A72: 630 | B72: =10*LOG(10^(Antriebsgeräusch!B108/10)+10^(Rollgeräusch!B143/10))+B42 -> 95.564987 | C72: =10*LOG(10^(Antriebsgeräusch!C108/10)+10^(Rollgeräusch!C143/10))+C42 -> 84.321031 | D72: =10*LOG(10^(Antriebsgeräusch!D108/10)+10^(Rollgeräusch!D143/10))+D42 -> 84.79762 | E72: =10*LOG(10^(Antriebsgeräusch!E108/10)+10^(Rollgeräusch!E143/10))+E42 -> 92.833812 | F72: =10*LOG(10^(Antriebsgeräusch!F108/10)+10^(Rollgeräusch!F143/10))+F42 -> 91.425518 | G72: =10*LOG(10^(Antriebsgeräusch!G108/10)+10^(Rollgeräusch!G143/10))+G42 -> 96.44189 | H72: =10*LOG(10^(Antriebsgeräusch!H108/10)+10^(Rollgeräusch!H143/10))+H42 -> 103.50871 | I72: =10*LOG(10^(Antriebsgeräusch!I108/10)+10^(Rollgeräusch!I143/10))+I42 -> 98.039989 | ... AA72: =10*LOG(10^(Antriebsgeräusch!AA108/10)+10^(Rollgeräusch!AA143/10))+AA42 -> 4.7643486
... A84: 10000 | B84: =10*LOG(10^(Antriebsgeräusch!B120/10)+10^(Rollgeräusch!B155/10))+B54 -> 74.277429 | C84: =10*LOG(10^(Antriebsgeräusch!C120/10)+10^(Rollgeräusch!C155/10))+C54 -> 75.308365 | D84: =10*LOG(10^(Antriebsgeräusch!D120/10)+10^(Rollgeräusch!D155/10))+D54 -> 62.373997 | E84: =10*LOG(10^(Antriebsgeräusch!E120/10)+10^(Rollgeräusch!E155/10))+E54 -> 72.240053 | F84: =10*LOG(10^(Antriebsgeräusch!F120/10)+10^(Rollgeräusch!F155/10))+F54 -> 70.736566 | G84: =10*LOG(10^(Antriebsgeräusch!G120/10)+10^(Rollgeräusch!G155/10))+G54 -> 77.628537 | H84: =10*LOG(10^(Antriebsgeräusch!H120/10)+10^(Rollgeräusch!H155/10))+H54 -> 78.644972 | I84: =10*LOG(10^(Antriebsgeräusch!I120/10)+10^(Rollgeräusch!I155/10))+I54 -> 76.465713 | ... AA84: =10*LOG(10^(Antriebsgeräusch!AA120/10)+10^(Rollgeräusch!AA155/10))+AA54 -> 3.8835697

Sheet Lw Line
C19: vorgegeben
C20: eingebbar | T20: Hess | U20: Hess | Z20: Tram | AA20: Tram | AB20: Tram
C21: berechnet | N21: Man A40 | O21: Neoplan | P21: Merce- | Q21: MAN | R21: Volvo | S21: Swiss | T21: ligh Tram | U21: ligh Tram | V21: Batterie- | W21: Batterie- | X21: Tram | Y21: Bus
C22: Berechnung mit Rechenbeispielen geprüft | M22: Citaro | N22: Lions | O22: Centro- | P22: des | Q22: A 35 | R22: 7900H | S22: Trolley | T22: 3 Longo | U22: 3 Longo 2 | V22: bus | W22: bus | X22: Zürich | Y22: Caetano
M23: O 350 | N23: City | O23: liner | P23: O 530 | Q23: Midibus | S23: 3 | T23: Doppel- | U23: Doppel- | V23: SOR EBN 8 | W23: Volvo | X23: Cobra
M24: Gelenk- | N24: Gelenk- | O24: Gelenk- | P24: Stand- | Q24: Stand- | S24: Gelenk- | T24: Gelenk- | U24: Gelenk- | W24: 7900 EH
A25: Verkehrsmenge Beispiel A | M25: bus | N25: bus | O25: bus | P25: ardbus | Q25: ardbus | R25: Hybrid | S25: trolley | T25: trolley | U25: trolley
C26: cat 1 | D26: cat 2 | E26: cat 3 | F26: cat 4 | G26: cat 5 | H26: cat 6 | I26: cat 7 | J26: cat 8 | K26: cat 9 | L26: cat 10 | M26: Diesel | N26: Diesel | O26: Diesel | P26: Diesel | Q26: Diesel | S26: Elektro | T26: Elektro | U26: Elektro | V26: Elektro | W26: Elektro | X26: Tram
A27: N( c) | B27: [Fz/h] | C27: =Leq!C25 -> 0 | D27: =Leq!D25 -> 0 | E27: =Leq!E25 -> 287.33524 | F27: =Leq!F25 -> 0 | G27: =Leq!G25 -> 0 | H27: =Leq!H25 -> 0 | I27: =Leq!I25 -> 0 | J27: =Leq!J25 -> 10.789759 | ... AB27: =Leq!AB25 -> 0
A28: v( c) | B28: [km/h] | C28: =Leq!C26 -> 50 | D28: =Leq!D26 -> 30 | E28: =Leq!E26 -> 39 | F28: =Leq!F26 -> 50 | G28: =Leq!G26 -> 50 | H28: =Leq!H26 -> 50 | I28: =Leq!I26 -> 50 | J28: =Leq!J26 -> 39 | ... AB28: =Leq!AB26 -> 50
A29: θ | B29: [°] | C29: =Totalgeräusch!B25 -> 0
A32: Totale Schallleistung pro Meter einer Linienquelle unter Berücksichtigung der Verkehrsmenge
A34: Lw'eq,line(c,i) | C34: cat 1 | D34: cat 2 | E34: cat 3 | F34: cat 4 | G34: cat 5 | H34: cat 6 | I34: cat 7 | J34: cat 8 | K34: cat 9 | L34: cat 10
B35: 50 | C35: =IF(C$27=0,0,Totalgeräusch!B61+10*LOG(C$27/(1000*C$28))) -> 0 | D35: =IF(D$27=0,0,Totalgeräusch!C61+10*LOG(D$27/(1000*D$28))) -> 0 | E35: =IF(E$27=0,0,Totalgeräusch!D61+10*LOG(E$27/(1000*E$28))) -> 70.082573 | F35: =IF(F$27=0,0,Totalgeräusch!E61+10*LOG(F$27/(1000*F$28))) -> 0 | G35: =IF(G$27=0,0,Totalgeräusch!F61+10*LOG(G$27/(1000*G$28))) -> 0 | H35: =IF(H$27=0,0,Totalgeräusch!G61+10*LOG(H$27/(1000*H$28))) -> 0 | I35: =IF(I$27=0,0,Totalgeräusch!H61+10*LOG(I$27/(1000*I$28))) -> 0 | J35: =IF(J$27=0,0,Totalgeräusch!I61+10*LOG(J$27/(1000*J$28))) -> 64.776045 | ... AB35: =IF(AB$27=0,0,Totalgeräusch!AA61+10*LOG(AB$27/(1000*AB$28))) -> 0
B36: 63 | C36: =IF(C$27=0,0,Totalgeräusch!B62+10*LOG(C$27/(1000*C$28))) -> 0 | D36: =IF(D$27=0,0,Totalgeräusch!C62+10*LOG(D$27/(1000*D$28))) -> 0 | E36: =IF(E$27=0,0,Totalgeräusch!D62+10*LOG(E$27/(1000*E$28))) -> 68.476984 | F36: =IF(F$27=0,0,Totalgeräusch!E62+10*LOG(F$27/(1000*F$28))) -> 0 | G36: =IF(G$27=0,0,Totalgeräusch!F62+10*LOG(G$27/(1000*G$28))) -> 0 | H36: =IF(H$27=0,0,Totalgeräusch!G62+10*LOG(H$27/(1000*H$28))) -> 0 | I36: =IF(I$27=0,0,Totalgeräusch!H62+10*LOG(I$27/(1000*I$28))) -> 0 | J36: =IF(J$27=0,0,Totalgeräusch!I62+10*LOG(J$27/(1000*J$28))) -> 66.324627 | ... AB36: =IF(AB$27=0,0,Totalgeräusch!AA62+10*LOG(AB$27/(1000*AB$28))) -> 0
B37: 80 | C37: =IF(C$27=0,0,Totalgeräusch!B63+10*LOG(C$27/(1000*C$28))) -> 0 | D37: =IF(D$27=0,0,Totalgeräusch!C63+10*LOG(D$27/(1000*D$28))) -> 0 | E37: =IF(E$27=0,0,Totalgeräusch!D63+10*LOG(E$27/(1000*E$28))) -> 67.652967 | F37: =IF(F$27=0,0,Totalgeräusch!E63+10*LOG(F$27/(1000*F$28))) -> 0 | G37: =IF(G$27=0,0,Totalgeräusch!F63+10*LOG(G$27/(1000*G$28))) -> 0 | H37: =IF(H$27=0,0,Totalgeräusch!G63+10*LOG(H$27/(1000*H$28))) -> 0 | I37: =IF(I$27=0,0,Totalgeräusch!H63+10*LOG(I$27/(1000*I$28))) -> 0 | J37: =IF(J$27=0,0,Totalgeräusch!I63+10*LOG(J$27/(1000*J$28))) -> 63.867188 | ... AB37: =IF(AB$27=0,0,Totalgeräusch!AA63+10*LOG(AB$27/(1000*AB$28))) -> 0
B38: 100 | C38: =IF(C$27=0,0,Totalgeräusch!B64+10*LOG(C$27/(1000*C$28))) -> 0 | D38: =IF(D$27=0,0,Totalgeräusch!C64+10*LOG(D$27/(1000*D$28))) -> 0 | E38: =IF(E$27=0,0,Totalgeräusch!D64+10*LOG(E$27/(1000*E$28))) -> 63.748003 | F38: =IF(F$27=0,0,Totalgeräusch!E64+10*LOG(F$27/(1000*F$28))) -> 0 | G38: =IF(G$27=0,0,Totalgeräusch!F64+10*LOG(G$27/(1000*G$28))) -> 0 | H38: =IF(H$27=0,0,Totalgeräusch!G64+10*LOG(H$27/(1000*H$28))) -> 0 | I38: =IF(I$27=0,0,Totalgeräusch!H64+10*LOG(I$27/(1000*I$28))) -> 0 | J38: =IF(J$27=0,0,Totalgeräusch!I64+10*LOG(J$27/(1000*J$28))) -> 61.136717 | ... AB38: =IF(AB$27=0,0,Totalgeräusch!AA64+10*LOG(AB$27/(1000*AB$28))) -> 0
B39: 125 | C39: =IF(C$27=0,0,Totalgeräusch!B65+10*LOG(C$27/(1000*C$28))) -> 0 | D39: =IF(D$27=0,0,Totalgeräusch!C65+10*LOG(D$27/(1000*D$28))) -> 0 | E39: =IF(E$27=0,0,Totalgeräusch!D65+10*LOG(E$27/(1000*E$28))) -> 61.120798 | F39: =IF(F$27=0,0,Totalgeräusch!E65+10*LOG(F$27/(1000*F$28))) -> 0 | G39: =IF(G$27=0,0,Totalgeräusch!F65+10*LOG(G$27/(1000*G$28))) -> 0 | H39: =IF(H$27=0,0,Totalgeräusch!G65+10*LOG(H$27/(1000*H$28))) -> 0 | I39: =IF(I$27=0,0,Totalgeräusch!H65+10*LOG(I$27/(1000*I$28))) -> 0 | J39: =IF(J$27=0,0,Totalgeräusch!I65+10*LOG(J$27/(1000*J$28))) -> 60.627127 | ... AB39: =IF(AB$27=0,0,Totalgeräusch!AA65+10*LOG(AB$27/(1000*AB$28))) -> 0
B40: 160 | C40: =IF(C$27=0,0,Totalgeräusch!B66+10*LOG(C$27/(1000*C$28))) -> 0 | D40: =IF(D$27=0,0,Totalgeräusch!C66+10*LOG(D$27/(1000*D$28))) -> 0 | E40: =IF(E$27=0,0,Totalgeräusch!D66+10*LOG(E$27/(1000*E$28))) -> 60.796863 | F40: =IF(F$27=0,0,Totalgeräusch!E66+10*LOG(F$27/(1000*F$28))) -> 0 | G40: =IF(G$27=0,0,Totalgeräusch!F66+10*LOG(G$27/(1000*G$28))) -> 0 | H40: =IF(H$27=0,0,Totalgeräusch!G66+10*LOG(H$27/(1000*H$28))) -> 0 | I40: =IF(I$27=0,0,Totalgeräusch!H66+10*LOG(I$27/(1000*I$28))) -> 0 | J40: =IF(J$27=0,0,Totalgeräusch!I66+10*LOG(J$27/(1000*J$28))) -> 59.797736 | ... AB40: =IF(AB$27=0,0,Totalgeräusch!AA66+10*LOG(AB$27/(1000*AB$28))) -> 0
B41: 200 | C41: =IF(C$27=0,0,Totalgeräusch!B67+10*LOG(C$27/(1000*C$28))) -> 0 | D41: =IF(D$27=0,0,Totalgeräusch!C67+10*LOG(D$27/(1000*D$28))) -> 0 | E41: =IF(E$27=0,0,Totalgeräusch!D67+10*LOG(E$27/(1000*E$28))) -> 60.714416 | F41: =IF(F$27=0,0,Totalgeräusch!E67+10*LOG(F$27/(1000*F$28))) -> 0 | G41: =IF(G$27=0,0,Totalgeräusch!F67+10*LOG(G$27/(1000*G$28))) -> 0 | H41: =IF(H$27=0,0,Totalgeräusch!G67+10*LOG(H$27/(1000*H$28))) -> 0 | I41: =IF(I$27=0,0,Totalgeräusch!H67+10*LOG(I$27/(1000*I$28))) -> 0 | J41: =IF(J$27=0,0,Totalgeräusch!I67+10*LOG(J$27/(1000*J$28))) -> 57.962932 | ... AB41: =IF(AB$27=0,0,Totalgeräusch!AA67+10*LOG(AB$27/(1000*AB$28))) -> 0
B42: 250 | C42: =IF(C$27=0,0,Totalgeräusch!B68+10*LOG(C$27/(1000*C$28))) -> 0 | D42: =IF(D$27=0,0,Totalgeräusch!C68+10*LOG(D$27/(1000*D$28))) -> 0 | E42: =IF(E$27=0,0,Totalgeräusch!D68+10*LOG(E$27/(1000*E$28))) -> 62.30186 | F42: =IF(F$27=0,0,Totalgeräusch!E68+10*LOG(F$27/(1000*F$28))) -> 0 | G42: =IF(G$27=0,0,Totalgeräusch!F68+10*LOG(G$27/(1000*G$28))) -> 0 | H42: =IF(H$27=0,0,Totalgeräusch!G68+10*LOG(H$27/(1000*H$28))) -> 0 | I42: =IF(I$27=0,0,Totalgeräusch!H68+10*LOG(I$27/(1000*I$28))) -> 0 | J42: =IF(J$27=0,0,Totalgeräusch!I68+10*LOG(J$27/(1000*J$28))) -> 59.00112 | ... AB42: =IF(AB$27=0,0,Totalgeräusch!AA68+10*LOG(AB$27/(1000*AB$28))) -> 0
B43: 315 | C43: =IF(C$27=0,0,Totalgeräusch!B69+10*LOG(C$27/(1000*C$28))) -> 0 | D43: =IF(D$27=0,0,Totalgeräusch!C69+10*LOG(D$27/(1000*D$28))) -> 0 | E43: =IF(E$27=0,0,Totalgeräusch!D69+10*LOG(E$27/(1000*E$28))) -> 62.111386 | F43: =IF(F$27=0,0,Totalgeräusch!E69+10*LOG(F$27/(1000*F$28))) -> 0 | G43: =IF(G$27=0,0,Totalgeräusch!F69+10*LOG(G$27/(1000*G$28))) -> 0 | H43: =IF(H$27=0,0,Totalgeräusch!G69+10*LOG(H$27/(1000*H$28))) -> 0 | I43: =IF(I$27=0,0,Totalgeräusch!H69+10*LOG(I$27/(1000*I$28))) -> 0 | J43: =IF(J$27=0,0,Totalgeräusch!I69+10*LOG(J$27/(1000*J$28))) -> 60.987275 | ... AB43: =IF(AB$27=0,0,Totalgeräusch!AA69+10*LOG(AB$27/(1000*AB$28))) -> 0
B44: 400 | C44: =IF(C$27=0,0,Totalgeräusch!B70+10*LOG(C$27/(1000*C$28))) -> 0 | D44: =IF(D$27=0,0,Totalgeräusch!C70+10*LOG(D$27/(1000*D$28))) -> 0 | E44: =IF(E$27=0,0,Totalgeräusch!D70+10*LOG(E$27/(1000*E$28))) -> 61.525741 | F44: =IF(F$27=0,0,Totalgeräusch!E70+10*LOG(F$27/(1000*F$28))) -> 0 | G44: =IF(G$27=0,0,Totalgeräusch!F70+10*LOG(G$27/(1000*G$28))) -> 0 | H44: =IF(H$27=0,0,Totalgeräusch!G70+10*LOG(H$27/(1000*H$28))) -> 0 | I44: =IF(I$27=0,0,Totalgeräusch!H70+10*LOG(I$27/(1000*I$28))) -> 0 | J44: =IF(J$27=0,0,Totalgeräusch!I70+10*LOG(J$27/(1000*J$28))) -> 59.845893 | ... AB44: =IF(AB$27=0,0,Totalgeräusch!AA70+10*LOG(AB$27/(1000*AB$28))) -> 0
B45: 500 | C45: =IF(C$27=0,0,Totalgeräusch!B71+10*LOG(C$27/(1000*C$28))) -> 0 | D45: =IF(D$27=0,0,Totalgeräusch!C71+10*LOG(D$27/(1000*D$28))) -> 0 | E45: =IF(E$27=0,0,Totalgeräusch!D71+10*LOG(E$27/(1000*E$28))) -> 60.885126 | F45: =IF(F$27=0,0,Totalgeräusch!E71+10*LOG(F$27/(1000*F$28))) -> 0 | G45: =IF(G$27=0,0,Totalgeräusch!F71+10*LOG(G$27/(1000*G$28))) -> 0 | H45: =IF(H$27=0,0,Totalgeräusch!G71+10*LOG(H$27/(1000*H$28))) -> 0 | I45: =IF(I$27=0,0,Totalgeräusch!H71+10*LOG(I$27/(1000*I$28))) -> 0 | J45: =IF(J$27=0,0,Totalgeräusch!I71+10*LOG(J$27/(1000*J$28))) -> 60.99391 | ... AB45: =IF(AB$27=0,0,Totalgeräusch!AA71+10*LOG(AB$27/(1000*AB$28))) -> 0
B46: 630 | C46: =IF(C$27=0,0,Totalgeräusch!B72+10*LOG(C$27/(1000*C$28))) -> 0 | D46: =IF(D$27=0,0,Totalgeräusch!C72+10*LOG(D$27/(1000*D$28))) -> 0 | E46: =IF(E$27=0,0,Totalgeräusch!D72+10*LOG(E$27/(1000*E$28))) -> 63.470863 | F46: =IF(F$27=0,0,Totalgeräusch!E72+10*LOG(F$27/(1000*F$28))) -> 0 | G46: =IF(G$27=0,0,Totalgeräusch!F72+10*LOG(G$27/(1000*G$28))) -> 0 | H46: =IF(H$27=0,0,Totalgeräusch!G72+10*LOG(H$27/(1000*H$28))) -> 0 | I46: =IF(I$27=0,0,Totalgeräusch!H72+10*LOG(I$27/(1000*I$28))) -> 0 | J46: =IF(J$27=0,0,Totalgeräusch!I72+10*LOG(J$27/(1000*J$28))) -> 62.45946 | ... AB46: =IF(AB$27=0,0,Totalgeräusch!AA72+10*LOG(AB$27/(1000*AB$28))) -> 0
... B58: 10000 | C58: =IF(C$27=0,0,Totalgeräusch!B84+10*LOG(C$27/(1000*C$28))) -> 0 | D58: =IF(D$27=0,0,Totalgeräusch!C84+10*LOG(D$27/(1000*D$28))) -> 0 | E58: =IF(E$27=0,0,Totalgeräusch!D84+10*LOG(E$27/(1000*E$28))) -> 41.04724 | F58: =IF(F$27=0,0,Totalgeräusch!E84+10*LOG(F$27/(1000*F$28))) -> 0 | G58: =IF(G$27=0,0,Totalgeräusch!F84+10*LOG(G$27/(1000*G$28))) -> 0 | H58: =IF(H$27=0,0,Totalgeräusch!G84+10*LOG(H$27/(1000*H$28))) -> 0 | I58: =IF(I$27=0,0,Totalgeräusch!H84+10*LOG(I$27/(1000*I$28))) -> 0 | J58: =IF(J$27=0,0,Totalgeräusch!I84+10*LOG(J$27/(1000*J$28))) -> 40.885184 | ... AB58: =IF(AB$27=0,0,Totalgeräusch!AA84+10*LOG(AB$27/(1000*AB$28))) -> 0
A62: Energetische Summe aller Fahrzeugkategorien pro Meter einer Linienquelle unter Berücksichtigung der Verkehrsmengen
AH63: Oktavpegel
A64: Lw'eq,line(c,i) | B64: cat 1 | C64: cat 2 | D64: cat 3 | E64: cat 4 | F64: cat 5 | G64: cat 6 | H64: cat 7 | I64: cat 8 | J64: cat 9 | K64: cat 10 | AC64: Summe | AD64: Lweq,line | AE64: A-Filter | AF64: dBA | AG64: Energie | AH64: dBA | AI64: Energie
